BEGIN:VCALENDAR
VERSION:2.0
PRODID:-//六郷まちづくり協議会 - ECPv6.0.12//NONSGML v1.0//EN
CALSCALE:GREGORIAN
METHOD:PUBLISH
X-WR-CALNAME:六郷まちづくり協議会
X-ORIGINAL-URL:https://yuzuro.org
X-WR-CALDESC:六郷まちづくり協議会 のイベント
REFRESH-INTERVAL;VALUE=DURATION:PT1H
X-Robots-Tag:noindex
X-PUBLISHED-TTL:PT1H
BEGIN:VTIMEZONE
TZID:Asia/Tokyo
BEGIN:STANDARD
TZOFFSETFROM:+0900
TZOFFSETTO:+0900
TZNAME:JST
DTSTART:20200101T000000
END:STANDARD
END:VTIMEZONE
BEGIN:VEVENT
DTSTART;TZID=Asia/Tokyo:20211204T083000
DTEND;TZID=Asia/Tokyo:20211204T093000
DTSTAMP:20260421T232149
CREATED:20211214T172709Z
LAST-MODIFIED:20211214T172709Z
UID:16590-1638606600-1638610200@yuzuro.org
SUMMARY:ふれあい朝市青空サロンin青葉台
DESCRIPTION:
URL:https://yuzuro.org/event/%e3%81%b5%e3%82%8c%e3%81%82%e3%81%84%e6%9c%9d%e5%b8%82%e9%9d%92%e7%a9%ba%e3%82%b5%e3%83%ad%e3%83%b3in%e9%9d%92%e8%91%89%e5%8f%b0-29/
LOCATION:青葉台コミュニティセンター　三角公園\, 青葉台1丁目12-2\, 菊川市\, 439-0012\, 日本
GEO:34.7578718;138.0954247
X-APPLE-STRUCTURED-LOCATION;VALUE=URI;X-ADDRESS=青葉台コミュニティセンター　三角公園 青葉台1丁目12-2 菊川市 439-0012 日本;X-APPLE-RADIUS=500;X-TITLE=青葉台1丁目12-2:geo:138.0954247,34.7578718
END:VEVENT
BEGIN:VEVENT
DTSTART;TZID=Asia/Tokyo:20211102T190000
DTEND;TZID=Asia/Tokyo:20211102T210000
DTSTAMP:20260421T232149
CREATED:20211012T112709Z
LAST-MODIFIED:20211012T112709Z
UID:16033-1635879600-1635886800@yuzuro.org
SUMMARY:六郷まちづくり協議会定例会
DESCRIPTION:
URL:https://yuzuro.org/event/%e5%85%ad%e9%83%b7%e3%81%be%e3%81%a1%e3%81%a5%e3%81%8f%e3%82%8a%e5%8d%94%e8%ad%b0%e4%bc%9a%e5%ae%9a%e4%be%8b%e4%bc%9a/
LOCATION:六郷地区センター\, 菊川市本所\, 菊川市\, 静岡県
GEO:34.7490246;138.0903152
X-APPLE-STRUCTURED-LOCATION;VALUE=URI;X-ADDRESS=六郷地区センター 菊川市本所 菊川市 静岡県;X-APPLE-RADIUS=500;X-TITLE=菊川市本所:geo:138.0903152,34.7490246
END:VEVENT
BEGIN:VEVENT
DTSTART;TZID=Asia/Tokyo:20210918T083000
DTEND;TZID=Asia/Tokyo:20210918T093000
DTSTAMP:20260421T232149
CREATED:20210715T164358Z
LAST-MODIFIED:20210715T164358Z
UID:15726-1631953800-1631957400@yuzuro.org
SUMMARY:ふれあい朝市青空サロンin青葉台
DESCRIPTION:
URL:https://yuzuro.org/event/%e3%81%b5%e3%82%8c%e3%81%82%e3%81%84%e6%9c%9d%e5%b8%82%e9%9d%92%e7%a9%ba%e3%82%b5%e3%83%ad%e3%83%b3in%e9%9d%92%e8%91%89%e5%8f%b0-27/
LOCATION:青葉台コミュニティセンター　三角公園\, 青葉台1丁目12-2\, 菊川市\, 439-0012\, 日本
GEO:34.7578718;138.0954247
X-APPLE-STRUCTURED-LOCATION;VALUE=URI;X-ADDRESS=青葉台コミュニティセンター　三角公園 青葉台1丁目12-2 菊川市 439-0012 日本;X-APPLE-RADIUS=500;X-TITLE=青葉台1丁目12-2:geo:138.0954247,34.7578718
END:VEVENT
BEGIN:VEVENT
DTSTART;TZID=Asia/Tokyo:20210904T083000
DTEND;TZID=Asia/Tokyo:20210904T093000
DTSTAMP:20260421T232149
CREATED:20210715T164118Z
LAST-MODIFIED:20210715T164118Z
UID:15724-1630744200-1630747800@yuzuro.org
SUMMARY:ふれあい朝市青空サロンin青葉台
DESCRIPTION:
URL:https://yuzuro.org/event/%e3%81%b5%e3%82%8c%e3%81%82%e3%81%84%e6%9c%9d%e5%b8%82%e9%9d%92%e7%a9%ba%e3%82%b5%e3%83%ad%e3%83%b3in%e9%9d%92%e8%91%89%e5%8f%b0-26/
LOCATION:青葉台コミュニティセンター　三角公園\, 青葉台1丁目12-2\, 菊川市\, 439-0012\, 日本
GEO:34.7578718;138.0954247
X-APPLE-STRUCTURED-LOCATION;VALUE=URI;X-ADDRESS=青葉台コミュニティセンター　三角公園 青葉台1丁目12-2 菊川市 439-0012 日本;X-APPLE-RADIUS=500;X-TITLE=青葉台1丁目12-2:geo:138.0954247,34.7578718
END:VEVENT
BEGIN:VEVENT
DTSTART;TZID=Asia/Tokyo:20210821T083000
DTEND;TZID=Asia/Tokyo:20210821T093000
DTSTAMP:20260421T232149
CREATED:20210715T163638Z
LAST-MODIFIED:20210715T163638Z
UID:15722-1629534600-1629538200@yuzuro.org
SUMMARY:ふれあい朝市青空サロンin青葉台
DESCRIPTION:
URL:https://yuzuro.org/event/%e3%81%b5%e3%82%8c%e3%81%82%e3%81%84%e6%9c%9d%e5%b8%82%e9%9d%92%e7%a9%ba%e3%82%b5%e3%83%ad%e3%83%b3in%e9%9d%92%e8%91%89%e5%8f%b0-25/
LOCATION:青葉台コミュニティセンター　三角公園\, 青葉台1丁目12-2\, 菊川市\, 439-0012\, 日本
GEO:34.7578718;138.0954247
X-APPLE-STRUCTURED-LOCATION;VALUE=URI;X-ADDRESS=青葉台コミュニティセンター　三角公園 青葉台1丁目12-2 菊川市 439-0012 日本;X-APPLE-RADIUS=500;X-TITLE=青葉台1丁目12-2:geo:138.0954247,34.7578718
END:VEVENT
BEGIN:VEVENT
DTSTART;TZID=Asia/Tokyo:20210807T083000
DTEND;TZID=Asia/Tokyo:20210807T093000
DTSTAMP:20260421T232149
CREATED:20210715T163213Z
LAST-MODIFIED:20210715T163213Z
UID:15720-1628325000-1628328600@yuzuro.org
SUMMARY:ふれあい朝市青空サロンin青葉台
DESCRIPTION:
URL:https://yuzuro.org/event/%e3%81%b5%e3%82%8c%e3%81%82%e3%81%84%e6%9c%9d%e5%b8%82%e9%9d%92%e7%a9%ba%e3%82%b5%e3%83%ad%e3%83%b3in%e9%9d%92%e8%91%89%e5%8f%b0-24/
LOCATION:青葉台コミュニティセンター　三角公園\, 青葉台1丁目12-2\, 菊川市\, 439-0012\, 日本
GEO:34.7578718;138.0954247
X-APPLE-STRUCTURED-LOCATION;VALUE=URI;X-ADDRESS=青葉台コミュニティセンター　三角公園 青葉台1丁目12-2 菊川市 439-0012 日本;X-APPLE-RADIUS=500;X-TITLE=青葉台1丁目12-2:geo:138.0954247,34.7578718
END:VEVENT
BEGIN:VEVENT
DTSTART;TZID=Asia/Tokyo:20210717T083000
DTEND;TZID=Asia/Tokyo:20210717T093000
DTSTAMP:20260421T232149
CREATED:20210715T162535Z
LAST-MODIFIED:20210715T162535Z
UID:15718-1626510600-1626514200@yuzuro.org
SUMMARY:ふれあい朝市青空サロンin青葉台
DESCRIPTION:
URL:https://yuzuro.org/event/%e3%81%b5%e3%82%8c%e3%81%82%e3%81%84%e6%9c%9d%e5%b8%82%e9%9d%92%e7%a9%ba%e3%82%b5%e3%83%ad%e3%83%b3in%e9%9d%92%e8%91%89%e5%8f%b0-14/
LOCATION:青葉台コミュニティセンター　三角公園\, 青葉台1丁目12-2\, 菊川市\, 439-0012\, 日本
GEO:34.7578718;138.0954247
X-APPLE-STRUCTURED-LOCATION;VALUE=URI;X-ADDRESS=青葉台コミュニティセンター　三角公園 青葉台1丁目12-2 菊川市 439-0012 日本;X-APPLE-RADIUS=500;X-TITLE=青葉台1丁目12-2:geo:138.0954247,34.7578718
END:VEVENT
BEGIN:VEVENT
DTSTART;TZID=Asia/Tokyo:20210511T190000
DTEND;TZID=Asia/Tokyo:20210511T210000
DTSTAMP:20260421T232149
CREATED:20210210T004034Z
LAST-MODIFIED:20210210T004034Z
UID:15300-1620759600-1620766800@yuzuro.org
SUMMARY:六郷まちづくり協議会総会
DESCRIPTION:
URL:https://yuzuro.org/event/%e5%85%ad%e9%83%b7%e3%81%be%e3%81%a1%e3%81%a5%e3%81%8f%e3%82%8a%e5%8d%94%e8%ad%b0%e4%bc%9a%e7%b7%8f%e4%bc%9a/
LOCATION:六郷地区センター\, 菊川市本所\, 菊川市\, 静岡県
GEO:34.7490246;138.0903152
X-APPLE-STRUCTURED-LOCATION;VALUE=URI;X-ADDRESS=六郷地区センター 菊川市本所 菊川市 静岡県;X-APPLE-RADIUS=500;X-TITLE=菊川市本所:geo:138.0903152,34.7490246
END:VEVENT
BEGIN:VEVENT
DTSTART;TZID=Asia/Tokyo:20210504T190000
DTEND;TZID=Asia/Tokyo:20210504T210000
DTSTAMP:20260421T232149
CREATED:20210210T020131Z
LAST-MODIFIED:20210210T020131Z
UID:15309-1620154800-1620162000@yuzuro.org
SUMMARY:六郷まちづくり協議会企画幹事会
DESCRIPTION:
URL:https://yuzuro.org/event/%e5%85%ad%e9%83%b7%e3%81%be%e3%81%a1%e3%81%a5%e3%81%8f%e3%82%8a%e5%8d%94%e8%ad%b0%e4%bc%9a%e4%bc%81%e7%94%bb%e5%b9%b9%e4%ba%8b%e4%bc%9a-11/
LOCATION:六郷地区センター\, 菊川市本所\, 菊川市\, 静岡県
GEO:34.7490246;138.0903152
X-APPLE-STRUCTURED-LOCATION;VALUE=URI;X-ADDRESS=六郷地区センター 菊川市本所 菊川市 静岡県;X-APPLE-RADIUS=500;X-TITLE=菊川市本所:geo:138.0903152,34.7490246
END:VEVENT
BEGIN:VEVENT
DTSTART;TZID=Asia/Tokyo:20210417T083000
DTEND;TZID=Asia/Tokyo:20210417T093000
DTSTAMP:20260421T232149
CREATED:20200311T040745Z
LAST-MODIFIED:20200311T040745Z
UID:14200-1618648200-1618651800@yuzuro.org
SUMMARY:ふれあい朝市青空サロンin青葉台
DESCRIPTION:
URL:https://yuzuro.org/event/%e3%81%b5%e3%82%8c%e3%81%82%e3%81%84%e6%9c%9d%e5%b8%82%e9%9d%92%e7%a9%ba%e3%82%b5%e3%83%ad%e3%83%b3in%e9%9d%92%e8%91%89%e5%8f%b0-22/
END:VEVENT
BEGIN:VEVENT
DTSTART;TZID=Asia/Tokyo:20210406T190000
DTEND;TZID=Asia/Tokyo:20210406T210000
DTSTAMP:20260421T232149
CREATED:20210210T020028Z
LAST-MODIFIED:20210210T020028Z
UID:15307-1617735600-1617742800@yuzuro.org
SUMMARY:六郷まちづくり協議会企画幹事会
DESCRIPTION:
URL:https://yuzuro.org/event/%e5%85%ad%e9%83%b7%e3%81%be%e3%81%a1%e3%81%a5%e3%81%8f%e3%82%8a%e5%8d%94%e8%ad%b0%e4%bc%9a%e4%bc%81%e7%94%bb%e5%b9%b9%e4%ba%8b%e4%bc%9a-10/
LOCATION:六郷地区センター\, 菊川市本所\, 菊川市\, 静岡県
GEO:34.7490246;138.0903152
X-APPLE-STRUCTURED-LOCATION;VALUE=URI;X-ADDRESS=六郷地区センター 菊川市本所 菊川市 静岡県;X-APPLE-RADIUS=500;X-TITLE=菊川市本所:geo:138.0903152,34.7490246
END:VEVENT
BEGIN:VEVENT
DTSTART;TZID=Asia/Tokyo:20210403T083000
DTEND;TZID=Asia/Tokyo:20210403T093000
DTSTAMP:20260421T232149
CREATED:20210331T162121Z
LAST-MODIFIED:20210331T162121Z
UID:15363-1617438600-1617442200@yuzuro.org
SUMMARY:ふれあい朝市青空サロンin青葉台
DESCRIPTION:ｆ \n 
URL:https://yuzuro.org/event/%e3%81%b5%e3%82%8c%e3%81%82%e3%81%84%e6%9c%9d%e5%b8%82%e9%9d%92%e7%a9%ba%e3%82%b5%e3%83%ad%e3%83%b3in%e9%9d%92%e8%91%89%e5%8f%b0-13/
LOCATION:青葉台コミュニティセンター　三角公園\, 青葉台1丁目12-2\, 菊川市\, 439-0012\, 日本
GEO:34.7578718;138.0954247
X-APPLE-STRUCTURED-LOCATION;VALUE=URI;X-ADDRESS=青葉台コミュニティセンター　三角公園 青葉台1丁目12-2 菊川市 439-0012 日本;X-APPLE-RADIUS=500;X-TITLE=青葉台1丁目12-2:geo:138.0954247,34.7578718
END:VEVENT
BEGIN:VEVENT
DTSTART;TZID=Asia/Tokyo:20210330T190000
DTEND;TZID=Asia/Tokyo:20210330T210000
DTSTAMP:20260421T232149
CREATED:20210304T012724Z
LAST-MODIFIED:20210318T091957Z
UID:15325-1617130800-1617138000@yuzuro.org
SUMMARY:ふれあい朝市青空サロンin青葉台世話人打ち合わせ会（中止）
DESCRIPTION:ｆ \nうれあい
URL:https://yuzuro.org/event/%e3%81%b5%e3%82%8c%e3%81%82%e3%81%84%e3%81%82%e3%81%95%e3%81%84%e3%81%a1%e3%81%82%e3%81%8a%e3%81%9e%e3%82%89%e3%81%95%e3%82%8d%e3%82%93in%e9%9d%92%e8%91%89%e5%8f%b0%e4%b8%96%e8%a9%b1%e4%ba%ba%e6%89%93/
LOCATION:青葉台コミュニティセンター\, 青葉台１丁目12--2\, 菊川市\, 静岡県\, 439-0012\, 日本
GEO:34.757891;138.095469
X-APPLE-STRUCTURED-LOCATION;VALUE=URI;X-ADDRESS=青葉台コミュニティセンター 青葉台１丁目12--2 菊川市 静岡県 439-0012 日本;X-APPLE-RADIUS=500;X-TITLE=青葉台１丁目12--2:geo:138.095469,34.757891
END:VEVENT
BEGIN:VEVENT
DTSTART;TZID=Asia/Tokyo:20210320T083000
DTEND;TZID=Asia/Tokyo:20210320T093000
DTSTAMP:20260421T232149
CREATED:20200311T042807Z
LAST-MODIFIED:20210318T092117Z
UID:14208-1616229000-1616232600@yuzuro.org
SUMMARY:ふれあい朝市青空サロンin青葉台
DESCRIPTION:
URL:https://yuzuro.org/event/%e3%81%82%e3%81%8a%e3%81%b0%e3%81%a0%e3%81%84%e3%81%b5%e3%82%8c%e3%81%82%e3%81%84%e6%9c%9d%e5%b8%82%e9%9d%92%e7%a9%ba%e3%82%b5%e3%83%ad%e3%83%b3in%e9%9d%92%e8%91%89%e5%8f%b0-2/
END:VEVENT
BEGIN:VEVENT
DTSTART;TZID=Asia/Tokyo:20210306T083000
DTEND;TZID=Asia/Tokyo:20210306T093000
DTSTAMP:20260421T232149
CREATED:20200311T040556Z
LAST-MODIFIED:20200311T040556Z
UID:14198-1615019400-1615023000@yuzuro.org
SUMMARY:ふれあい朝市青空サロンin青葉台
DESCRIPTION:
URL:https://yuzuro.org/event/%e3%81%b5%e3%82%8c%e3%81%82%e3%81%84%e6%9c%9d%e5%b8%82%e9%9d%92%e7%a9%ba%e3%82%b5%e3%83%ad%e3%83%b3in%e9%9d%92%e8%91%89%e5%8f%b0-21/
END:VEVENT
BEGIN:VEVENT
DTSTART;TZID=Asia/Tokyo:20210302T190000
DTEND;TZID=Asia/Tokyo:20210302T210000
DTSTAMP:20260421T232149
CREATED:20201209T235227Z
LAST-MODIFIED:20201209T235227Z
UID:15099-1614711600-1614718800@yuzuro.org
SUMMARY:六郷まちづくり協議会企画幹事会
DESCRIPTION:
URL:https://yuzuro.org/event/%e5%85%ad%e9%83%b7%e3%81%be%e3%81%a1%e3%81%a5%e3%81%8f%e3%82%8a%e5%8d%94%e8%ad%b0%e4%bc%9a%e4%bc%81%e7%94%bb%e5%b9%b9%e4%ba%8b%e4%bc%9a-9/
LOCATION:六郷地区センター\, 菊川市本所\, 菊川市\, 静岡県
GEO:34.7490246;138.0903152
X-APPLE-STRUCTURED-LOCATION;VALUE=URI;X-ADDRESS=六郷地区センター 菊川市本所 菊川市 静岡県;X-APPLE-RADIUS=500;X-TITLE=菊川市本所:geo:138.0903152,34.7490246
END:VEVENT
BEGIN:VEVENT
DTSTART;TZID=Asia/Tokyo:20210220T083000
DTEND;TZID=Asia/Tokyo:20210220T093000
DTSTAMP:20260421T232149
CREATED:20200311T034549Z
LAST-MODIFIED:20200311T034549Z
UID:14196-1613809800-1613813400@yuzuro.org
SUMMARY:ふれあい朝市青空サロンin青葉台
DESCRIPTION:
URL:https://yuzuro.org/event/%e3%81%b5%e3%82%8c%e3%81%82%e3%81%84%e6%9c%9d%e5%b8%82%e9%9d%92%e7%a9%ba%e3%82%b5%e3%83%ad%e3%83%b3in%e9%9d%92%e8%91%89%e5%8f%b0-20/
END:VEVENT
BEGIN:VEVENT
DTSTART;TZID=Asia/Tokyo:20210206T083000
DTEND;TZID=Asia/Tokyo:20210206T093000
DTSTAMP:20260421T232149
CREATED:20200311T034402Z
LAST-MODIFIED:20200311T034402Z
UID:14194-1612600200-1612603800@yuzuro.org
SUMMARY:ふれあい朝市青空サロンin青葉台
DESCRIPTION:
URL:https://yuzuro.org/event/%e3%81%b5%e3%82%8c%e3%81%82%e3%81%84%e6%9c%9d%e5%b8%82%e9%9d%92%e7%a9%ba%e3%82%b5%e3%83%ad%e3%83%b3in%e9%9d%92%e8%91%89%e5%8f%b0-19/
END:VEVENT
BEGIN:VEVENT
DTSTART;TZID=Asia/Tokyo:20210202T190000
DTEND;TZID=Asia/Tokyo:20210202T210000
DTSTAMP:20260421T232149
CREATED:20201208T050135Z
LAST-MODIFIED:20201208T050135Z
UID:15082-1612292400-1612299600@yuzuro.org
SUMMARY:六郷まちづくり協議会企画幹事会
DESCRIPTION:
URL:https://yuzuro.org/event/%e5%85%ad%e9%83%b7%e3%81%be%e3%81%a1%e3%81%a5%e3%81%8f%e3%82%8a%e5%8d%94%e8%ad%b0%e4%bc%9a%e4%bc%81%e7%94%bb%e5%b9%b9%e4%ba%8b%e4%bc%9a-8/
LOCATION:六郷地区センター\, 菊川市本所\, 菊川市\, 静岡県
GEO:34.7490246;138.0903152
X-APPLE-STRUCTURED-LOCATION;VALUE=URI;X-ADDRESS=六郷地区センター 菊川市本所 菊川市 静岡県;X-APPLE-RADIUS=500;X-TITLE=菊川市本所:geo:138.0903152,34.7490246
END:VEVENT
BEGIN:VEVENT
DTSTART;TZID=Asia/Tokyo:20210119T190000
DTEND;TZID=Asia/Tokyo:20210119T210000
DTSTAMP:20260421T232149
CREATED:20201201T052702Z
LAST-MODIFIED:20201201T052702Z
UID:15079-1611082800-1611090000@yuzuro.org
SUMMARY:六郷まちづくり協議会予算検討会
DESCRIPTION:
URL:https://yuzuro.org/event/%e5%85%ad%e9%83%b7%e3%81%be%e3%81%a1%e3%81%a5%e3%81%8f%e3%82%8a%e5%8d%94%e8%ad%b0%e4%bc%9a%e4%ba%88%e7%ae%97%e6%a4%9c%e8%a8%8e%e4%bc%9a/
LOCATION:六郷地区センター\, 菊川市本所\, 菊川市\, 静岡県
GEO:34.7490246;138.0903152
X-APPLE-STRUCTURED-LOCATION;VALUE=URI;X-ADDRESS=六郷地区センター 菊川市本所 菊川市 静岡県;X-APPLE-RADIUS=500;X-TITLE=菊川市本所:geo:138.0903152,34.7490246
END:VEVENT
BEGIN:VEVENT
DTSTART;TZID=Asia/Tokyo:20210116T083000
DTEND;TZID=Asia/Tokyo:20210116T093000
DTSTAMP:20260421T232149
CREATED:20200311T034223Z
LAST-MODIFIED:20200311T034223Z
UID:14192-1610785800-1610789400@yuzuro.org
SUMMARY:ふれあい朝市青空サロンin青葉台
DESCRIPTION:
URL:https://yuzuro.org/event/%e3%81%b5%e3%82%8c%e3%81%82%e3%81%84%e6%9c%9d%e5%b8%82%e9%9d%92%e7%a9%ba%e3%82%b5%e3%83%ad%e3%83%b3in%e9%9d%92%e8%91%89%e5%8f%b0-18/
END:VEVENT
BEGIN:VEVENT
DTSTART;TZID=Asia/Tokyo:20210105T190000
DTEND;TZID=Asia/Tokyo:20210105T210000
DTSTAMP:20260421T232149
CREATED:20201125T002544Z
LAST-MODIFIED:20201125T002544Z
UID:15066-1609873200-1609880400@yuzuro.org
SUMMARY:六郷まちづくり協議会企画幹事会
DESCRIPTION:
URL:https://yuzuro.org/event/%e5%85%ad%e9%83%b7%e3%81%be%e3%81%a1%e3%81%a5%e3%81%8f%e3%82%8a%e5%8d%94%e8%ad%b0%e4%bc%9a%e4%bc%81%e7%94%bb%e5%b9%b9%e4%ba%8b%e4%bc%9a-7/
LOCATION:六郷地区センター\, 菊川市本所\, 菊川市\, 静岡県
GEO:34.7490246;138.0903152
X-APPLE-STRUCTURED-LOCATION;VALUE=URI;X-ADDRESS=六郷地区センター 菊川市本所 菊川市 静岡県;X-APPLE-RADIUS=500;X-TITLE=菊川市本所:geo:138.0903152,34.7490246
END:VEVENT
BEGIN:VEVENT
DTSTART;TZID=Asia/Tokyo:20201219T083000
DTEND;TZID=Asia/Tokyo:20201219T093000
DTSTAMP:20260421T232149
CREATED:20200311T034038Z
LAST-MODIFIED:20200311T034038Z
UID:14190-1608366600-1608370200@yuzuro.org
SUMMARY:ふれあい朝市青空サロンin青葉台
DESCRIPTION:
URL:https://yuzuro.org/event/%e3%81%b5%e3%82%8c%e3%81%82%e3%81%84%e6%9c%9d%e5%b8%82%e9%9d%92%e7%a9%ba%e3%82%b5%e3%83%ad%e3%83%b3in%e9%9d%92%e8%91%89%e5%8f%b0-17/
END:VEVENT
BEGIN:VEVENT
DTSTART;TZID=Asia/Tokyo:20201205T083000
DTEND;TZID=Asia/Tokyo:20201205T093000
DTSTAMP:20260421T232149
CREATED:20200311T033902Z
LAST-MODIFIED:20200311T033902Z
UID:14188-1607157000-1607160600@yuzuro.org
SUMMARY:ふれあい朝市青空サロンin青葉台
DESCRIPTION:
URL:https://yuzuro.org/event/%e3%81%b5%e3%82%8c%e3%81%82%e3%81%84%e6%9c%9d%e5%b8%82%e9%9d%92%e7%a9%ba%e3%82%b5%e3%83%ad%e3%83%b3in%e9%9d%92%e8%91%89%e5%8f%b0-16/
END:VEVENT
BEGIN:VEVENT
DTSTART;TZID=Asia/Tokyo:20201201T190000
DTEND;TZID=Asia/Tokyo:20201201T210000
DTSTAMP:20260421T232149
CREATED:20201117T015354Z
LAST-MODIFIED:20201117T015354Z
UID:15019-1606849200-1606856400@yuzuro.org
SUMMARY:六郷まちづくり協議会企画幹事会
DESCRIPTION:
URL:https://yuzuro.org/event/%e5%85%ad%e9%83%b7%e3%81%be%e3%81%a1%e3%81%a5%e3%81%8f%e3%82%8a%e5%8d%94%e8%ad%b0%e4%bc%9a%e4%bc%81%e7%94%bb%e5%b9%b9%e4%ba%8b%e4%bc%9a-6/
LOCATION:六郷地区センター\, 菊川市本所\, 菊川市\, 静岡県
GEO:34.7490246;138.0903152
X-APPLE-STRUCTURED-LOCATION;VALUE=URI;X-ADDRESS=六郷地区センター 菊川市本所 菊川市 静岡県;X-APPLE-RADIUS=500;X-TITLE=菊川市本所:geo:138.0903152,34.7490246
END:VEVENT
BEGIN:VEVENT
DTSTART;TZID=Asia/Tokyo:20201121T083000
DTEND;TZID=Asia/Tokyo:20201121T093000
DTSTAMP:20260421T232149
CREATED:20200311T033639Z
LAST-MODIFIED:20200311T033639Z
UID:14186-1605947400-1605951000@yuzuro.org
SUMMARY:ふれあい朝市青空サロンin青葉台
DESCRIPTION:
URL:https://yuzuro.org/event/%e3%81%b5%e3%82%8c%e3%81%82%e3%81%84%e6%9c%9d%e5%b8%82%e9%9d%92%e7%a9%ba%e3%82%b5%e3%83%ad%e3%83%b3in%e9%9d%92%e8%91%89%e5%8f%b0-15/
END:VEVENT
BEGIN:VEVENT
DTSTART;TZID=Asia/Tokyo:20201107T083000
DTEND;TZID=Asia/Tokyo:20201107T093000
DTSTAMP:20260421T232149
CREATED:20200311T043245Z
LAST-MODIFIED:20200311T043245Z
UID:14210-1604737800-1604741400@yuzuro.org
SUMMARY:ふれあい朝市青空サロンin青葉台
DESCRIPTION:
URL:https://yuzuro.org/event/%e3%81%b5%e3%82%8c%e3%81%82%e3%81%84%e6%9c%9d%e5%b8%82%e9%9d%92%e7%a9%ba%e3%82%b5%e3%83%ad%e3%83%b3in%e9%9d%92%e8%91%89%e5%8f%b0-11/
END:VEVENT
BEGIN:VEVENT
DTSTART;TZID=Asia/Tokyo:20201027T190000
DTEND;TZID=Asia/Tokyo:20201027T210000
DTSTAMP:20260421T232149
CREATED:20200916T070612Z
LAST-MODIFIED:20200916T070612Z
UID:14913-1603825200-1603832400@yuzuro.org
SUMMARY:活動研究会
DESCRIPTION:
URL:https://yuzuro.org/event/%e6%b4%bb%e5%8b%95%e7%a0%94%e7%a9%b6%e4%bc%9a-4/
LOCATION:青葉台コミュニティセンター\, 青葉台１丁目12--2\, 菊川市\, 静岡県\, 439-0012\, 日本
GEO:34.757891;138.095469
X-APPLE-STRUCTURED-LOCATION;VALUE=URI;X-ADDRESS=青葉台コミュニティセンター 青葉台１丁目12--2 菊川市 静岡県 439-0012 日本;X-APPLE-RADIUS=500;X-TITLE=青葉台１丁目12--2:geo:138.095469,34.757891
END:VEVENT
BEGIN:VEVENT
DTSTART;TZID=Asia/Tokyo:20201017T083000
DTEND;TZID=Asia/Tokyo:20201017T093000
DTSTAMP:20260421T232149
CREATED:20201002T032046Z
LAST-MODIFIED:20201002T032231Z
UID:14937-1602923400-1602927000@yuzuro.org
SUMMARY:ふれあい朝市青空サロンin青葉台
DESCRIPTION:菊川最大のイベント「秋まつり」が自粛中止になりましたので、朝市を開催することにしました。山車もお囃子もありませんが、秋の朝のひとときを楽しんでください。 \n 
URL:https://yuzuro.org/event/%e3%81%b5%e3%82%8c%e3%81%82%e3%81%84%e3%81%82%e3%81%95%e3%81%84%e3%81%a1%e3%81%82%e3%81%8a%e3%81%9e%e3%82%89%e3%81%95%e3%82%8d%e3%82%93in%e9%9d%92%e8%91%89%e5%8f%b0/
LOCATION:青葉台コミュニティセンター　三角公園\, 青葉台1丁目12-2\, 菊川市\, 439-0012\, 日本
GEO:34.7578718;138.0954247
X-APPLE-STRUCTURED-LOCATION;VALUE=URI;X-ADDRESS=青葉台コミュニティセンター　三角公園 青葉台1丁目12-2 菊川市 439-0012 日本;X-APPLE-RADIUS=500;X-TITLE=青葉台1丁目12-2:geo:138.0954247,34.7578718
END:VEVENT
BEGIN:VEVENT
DTSTART;TZID=Asia/Tokyo:20201008T190000
DTEND;TZID=Asia/Tokyo:20201008T210000
DTSTAMP:20260421T232149
CREATED:20200917T052550Z
LAST-MODIFIED:20200917T052550Z
UID:14919-1602183600-1602190800@yuzuro.org
SUMMARY:六郷ふれあいフェスタ役割分担会議
DESCRIPTION:参集範囲：六郷まちづくり協議会地区センター部会・六郷地区連合自治会フェスタ担当者
URL:https://yuzuro.org/event/%e5%85%ad%e9%83%b7%e3%81%b5%e3%82%8c%e3%81%82%e3%81%84%e3%83%95%e3%82%a7%e3%82%b9%e3%82%bf%e5%bd%b9%e5%89%b2%e5%88%86%e6%8b%85%e4%bc%9a%e8%ad%b0/
LOCATION:六郷地区センター\, 菊川市本所\, 菊川市\, 静岡県
GEO:34.7490246;138.0903152
X-APPLE-STRUCTURED-LOCATION;VALUE=URI;X-ADDRESS=六郷地区センター 菊川市本所 菊川市 静岡県;X-APPLE-RADIUS=500;X-TITLE=菊川市本所:geo:138.0903152,34.7490246
END:VEVENT
END:VCALENDAR