BEGIN:VCALENDAR
VERSION:2.0
PRODID:-//六郷まちづくり協議会 - ECPv6.0.12//NONSGML v1.0//EN
CALSCALE:GREGORIAN
METHOD:PUBLISH
X-WR-CALNAME:六郷まちづくり協議会
X-ORIGINAL-URL:https://yuzuro.org
X-WR-CALDESC:六郷まちづくり協議会 のイベント
REFRESH-INTERVAL;VALUE=DURATION:PT1H
X-Robots-Tag:noindex
X-PUBLISHED-TTL:PT1H
BEGIN:VTIMEZONE
TZID:Asia/Tokyo
BEGIN:STANDARD
TZOFFSETFROM:+0900
TZOFFSETTO:+0900
TZNAME:JST
DTSTART:20200101T000000
END:STANDARD
END:VTIMEZONE
BEGIN:VEVENT
DTSTART;TZID=Asia/Tokyo:20210128T093000
DTEND;TZID=Asia/Tokyo:20210128T113000
DTSTAMP:20260421T202541
CREATED:20201208T131222Z
LAST-MODIFIED:20201208T131222Z
UID:15090-1611826200-1611833400@yuzuro.org
SUMMARY:女性学級　出前ミニ健康講座
DESCRIPTION:社会福祉協議会の講座から、「体と頭を使い、物忘れ予防」を行います。
URL:https://yuzuro.org/event/%e5%a5%b3%e6%80%a7%e5%ad%a6%e7%b4%9a%e3%80%80%e5%87%ba%e5%89%8d%e3%83%9f%e3%83%8b%e5%81%a5%e5%ba%b7%e8%ac%9b%e5%ba%a7/
LOCATION:青葉台コミュニティセンター\, 青葉台１丁目12--2\, 菊川市\, 静岡県\, 439-0012\, 日本
GEO:34.757891;138.095469
X-APPLE-STRUCTURED-LOCATION;VALUE=URI;X-ADDRESS=青葉台コミュニティセンター 青葉台１丁目12--2 菊川市 静岡県 439-0012 日本;X-APPLE-RADIUS=500;X-TITLE=青葉台１丁目12--2:geo:138.095469,34.757891
END:VEVENT
BEGIN:VEVENT
DTSTART;TZID=Asia/Tokyo:20201217T093000
DTEND;TZID=Asia/Tokyo:20201217T113000
DTSTAMP:20260421T202541
CREATED:20201125T120005Z
LAST-MODIFIED:20201125T120005Z
UID:15069-1608197400-1608204600@yuzuro.org
SUMMARY:女性学級　「減塩おもてなし料理」デモと試食
DESCRIPTION:
URL:https://yuzuro.org/event/%e5%a5%b3%e6%80%a7%e5%ad%a6%e7%b4%9a%e3%80%80%e3%80%8c%e6%b8%9b%e5%a1%a9%e3%81%8a%e3%82%82%e3%81%a6%e3%81%aa%e3%81%97%e6%96%99%e7%90%86%e3%80%8d%e3%83%87%e3%83%a2%e3%81%a8%e8%a9%a6%e9%a3%9f/
LOCATION:青葉台コミュニティセンター\, 青葉台１丁目12--2\, 菊川市\, 静岡県\, 439-0012\, 日本
GEO:34.757891;138.095469
X-APPLE-STRUCTURED-LOCATION;VALUE=URI;X-ADDRESS=青葉台コミュニティセンター 青葉台１丁目12--2 菊川市 静岡県 439-0012 日本;X-APPLE-RADIUS=500;X-TITLE=青葉台１丁目12--2:geo:138.095469,34.757891
END:VEVENT
BEGIN:VEVENT
DTSTART;TZID=Asia/Tokyo:20201125T100000
DTEND;TZID=Asia/Tokyo:20201125T113000
DTSTAMP:20260421T202541
CREATED:20201013T115448Z
LAST-MODIFIED:20201013T115448Z
UID:14956-1606298400-1606303800@yuzuro.org
SUMMARY:女性学級　報恩寺住職の法話
DESCRIPTION:
URL:https://yuzuro.org/event/%e5%a5%b3%e6%80%a7%e5%ad%a6%e7%b4%9a%e3%80%80%e5%a0%b1%e6%81%a9%e5%af%ba%e4%bd%8f%e8%81%b7%e3%81%ae%e6%b3%95%e8%a9%b1/
LOCATION:青葉台コミュニティセンター\, 青葉台１丁目12--2\, 菊川市\, 静岡県\, 439-0012\, 日本
GEO:34.757891;138.095469
X-APPLE-STRUCTURED-LOCATION;VALUE=URI;X-ADDRESS=青葉台コミュニティセンター 青葉台１丁目12--2 菊川市 静岡県 439-0012 日本;X-APPLE-RADIUS=500;X-TITLE=青葉台１丁目12--2:geo:138.095469,34.757891
END:VEVENT
BEGIN:VEVENT
DTSTART;TZID=Asia/Tokyo:20200924T093000
DTEND;TZID=Asia/Tokyo:20200924T120000
DTSTAMP:20260421T202541
CREATED:20200401T133754Z
LAST-MODIFIED:20200401T134504Z
UID:14282-1600939800-1600948800@yuzuro.org
SUMMARY:女性学級
DESCRIPTION:
URL:https://yuzuro.org/event/%e5%a5%b3%e6%80%a7%e5%ad%a6%e7%b4%9a-4-2020-09-28/
LOCATION:青葉台コミュニティセンター\, 青葉台１丁目12--2\, 菊川市\, 静岡県\, 439-0012\, 日本
GEO:34.757891;138.095469
X-APPLE-STRUCTURED-LOCATION;VALUE=URI;X-ADDRESS=青葉台コミュニティセンター 青葉台１丁目12--2 菊川市 静岡県 439-0012 日本;X-APPLE-RADIUS=500;X-TITLE=青葉台１丁目12--2:geo:138.095469,34.757891
END:VEVENT
BEGIN:VEVENT
DTSTART;TZID=Asia/Tokyo:20200723T093000
DTEND;TZID=Asia/Tokyo:20200723T120000
DTSTAMP:20260421T202541
CREATED:20200401T133754Z
LAST-MODIFIED:20200401T134812Z
UID:14280-1595496600-1595505600@yuzuro.org
SUMMARY:女性学級
DESCRIPTION:
URL:https://yuzuro.org/event/%e5%a5%b3%e6%80%a7%e5%ad%a6%e7%b4%9a-4-2020-07-28/
LOCATION:青葉台コミュニティセンター\, 青葉台１丁目12--2\, 菊川市\, 静岡県\, 439-0012\, 日本
GEO:34.757891;138.095469
X-APPLE-STRUCTURED-LOCATION;VALUE=URI;X-ADDRESS=青葉台コミュニティセンター 青葉台１丁目12--2 菊川市 静岡県 439-0012 日本;X-APPLE-RADIUS=500;X-TITLE=青葉台１丁目12--2:geo:138.095469,34.757891
END:VEVENT
BEGIN:VEVENT
DTSTART;TZID=Asia/Tokyo:20200625T093000
DTEND;TZID=Asia/Tokyo:20200625T120000
DTSTAMP:20260421T202541
CREATED:20200401T133754Z
LAST-MODIFIED:20200401T134958Z
UID:14279-1593077400-1593086400@yuzuro.org
SUMMARY:女性学級
DESCRIPTION:
URL:https://yuzuro.org/event/%e5%a5%b3%e6%80%a7%e5%ad%a6%e7%b4%9a-4-2020-06-28/
LOCATION:青葉台コミュニティセンター\, 青葉台１丁目12--2\, 菊川市\, 静岡県\, 439-0012\, 日本
GEO:34.757891;138.095469
X-APPLE-STRUCTURED-LOCATION;VALUE=URI;X-ADDRESS=青葉台コミュニティセンター 青葉台１丁目12--2 菊川市 静岡県 439-0012 日本;X-APPLE-RADIUS=500;X-TITLE=青葉台１丁目12--2:geo:138.095469,34.757891
END:VEVENT
BEGIN:VEVENT
DTSTART;TZID=Asia/Tokyo:20200423T080000
DTEND;TZID=Asia/Tokyo:20200423T170000
DTSTAMP:20260421T202541
CREATED:20200401T135151Z
LAST-MODIFIED:20200401T135151Z
UID:14286-1587628800-1587661200@yuzuro.org
SUMMARY:女性学級
DESCRIPTION:
URL:https://yuzuro.org/event/%e5%a5%b3%e6%80%a7%e5%ad%a6%e7%b4%9a-3/
LOCATION:青葉台コミュニティセンター\, 青葉台１丁目12--2\, 菊川市\, 静岡県\, 439-0012\, 日本
GEO:34.757891;138.095469
X-APPLE-STRUCTURED-LOCATION;VALUE=URI;X-ADDRESS=青葉台コミュニティセンター 青葉台１丁目12--2 菊川市 静岡県 439-0012 日本;X-APPLE-RADIUS=500;X-TITLE=青葉台１丁目12--2:geo:138.095469,34.757891
END:VEVENT
BEGIN:VEVENT
DTSTART;TZID=Asia/Tokyo:20200312T090000
DTEND;TZID=Asia/Tokyo:20200312T133000
DTSTAMP:20260421T202541
CREATED:20200211T140748Z
LAST-MODIFIED:20200211T140748Z
UID:14019-1584003600-1584019800@yuzuro.org
SUMMARY:女性学級　コミセン大掃除、　閉級式
DESCRIPTION:
URL:https://yuzuro.org/event/%e5%a5%b3%e6%80%a7%e5%ad%a6%e7%b4%9a%e3%80%80%e3%82%b3%e3%83%9f%e3%82%bb%e3%83%b3%e5%a4%a7%e6%8e%83%e9%99%a4%e3%80%81%e3%80%80%e9%96%89%e7%b4%9a%e5%bc%8f/
LOCATION:青葉台コミュニティセンター\, 青葉台１丁目12--2\, 菊川市\, 静岡県\, 439-0012\, 日本
GEO:34.757891;138.095469
X-APPLE-STRUCTURED-LOCATION;VALUE=URI;X-ADDRESS=青葉台コミュニティセンター 青葉台１丁目12--2 菊川市 静岡県 439-0012 日本;X-APPLE-RADIUS=500;X-TITLE=青葉台１丁目12--2:geo:138.095469,34.757891
END:VEVENT
BEGIN:VEVENT
DTSTART;TZID=Asia/Tokyo:20200227T093000
DTEND;TZID=Asia/Tokyo:20200227T113000
DTSTAMP:20260421T202541
CREATED:20200211T140504Z
LAST-MODIFIED:20200211T140504Z
UID:14017-1582795800-1582803000@yuzuro.org
SUMMARY:女性学級　「片付けのコツ」
DESCRIPTION:
URL:https://yuzuro.org/event/%e5%a5%b3%e6%80%a7%e5%ad%a6%e7%b4%9a%e3%80%80%e3%80%8c%e7%89%87%e4%bb%98%e3%81%91%e3%81%ae%e3%82%b3%e3%83%84%e3%80%8d/
LOCATION:青葉台コミュニティセンター\, 青葉台１丁目12--2\, 菊川市\, 静岡県\, 439-0012\, 日本
GEO:34.757891;138.095469
X-APPLE-STRUCTURED-LOCATION;VALUE=URI;X-ADDRESS=青葉台コミュニティセンター 青葉台１丁目12--2 菊川市 静岡県 439-0012 日本;X-APPLE-RADIUS=500;X-TITLE=青葉台１丁目12--2:geo:138.095469,34.757891
END:VEVENT
BEGIN:VEVENT
DTSTART;TZID=Asia/Tokyo:20200123T093000
DTEND;TZID=Asia/Tokyo:20200123T113000
DTSTAMP:20260421T202541
CREATED:20191212T120358Z
LAST-MODIFIED:20191212T120358Z
UID:13819-1579771800-1579779000@yuzuro.org
SUMMARY:女性学級　災害時の防災対策（公開講座）
DESCRIPTION:「日ごろから取り組もう」の題で、危機管理課のお話を聞きます。
URL:https://yuzuro.org/event/%e5%a5%b3%e6%80%a7%e5%ad%a6%e7%b4%9a%e3%80%80%e7%81%bd%e5%ae%b3%e6%99%82%e3%81%ae%e9%98%b2%e7%81%bd%e5%af%be%e7%ad%96%ef%bc%88%e5%85%ac%e9%96%8b%e8%ac%9b%e5%ba%a7%ef%bc%89/
LOCATION:青葉台コミュニティセンター\, 青葉台１丁目12--2\, 菊川市\, 静岡県\, 439-0012\, 日本
GEO:34.757891;138.095469
X-APPLE-STRUCTURED-LOCATION;VALUE=URI;X-ADDRESS=青葉台コミュニティセンター 青葉台１丁目12--2 菊川市 静岡県 439-0012 日本;X-APPLE-RADIUS=500;X-TITLE=青葉台１丁目12--2:geo:138.095469,34.757891
END:VEVENT
END:VCALENDAR