BEGIN:VCALENDAR
VERSION:2.0
PRODID:-//六郷まちづくり協議会 - ECPv6.0.12//NONSGML v1.0//EN
CALSCALE:GREGORIAN
METHOD:PUBLISH
X-WR-CALNAME:六郷まちづくり協議会
X-ORIGINAL-URL:https://yuzuro.org
X-WR-CALDESC:六郷まちづくり協議会 のイベント
REFRESH-INTERVAL;VALUE=DURATION:PT1H
X-Robots-Tag:noindex
X-PUBLISHED-TTL:PT1H
BEGIN:VTIMEZONE
TZID:Asia/Tokyo
BEGIN:STANDARD
TZOFFSETFROM:+0900
TZOFFSETTO:+0900
TZNAME:JST
DTSTART:20200101T000000
END:STANDARD
END:VTIMEZONE
BEGIN:VEVENT
DTSTART;TZID=Asia/Tokyo:20240309T100000
DTEND;TZID=Asia/Tokyo:20240309T120000
DTSTAMP:20260421T184221
CREATED:20230406T140919Z
LAST-MODIFIED:20230406T140919Z
UID:17722-1709978400-1709985600@yuzuro.org
SUMMARY:・閉級式・音楽鑑賞「カモンズ」
DESCRIPTION:
URL:https://yuzuro.org/event/%e3%83%bb%e9%96%89%e7%b4%9a%e5%bc%8f%e3%83%bb%e9%9f%b3%e6%a5%bd%e9%91%91%e8%b3%9e%e3%80%8c%e3%82%ab%e3%83%a2%e3%83%b3%e3%82%ba%e3%80%8d/
LOCATION:青葉台コミュニティセンター\, 青葉台１丁目12--2\, 菊川市\, 静岡県\, 439-0012\, 日本
GEO:34.757891;138.095469
X-APPLE-STRUCTURED-LOCATION;VALUE=URI;X-ADDRESS=青葉台コミュニティセンター 青葉台１丁目12--2 菊川市 静岡県 439-0012 日本;X-APPLE-RADIUS=500;X-TITLE=青葉台１丁目12--2:geo:138.095469,34.757891
END:VEVENT
BEGIN:VEVENT
DTSTART;TZID=Asia/Tokyo:20240209T100000
DTEND;TZID=Asia/Tokyo:20240209T120000
DTSTAMP:20260421T184221
CREATED:20230406T140750Z
LAST-MODIFIED:20230406T141446Z
UID:17720-1707472800-1707480000@yuzuro.org
SUMMARY:出前行政講座「ごみのゆくえ」
DESCRIPTION:
URL:https://yuzuro.org/event/%e5%87%ba%e5%89%8d%e8%a1%8c%e6%94%bf%e8%ac%9b%e5%ba%a7%e3%80%8c%e3%81%94%e3%81%bf%e3%81%ae%e3%82%86%e3%81%8f%e3%81%88%e3%80%8d/
LOCATION:青葉台コミュニティセンター\, 青葉台１丁目12--2\, 菊川市\, 静岡県\, 439-0012\, 日本
GEO:34.757891;138.095469
X-APPLE-STRUCTURED-LOCATION;VALUE=URI;X-ADDRESS=青葉台コミュニティセンター 青葉台１丁目12--2 菊川市 静岡県 439-0012 日本;X-APPLE-RADIUS=500;X-TITLE=青葉台１丁目12--2:geo:138.095469,34.757891
END:VEVENT
BEGIN:VEVENT
DTSTART;TZID=Asia/Tokyo:20240113T100000
DTEND;TZID=Asia/Tokyo:20240113T120000
DTSTAMP:20260421T184221
CREATED:20230406T140649Z
LAST-MODIFIED:20230406T140649Z
UID:17718-1705140000-1705147200@yuzuro.org
SUMMARY:カルタ大会・正月の遊び
DESCRIPTION:
URL:https://yuzuro.org/event/%e3%82%ab%e3%83%ab%e3%82%bf%e5%a4%a7%e4%bc%9a%e3%83%bb%e6%ad%a3%e6%9c%88%e3%81%ae%e9%81%8a%e3%81%b3/
LOCATION:青葉台コミュニティセンター\, 青葉台１丁目12--2\, 菊川市\, 静岡県\, 439-0012\, 日本
GEO:34.757891;138.095469
X-APPLE-STRUCTURED-LOCATION;VALUE=URI;X-ADDRESS=青葉台コミュニティセンター 青葉台１丁目12--2 菊川市 静岡県 439-0012 日本;X-APPLE-RADIUS=500;X-TITLE=青葉台１丁目12--2:geo:138.095469,34.757891
END:VEVENT
BEGIN:VEVENT
DTSTART;TZID=Asia/Tokyo:20231209T100000
DTEND;TZID=Asia/Tokyo:20231209T120000
DTSTAMP:20260421T184221
CREATED:20230406T140527Z
LAST-MODIFIED:20230406T140527Z
UID:17716-1702116000-1702123200@yuzuro.org
SUMMARY:「オカリナ・G&Gプラスの演奏」
DESCRIPTION:
URL:https://yuzuro.org/event/%e3%80%8c%e3%82%aa%e3%82%ab%e3%83%aa%e3%83%8a%e3%83%bbgg%e3%83%97%e3%83%a9%e3%82%b9%e3%81%ae%e6%bc%94%e5%a5%8f%e3%80%8d/
LOCATION:青葉台コミュニティセンター\, 青葉台１丁目12--2\, 菊川市\, 静岡県\, 439-0012\, 日本
GEO:34.757891;138.095469
X-APPLE-STRUCTURED-LOCATION;VALUE=URI;X-ADDRESS=青葉台コミュニティセンター 青葉台１丁目12--2 菊川市 静岡県 439-0012 日本;X-APPLE-RADIUS=500;X-TITLE=青葉台１丁目12--2:geo:138.095469,34.757891
END:VEVENT
BEGIN:VEVENT
DTSTART;TZID=Asia/Tokyo:20231111T100000
DTEND;TZID=Asia/Tokyo:20231111T120000
DTSTAMP:20260421T184221
CREATED:20230406T140344Z
LAST-MODIFIED:20230406T140344Z
UID:17714-1699696800-1699704000@yuzuro.org
SUMMARY:ペタボード大会
DESCRIPTION:
URL:https://yuzuro.org/event/%e3%83%9a%e3%82%bf%e3%83%9c%e3%83%bc%e3%83%89%e5%a4%a7%e4%bc%9a/
LOCATION:青葉台コミュニティセンター\, 青葉台１丁目12--2\, 菊川市\, 静岡県\, 439-0012\, 日本
GEO:34.757891;138.095469
X-APPLE-STRUCTURED-LOCATION;VALUE=URI;X-ADDRESS=青葉台コミュニティセンター 青葉台１丁目12--2 菊川市 静岡県 439-0012 日本;X-APPLE-RADIUS=500;X-TITLE=青葉台１丁目12--2:geo:138.095469,34.757891
END:VEVENT
BEGIN:VEVENT
DTSTART;TZID=Asia/Tokyo:20231007T100000
DTEND;TZID=Asia/Tokyo:20231007T120000
DTSTAMP:20260421T184221
CREATED:20230406T140241Z
LAST-MODIFIED:20230406T141358Z
UID:17712-1696672800-1696680000@yuzuro.org
SUMMARY:認知症予防に向けた運動「和松会」
DESCRIPTION:
URL:https://yuzuro.org/event/%e8%aa%8d%e7%9f%a5%e7%97%87%e4%ba%88%e9%98%b2%e3%81%ab%e5%90%91%e3%81%91%e3%81%9f%e9%81%8b%e5%8b%95%e3%80%8c%e5%92%8c%e6%9d%be%e4%bc%9a%e3%80%8d/
LOCATION:青葉台コミュニティセンター\, 青葉台１丁目12--2\, 菊川市\, 静岡県\, 439-0012\, 日本
GEO:34.757891;138.095469
X-APPLE-STRUCTURED-LOCATION;VALUE=URI;X-ADDRESS=青葉台コミュニティセンター 青葉台１丁目12--2 菊川市 静岡県 439-0012 日本;X-APPLE-RADIUS=500;X-TITLE=青葉台１丁目12--2:geo:138.095469,34.757891
END:VEVENT
BEGIN:VEVENT
DTSTART;TZID=Asia/Tokyo:20230905T100000
DTEND;TZID=Asia/Tokyo:20230905T120000
DTSTAMP:20260421T184221
CREATED:20230406T140057Z
LAST-MODIFIED:20230406T140057Z
UID:17710-1693908000-1693915200@yuzuro.org
SUMMARY:公開講座「防犯・交通安全の講話と警察音楽隊の演奏」
DESCRIPTION:
URL:https://yuzuro.org/event/%e5%85%ac%e9%96%8b%e8%ac%9b%e5%ba%a7%e3%80%8c%e9%98%b2%e7%8a%af%e3%83%bb%e4%ba%a4%e9%80%9a%e5%ae%89%e5%85%a8%e3%81%ae%e8%ac%9b%e8%a9%b1%e3%81%a8%e8%ad%a6%e5%af%9f%e9%9f%b3%e6%a5%bd%e9%9a%8a%e3%81%ae/
LOCATION:青葉台コミュニティセンター\, 青葉台１丁目12--2\, 菊川市\, 静岡県\, 439-0012\, 日本
GEO:34.757891;138.095469
X-APPLE-STRUCTURED-LOCATION;VALUE=URI;X-ADDRESS=青葉台コミュニティセンター 青葉台１丁目12--2 菊川市 静岡県 439-0012 日本;X-APPLE-RADIUS=500;X-TITLE=青葉台１丁目12--2:geo:138.095469,34.757891
END:VEVENT
BEGIN:VEVENT
DTSTART;TZID=Asia/Tokyo:20230701T100000
DTEND;TZID=Asia/Tokyo:20230701T120000
DTSTAMP:20260421T184221
CREATED:20230406T135916Z
LAST-MODIFIED:20230406T135916Z
UID:17708-1688205600-1688212800@yuzuro.org
SUMMARY:七夕かざりづくり
DESCRIPTION:
URL:https://yuzuro.org/event/%e4%b8%83%e5%a4%95%e3%81%8b%e3%81%96%e3%82%8a%e3%81%a5%e3%81%8f%e3%82%8a/
LOCATION:青葉台コミュニティセンター\, 青葉台１丁目12--2\, 菊川市\, 静岡県\, 439-0012\, 日本
GEO:34.757891;138.095469
X-APPLE-STRUCTURED-LOCATION;VALUE=URI;X-ADDRESS=青葉台コミュニティセンター 青葉台１丁目12--2 菊川市 静岡県 439-0012 日本;X-APPLE-RADIUS=500;X-TITLE=青葉台１丁目12--2:geo:138.095469,34.757891
END:VEVENT
BEGIN:VEVENT
DTSTART;TZID=Asia/Tokyo:20230407T100000
DTEND;TZID=Asia/Tokyo:20230407T120000
DTSTAMP:20260421T184221
CREATED:20230406T135346Z
LAST-MODIFIED:20230406T135346Z
UID:17703-1680861600-1680868800@yuzuro.org
SUMMARY:開級式・出前講座「誤嚥性肺炎とその予防」
DESCRIPTION:
URL:https://yuzuro.org/event/%e9%96%8b%e7%b4%9a%e5%bc%8f%e3%83%bb%e5%87%ba%e5%89%8d%e8%ac%9b%e5%ba%a7%e3%80%8c%e8%aa%a4%e5%9a%a5%e6%80%a7%e8%82%ba%e7%82%8e%e3%81%a8%e3%81%9d%e3%81%ae%e4%ba%88%e9%98%b2%e3%80%8d/
LOCATION:青葉台コミュニティセンター\, 青葉台１丁目12--2\, 菊川市\, 静岡県\, 439-0012\, 日本
GEO:34.757891;138.095469
X-APPLE-STRUCTURED-LOCATION;VALUE=URI;X-ADDRESS=青葉台コミュニティセンター 青葉台１丁目12--2 菊川市 静岡県 439-0012 日本;X-APPLE-RADIUS=500;X-TITLE=青葉台１丁目12--2:geo:138.095469,34.757891
END:VEVENT
BEGIN:VEVENT
DTSTART;TZID=Asia/Tokyo:20220903T100000
DTEND;TZID=Asia/Tokyo:20220903T230000
DTSTAMP:20260421T184221
CREATED:20220825T120604Z
LAST-MODIFIED:20220825T120604Z
UID:17365-1662199200-1662246000@yuzuro.org
SUMMARY:昔ばなしの朗読と琴の演奏
DESCRIPTION:
URL:https://yuzuro.org/event/%e6%98%94%e3%81%b0%e3%81%aa%e3%81%97%e3%81%ae%e6%9c%97%e8%aa%ad%e3%81%a8%e7%90%b4%e3%81%ae%e6%bc%94%e5%a5%8f/
LOCATION:青葉台コミュニティセンター\, 青葉台１丁目12--2\, 菊川市\, 静岡県\, 439-0012\, 日本
GEO:34.757891;138.095469
X-APPLE-STRUCTURED-LOCATION;VALUE=URI;X-ADDRESS=青葉台コミュニティセンター 青葉台１丁目12--2 菊川市 静岡県 439-0012 日本;X-APPLE-RADIUS=500;X-TITLE=青葉台１丁目12--2:geo:138.095469,34.757891
END:VEVENT
BEGIN:VEVENT
DTSTART;TZID=Asia/Tokyo:20220702T100000
DTEND;TZID=Asia/Tokyo:20220702T113000
DTSTAMP:20260421T184221
CREATED:20220628T115319Z
LAST-MODIFIED:20220628T115319Z
UID:17318-1656756000-1656761400@yuzuro.org
SUMMARY:六郷地区成人講座七夕飾り作り
DESCRIPTION:
URL:https://yuzuro.org/event/%e5%85%ad%e9%83%b7%e5%9c%b0%e5%8c%ba%e6%88%90%e4%ba%ba%e8%ac%9b%e5%ba%a7%e4%b8%83%e5%a4%95%e9%a3%be%e3%82%8a%e4%bd%9c%e3%82%8a/
LOCATION:青葉台コミュニティセンター\, 青葉台１丁目12--2\, 菊川市\, 静岡県\, 439-0012\, 日本
GEO:34.757891;138.095469
X-APPLE-STRUCTURED-LOCATION;VALUE=URI;X-ADDRESS=青葉台コミュニティセンター 青葉台１丁目12--2 菊川市 静岡県 439-0012 日本;X-APPLE-RADIUS=500;X-TITLE=青葉台１丁目12--2:geo:138.095469,34.757891
END:VEVENT
BEGIN:VEVENT
DTSTART;TZID=Asia/Tokyo:20220409T100000
DTEND;TZID=Asia/Tokyo:20220409T110000
DTSTAMP:20260421T184221
CREATED:20220324T105657Z
LAST-MODIFIED:20220324T110140Z
UID:17091-1649498400-1649502000@yuzuro.org
SUMMARY:六郷地区成人講座　防犯講座
DESCRIPTION:
URL:https://yuzuro.org/event/%e5%85%ad%e9%83%b7%e5%9c%b0%e5%8c%ba%e6%88%90%e4%ba%ba%e8%ac%9b%e5%ba%a7%e3%80%80%e9%98%b2%e7%8a%af%e8%ac%9b%e5%ba%a7/
LOCATION:青葉台コミュニティセンター\, 青葉台１丁目12--2\, 菊川市\, 静岡県\, 439-0012\, 日本
GEO:34.757891;138.095469
X-APPLE-STRUCTURED-LOCATION;VALUE=URI;X-ADDRESS=青葉台コミュニティセンター 青葉台１丁目12--2 菊川市 静岡県 439-0012 日本;X-APPLE-RADIUS=500;X-TITLE=青葉台１丁目12--2:geo:138.095469,34.757891
END:VEVENT
BEGIN:VEVENT
DTSTART;TZID=Asia/Tokyo:20220305T100000
DTEND;TZID=Asia/Tokyo:20220305T230000
DTSTAMP:20260421T184221
CREATED:20210716T235218Z
LAST-MODIFIED:20210716T235218Z
UID:15770-1646474400-1646521200@yuzuro.org
SUMMARY:六郷地区成人講座「出前講座　あなたも心のサポーター　聞き上手　つなげ上手」・閉級式
DESCRIPTION:
URL:https://yuzuro.org/event/%e5%85%ad%e9%83%b7%e5%9c%b0%e5%8c%ba%e6%88%90%e4%ba%ba%e8%ac%9b%e5%ba%a7%e3%80%8c%e5%87%ba%e5%89%8d%e8%ac%9b%e5%ba%a7%e3%80%80%e3%81%82%e3%81%aa%e3%81%9f%e3%82%82%e5%bf%83%e3%81%ae%e3%82%b5%e3%83%9d/
LOCATION:青葉台コミュニティセンター\, 青葉台１丁目12--2\, 菊川市\, 静岡県\, 439-0012\, 日本
GEO:34.757891;138.095469
X-APPLE-STRUCTURED-LOCATION;VALUE=URI;X-ADDRESS=青葉台コミュニティセンター 青葉台１丁目12--2 菊川市 静岡県 439-0012 日本;X-APPLE-RADIUS=500;X-TITLE=青葉台１丁目12--2:geo:138.095469,34.757891
END:VEVENT
BEGIN:VEVENT
DTSTART;TZID=Asia/Tokyo:20220108T100000
DTEND;TZID=Asia/Tokyo:20220108T230000
DTSTAMP:20260421T184221
CREATED:20210716T234821Z
LAST-MODIFIED:20210716T234821Z
UID:15766-1641636000-1641682800@yuzuro.org
SUMMARY:六郷地区成人講座「郷土カルタ大会（青葉台読書会）」
DESCRIPTION:
URL:https://yuzuro.org/event/%e5%85%ad%e9%83%b7%e5%9c%b0%e5%8c%ba%e6%88%90%e4%ba%ba%e8%ac%9b%e5%ba%a7%e3%80%8c%e9%83%b7%e5%9c%9f%e3%82%ab%e3%83%ab%e3%82%bf%e5%a4%a7%e4%bc%9a%ef%bc%88%e9%9d%92%e8%91%89%e5%8f%b0%e8%aa%ad%e6%9b%b8/
LOCATION:青葉台コミュニティセンター\, 青葉台１丁目12--2\, 菊川市\, 静岡県\, 439-0012\, 日本
GEO:34.757891;138.095469
X-APPLE-STRUCTURED-LOCATION;VALUE=URI;X-ADDRESS=青葉台コミュニティセンター 青葉台１丁目12--2 菊川市 静岡県 439-0012 日本;X-APPLE-RADIUS=500;X-TITLE=青葉台１丁目12--2:geo:138.095469,34.757891
END:VEVENT
BEGIN:VEVENT
DTSTART;TZID=Asia/Tokyo:20211106T100000
DTEND;TZID=Asia/Tokyo:20211106T230000
DTSTAMP:20260421T184221
CREATED:20210716T234649Z
LAST-MODIFIED:20210716T234649Z
UID:15764-1636192800-1636239600@yuzuro.org
SUMMARY:六郷地区成人講座「出前講座　記憶の衰え防止講座・頭と体を使い物忘れ防止（社協）」
DESCRIPTION:
URL:https://yuzuro.org/event/%e5%85%ad%e9%83%b7%e5%9c%b0%e5%8c%ba%e6%88%90%e4%ba%ba%e8%ac%9b%e5%ba%a7%e3%80%8c%e5%87%ba%e5%89%8d%e8%ac%9b%e5%ba%a7%e3%80%80%e8%a8%98%e6%86%b6%e3%81%ae%e8%a1%b0%e3%81%88%e9%98%b2%e6%ad%a2%e8%ac%9b/
LOCATION:青葉台コミュニティセンター\, 青葉台１丁目12--2\, 菊川市\, 静岡県\, 439-0012\, 日本
GEO:34.757891;138.095469
X-APPLE-STRUCTURED-LOCATION;VALUE=URI;X-ADDRESS=青葉台コミュニティセンター 青葉台１丁目12--2 菊川市 静岡県 439-0012 日本;X-APPLE-RADIUS=500;X-TITLE=青葉台１丁目12--2:geo:138.095469,34.757891
END:VEVENT
BEGIN:VEVENT
DTSTART;TZID=Asia/Tokyo:20211002T100000
DTEND;TZID=Asia/Tokyo:20211002T230000
DTSTAMP:20260421T184221
CREATED:20210716T234427Z
LAST-MODIFIED:20210716T234427Z
UID:15762-1633168800-1633215600@yuzuro.org
SUMMARY:六郷地区成人講座「出前講座　ミニ健康講座と楽しいミニレクレーション（社協）」
DESCRIPTION:
URL:https://yuzuro.org/event/%e5%85%ad%e9%83%b7%e5%9c%b0%e5%8c%ba%e6%88%90%e4%ba%ba%e8%ac%9b%e5%ba%a7%e3%80%8c%e5%87%ba%e5%89%8d%e8%ac%9b%e5%ba%a7%e3%80%80%e3%83%9f%e3%83%8b%e5%81%a5%e5%ba%b7%e8%ac%9b%e5%ba%a7%e3%81%a8%e6%a5%bd/
LOCATION:青葉台コミュニティセンター\, 青葉台１丁目12--2\, 菊川市\, 静岡県\, 439-0012\, 日本
GEO:34.757891;138.095469
X-APPLE-STRUCTURED-LOCATION;VALUE=URI;X-ADDRESS=青葉台コミュニティセンター 青葉台１丁目12--2 菊川市 静岡県 439-0012 日本;X-APPLE-RADIUS=500;X-TITLE=青葉台１丁目12--2:geo:138.095469,34.757891
END:VEVENT
BEGIN:VEVENT
DTSTART;TZID=Asia/Tokyo:20210703T220000
DTEND;TZID=Asia/Tokyo:20210703T220000
DTSTAMP:20260421T184221
CREATED:20210716T234110Z
LAST-MODIFIED:20210716T234110Z
UID:15758-1625349600-1625349600@yuzuro.org
SUMMARY:六郷地区成人講座「七夕かざりづくり（青葉台読書会）」
DESCRIPTION:
URL:https://yuzuro.org/event/%e5%85%ad%e9%83%b7%e5%9c%b0%e5%8c%ba%e6%88%90%e4%ba%ba%e8%ac%9b%e5%ba%a7%e3%80%8c%e4%b8%83%e5%a4%95%e3%81%8b%e3%81%96%e3%82%8a%e3%81%a5%e3%81%8f%e3%82%8a%ef%bc%88%e9%9d%92%e8%91%89%e5%8f%b0%e8%aa%ad/
LOCATION:青葉台コミュニティセンター\, 青葉台１丁目12--2\, 菊川市\, 静岡県\, 439-0012\, 日本
GEO:34.757891;138.095469
X-APPLE-STRUCTURED-LOCATION;VALUE=URI;X-ADDRESS=青葉台コミュニティセンター 青葉台１丁目12--2 菊川市 静岡県 439-0012 日本;X-APPLE-RADIUS=500;X-TITLE=青葉台１丁目12--2:geo:138.095469,34.757891
END:VEVENT
BEGIN:VEVENT
DTSTART;TZID=Asia/Tokyo:20210409T100000
DTEND;TZID=Asia/Tokyo:20210409T230000
DTSTAMP:20260421T184221
CREATED:20210716T233927Z
LAST-MODIFIED:20210716T235425Z
UID:15756-1617962400-1618009200@yuzuro.org
SUMMARY:六郷地区成人講座「出前講座　家庭で行う感染予防（菊川病院）」・開級式
DESCRIPTION:
URL:https://yuzuro.org/event/%e5%85%ad%e9%83%b7%e5%9c%b0%e5%8c%ba%e6%88%90%e4%ba%ba%e5%ad%a6%e7%b4%9a%e3%80%8c%e5%87%ba%e5%89%8d%e8%ac%9b%e5%ba%a7%e3%80%80%e5%ae%b6%e5%ba%ad%e3%81%a7%e8%a1%8c%e3%81%86%e6%84%9f%e6%9f%93%e4%ba%88/
LOCATION:青葉台コミュニティセンター\, 青葉台１丁目12--2\, 菊川市\, 静岡県\, 439-0012\, 日本
GEO:34.757891;138.095469
X-APPLE-STRUCTURED-LOCATION;VALUE=URI;X-ADDRESS=青葉台コミュニティセンター 青葉台１丁目12--2 菊川市 静岡県 439-0012 日本;X-APPLE-RADIUS=500;X-TITLE=青葉台１丁目12--2:geo:138.095469,34.757891
END:VEVENT
BEGIN:VEVENT
DTSTART;TZID=Asia/Tokyo:20210109T093000
DTEND;TZID=Asia/Tokyo:20210109T113000
DTSTAMP:20260421T184221
CREATED:20201208T131440Z
LAST-MODIFIED:20201208T131440Z
UID:15092-1610184600-1610191800@yuzuro.org
SUMMARY:成人講座　ペタボード大会
DESCRIPTION:
URL:https://yuzuro.org/event/%e6%88%90%e4%ba%ba%e8%ac%9b%e5%ba%a7%e3%80%80%e3%83%9a%e3%82%bf%e3%83%9c%e3%83%bc%e3%83%89%e5%a4%a7%e4%bc%9a/
LOCATION:青葉台コミュニティセンター\, 青葉台１丁目12--2\, 菊川市\, 静岡県\, 439-0012\, 日本
GEO:34.757891;138.095469
X-APPLE-STRUCTURED-LOCATION;VALUE=URI;X-ADDRESS=青葉台コミュニティセンター 青葉台１丁目12--2 菊川市 静岡県 439-0012 日本;X-APPLE-RADIUS=500;X-TITLE=青葉台１丁目12--2:geo:138.095469,34.757891
END:VEVENT
BEGIN:VEVENT
DTSTART;TZID=Asia/Tokyo:20201205T100000
DTEND;TZID=Asia/Tokyo:20201205T113000
DTSTAMP:20260421T184221
CREATED:20201125T120418Z
LAST-MODIFIED:20201125T120418Z
UID:15071-1607162400-1607167800@yuzuro.org
SUMMARY:成人講座　楽器演奏を楽しむ
DESCRIPTION:
URL:https://yuzuro.org/event/%e6%88%90%e4%ba%ba%e8%ac%9b%e5%ba%a7%e3%80%80%e6%a5%bd%e5%99%a8%e6%bc%94%e5%a5%8f%e3%82%92%e6%a5%bd%e3%81%97%e3%82%80/
LOCATION:青葉台コミュニティセンター\, 青葉台１丁目12--2\, 菊川市\, 静岡県\, 439-0012\, 日本
GEO:34.757891;138.095469
X-APPLE-STRUCTURED-LOCATION;VALUE=URI;X-ADDRESS=青葉台コミュニティセンター 青葉台１丁目12--2 菊川市 静岡県 439-0012 日本;X-APPLE-RADIUS=500;X-TITLE=青葉台１丁目12--2:geo:138.095469,34.757891
END:VEVENT
BEGIN:VEVENT
DTSTART;TZID=Asia/Tokyo:20200606T100000
DTEND;TZID=Asia/Tokyo:20200606T113000
DTSTAMP:20260421T184221
CREATED:20200604T111442Z
LAST-MODIFIED:20200604T111442Z
UID:14502-1591437600-1591443000@yuzuro.org
SUMMARY:成人講座　開級式と出前講座
DESCRIPTION:出前講座は、「歌って笑って脳リフレッシュ」です。
URL:https://yuzuro.org/event/%e6%88%90%e4%ba%ba%e8%ac%9b%e5%ba%a7%e3%80%80%e9%96%8b%e7%b4%9a%e5%bc%8f%e3%81%a8%e5%87%ba%e5%89%8d%e8%ac%9b%e5%ba%a7/
LOCATION:青葉台コミュニティセンター\, 青葉台１丁目12--2\, 菊川市\, 静岡県\, 439-0012\, 日本
GEO:34.757891;138.095469
X-APPLE-STRUCTURED-LOCATION;VALUE=URI;X-ADDRESS=青葉台コミュニティセンター 青葉台１丁目12--2 菊川市 静岡県 439-0012 日本;X-APPLE-RADIUS=500;X-TITLE=青葉台１丁目12--2:geo:138.095469,34.757891
END:VEVENT
BEGIN:VEVENT
DTSTART;TZID=Asia/Tokyo:20200307T100000
DTEND;TZID=Asia/Tokyo:20200307T120000
DTSTAMP:20260421T184221
CREATED:20190519T113211Z
LAST-MODIFIED:20190519T113211Z
UID:12179-1583575200-1583582400@yuzuro.org
SUMMARY:六郷地区成人講座　絵本の朗読と琴の演奏で動揺を歌う
DESCRIPTION:
URL:https://yuzuro.org/event/%e5%85%ad%e9%83%b7%e5%9c%b0%e5%8c%ba%e6%88%90%e4%ba%ba%e8%ac%9b%e5%ba%a7%e3%80%80%e7%b5%b5%e6%9c%ac%e3%81%ae%e6%9c%97%e8%aa%ad%e3%81%a8%e7%90%b4%e3%81%ae%e6%bc%94%e5%a5%8f%e3%81%a7%e5%8b%95%e6%8f%ba/
LOCATION:青葉台コミュニティセンター\, 青葉台１丁目12--2\, 菊川市\, 静岡県\, 439-0012\, 日本
GEO:34.757891;138.095469
X-APPLE-STRUCTURED-LOCATION;VALUE=URI;X-ADDRESS=青葉台コミュニティセンター 青葉台１丁目12--2 菊川市 静岡県 439-0012 日本;X-APPLE-RADIUS=500;X-TITLE=青葉台１丁目12--2:geo:138.095469,34.757891
END:VEVENT
BEGIN:VEVENT
DTSTART;TZID=Asia/Tokyo:20200208T100000
DTEND;TZID=Asia/Tokyo:20200208T120000
DTSTAMP:20260421T184221
CREATED:20190519T113007Z
LAST-MODIFIED:20190519T113007Z
UID:12177-1581156000-1581163200@yuzuro.org
SUMMARY:六郷地区成人講座　健康講座
DESCRIPTION:2
URL:https://yuzuro.org/event/%e5%85%ad%e9%83%b7%e5%9c%b0%e5%8c%ba%e6%88%90%e4%ba%ba%e8%ac%9b%e5%ba%a7%e3%80%80%e5%81%a5%e5%ba%b7%e8%ac%9b%e5%ba%a7/
LOCATION:青葉台コミュニティセンター\, 青葉台１丁目12--2\, 菊川市\, 静岡県\, 439-0012\, 日本
GEO:34.757891;138.095469
X-APPLE-STRUCTURED-LOCATION;VALUE=URI;X-ADDRESS=青葉台コミュニティセンター 青葉台１丁目12--2 菊川市 静岡県 439-0012 日本;X-APPLE-RADIUS=500;X-TITLE=青葉台１丁目12--2:geo:138.095469,34.757891
END:VEVENT
BEGIN:VEVENT
DTSTART;TZID=Asia/Tokyo:20200111T100000
DTEND;TZID=Asia/Tokyo:20200111T120000
DTSTAMP:20260421T184221
CREATED:20190519T112735Z
LAST-MODIFIED:20190519T112735Z
UID:12175-1578736800-1578744000@yuzuro.org
SUMMARY:六郷地区成人講座　郷土かるた大会と鏡開き
DESCRIPTION:
URL:https://yuzuro.org/event/%e5%85%ad%e9%83%b7%e5%9c%b0%e5%8c%ba%e6%88%90%e4%ba%ba%e8%ac%9b%e5%ba%a7%e3%80%80%e9%83%b7%e5%9c%9f%e3%81%8b%e3%82%8b%e3%81%9f%e5%a4%a7%e4%bc%9a%e3%81%a8%e9%8f%a1%e9%96%8b%e3%81%8d/
LOCATION:青葉台コミュニティセンター\, 青葉台１丁目12--2\, 菊川市\, 静岡県\, 439-0012\, 日本
GEO:34.757891;138.095469
X-APPLE-STRUCTURED-LOCATION;VALUE=URI;X-ADDRESS=青葉台コミュニティセンター 青葉台１丁目12--2 菊川市 静岡県 439-0012 日本;X-APPLE-RADIUS=500;X-TITLE=青葉台１丁目12--2:geo:138.095469,34.757891
END:VEVENT
END:VCALENDAR