BEGIN:VCALENDAR
VERSION:2.0
PRODID:-//六郷まちづくり協議会 - ECPv6.0.12//NONSGML v1.0//EN
CALSCALE:GREGORIAN
METHOD:PUBLISH
X-WR-CALNAME:六郷まちづくり協議会
X-ORIGINAL-URL:https://yuzuro.org
X-WR-CALDESC:六郷まちづくり協議会 のイベント
REFRESH-INTERVAL;VALUE=DURATION:PT1H
X-Robots-Tag:noindex
X-PUBLISHED-TTL:PT1H
BEGIN:VTIMEZONE
TZID:Asia/Tokyo
BEGIN:STANDARD
TZOFFSETFROM:+0900
TZOFFSETTO:+0900
TZNAME:JST
DTSTART:20200101T000000
END:STANDARD
END:VTIMEZONE
BEGIN:VEVENT
DTSTART;TZID=Asia/Tokyo:20200602T190000
DTEND;TZID=Asia/Tokyo:20200602T210000
DTSTAMP:20260426T005508
CREATED:20200610T062611Z
LAST-MODIFIED:20200610T062619Z
UID:14535-1591124400-1591131600@yuzuro.org
SUMMARY:六郷まち協企画幹事会
DESCRIPTION:
URL:https://yuzuro.org/event/%e5%85%ad%e9%83%b7%e3%81%be%e3%81%a1%e5%8d%94%e4%bc%81%e7%94%bb%e5%b9%b9%e4%ba%8b%e4%bc%9a-2/2020-06-02/
LOCATION:青葉台コミュニティセンター\, 青葉台１丁目12--2\, 菊川市\, 静岡県\, 439-0012\, 日本
GEO:34.757891;138.095469
X-APPLE-STRUCTURED-LOCATION;VALUE=URI;X-ADDRESS=青葉台コミュニティセンター 青葉台１丁目12--2 菊川市 静岡県 439-0012 日本;X-APPLE-RADIUS=500;X-TITLE=青葉台１丁目12--2:geo:138.095469,34.757891
END:VEVENT
BEGIN:VEVENT
DTSTART;TZID=Asia/Tokyo:20200603T190000
DTEND;TZID=Asia/Tokyo:20200603T203000
DTSTAMP:20260426T005508
CREATED:20200206T043132Z
LAST-MODIFIED:20200407T054021Z
UID:13985-1591210800-1591216200@yuzuro.org
SUMMARY:パソコン寺子屋　通常授業(コロナウイルスのため延期)
DESCRIPTION:パソコン寺子屋　通常授業(開講式)をコロナウイルスのため延期します。
URL:https://yuzuro.org/event/%e3%83%91%e3%82%bd%e3%82%b3%e3%83%b3%e5%af%ba%e5%ad%90%e5%b1%8b%e3%80%80%e9%80%9a%e5%b8%b8%e6%8e%88%e6%a5%ad-5-2020-06-03/
LOCATION:青葉台コミュニティセンター\, 青葉台１丁目12--2\, 菊川市\, 静岡県\, 439-0012\, 日本
GEO:34.757891;138.095469
X-APPLE-STRUCTURED-LOCATION;VALUE=URI;X-ADDRESS=青葉台コミュニティセンター 青葉台１丁目12--2 菊川市 静岡県 439-0012 日本;X-APPLE-RADIUS=500;X-TITLE=青葉台１丁目12--2:geo:138.095469,34.757891
END:VEVENT
BEGIN:VEVENT
DTSTART;TZID=Asia/Tokyo:20200606T083000
DTEND;TZID=Asia/Tokyo:20200606T093000
DTSTAMP:20260426T005508
CREATED:20200311T030018Z
LAST-MODIFIED:20200413T143839Z
UID:14164-1591432200-1591435800@yuzuro.org
SUMMARY:ふれあい朝市青空サロンin青葉台（中止）
DESCRIPTION:新型コロナウィルス感染症感染拡大防止のため中止します。
URL:https://yuzuro.org/event/%e3%81%b5%e3%82%8c%e3%81%82%e3%81%84%e6%9c%9d%e5%b8%82%e9%9d%92%e7%a9%ba%e3%82%b5%e3%83%ad%e3%83%b3in%e9%9d%92%e8%91%89%e5%8f%b0-5/
END:VEVENT
BEGIN:VEVENT
DTSTART;TZID=Asia/Tokyo:20200606T100000
DTEND;TZID=Asia/Tokyo:20200606T113000
DTSTAMP:20260426T005508
CREATED:20200604T111442Z
LAST-MODIFIED:20200604T111442Z
UID:14502-1591437600-1591443000@yuzuro.org
SUMMARY:成人講座　開級式と出前講座
DESCRIPTION:出前講座は、「歌って笑って脳リフレッシュ」です。
URL:https://yuzuro.org/event/%e6%88%90%e4%ba%ba%e8%ac%9b%e5%ba%a7%e3%80%80%e9%96%8b%e7%b4%9a%e5%bc%8f%e3%81%a8%e5%87%ba%e5%89%8d%e8%ac%9b%e5%ba%a7/
LOCATION:青葉台コミュニティセンター\, 青葉台１丁目12--2\, 菊川市\, 静岡県\, 439-0012\, 日本
GEO:34.757891;138.095469
X-APPLE-STRUCTURED-LOCATION;VALUE=URI;X-ADDRESS=青葉台コミュニティセンター 青葉台１丁目12--2 菊川市 静岡県 439-0012 日本;X-APPLE-RADIUS=500;X-TITLE=青葉台１丁目12--2:geo:138.095469,34.757891
END:VEVENT
BEGIN:VEVENT
DTSTART;TZID=Asia/Tokyo:20200609T190000
DTEND;TZID=Asia/Tokyo:20200609T203000
DTSTAMP:20260426T005508
CREATED:20200610T061223Z
LAST-MODIFIED:20200610T061223Z
UID:14518-1591729200-1591734600@yuzuro.org
SUMMARY:ＨＰ運用委員会
DESCRIPTION:
URL:https://yuzuro.org/event/%ef%bd%88%ef%bd%90%e9%81%8b%e7%94%a8%e5%a7%94%e5%93%a1%e4%bc%9a-4/2020-06-09/
LOCATION:青葉台コミュニティセンター\, 青葉台１丁目12--2\, 菊川市\, 静岡県\, 439-0012\, 日本
GEO:34.757891;138.095469
X-APPLE-STRUCTURED-LOCATION;VALUE=URI;X-ADDRESS=青葉台コミュニティセンター 青葉台１丁目12--2 菊川市 静岡県 439-0012 日本;X-APPLE-RADIUS=500;X-TITLE=青葉台１丁目12--2:geo:138.095469,34.757891
END:VEVENT
BEGIN:VEVENT
DTSTART;TZID=Asia/Tokyo:20200615T193000
DTEND;TZID=Asia/Tokyo:20200615T210000
DTSTAMP:20260426T005508
CREATED:20200610T061754Z
LAST-MODIFIED:20200610T062038Z
UID:14525-1592249400-1592254800@yuzuro.org
SUMMARY:六郷地区連合自治会
DESCRIPTION:
URL:https://yuzuro.org/event/%e5%85%ad%e9%83%b7%e5%9c%b0%e5%8c%ba%e9%80%a3%e5%90%88%e8%87%aa%e6%b2%bb%e4%bc%9a/2020-06-15/
LOCATION:六郷地区センター\, 本所2406番地\, 菊川市\, 静岡県\, 439\, 日本
GEO:34.7469247;138.0977208
X-APPLE-STRUCTURED-LOCATION;VALUE=URI;X-ADDRESS=六郷地区センター 本所2406番地 菊川市 静岡県 439 日本;X-APPLE-RADIUS=500;X-TITLE=本所2406番地:geo:138.0977208,34.7469247
END:VEVENT
BEGIN:VEVENT
DTSTART;TZID=Asia/Tokyo:20200617T190000
DTEND;TZID=Asia/Tokyo:20200617T203000
DTSTAMP:20260426T005508
CREATED:20200206T043518Z
LAST-MODIFIED:20200407T054413Z
UID:13998-1592420400-1592425800@yuzuro.org
SUMMARY:パソコン寺子屋　通常授業(コロナウイルスのため延期)
DESCRIPTION:パソコン寺子屋　通常授業をコロナウイルスのため延期します。
URL:https://yuzuro.org/event/%e3%83%91%e3%82%bd%e3%82%b3%e3%83%b3%e5%af%ba%e5%ad%90%e5%b1%8b%e3%80%80%e9%80%9a%e5%b8%b8%e6%8e%88%e6%a5%ad-6-2020-06-17/
LOCATION:青葉台コミュニティセンター\, 青葉台１丁目12--2\, 菊川市\, 静岡県\, 439-0012\, 日本
GEO:34.757891;138.095469
X-APPLE-STRUCTURED-LOCATION;VALUE=URI;X-ADDRESS=青葉台コミュニティセンター 青葉台１丁目12--2 菊川市 静岡県 439-0012 日本;X-APPLE-RADIUS=500;X-TITLE=青葉台１丁目12--2:geo:138.095469,34.757891
END:VEVENT
BEGIN:VEVENT
DTSTART;TZID=Asia/Tokyo:20200620T083000
DTEND;TZID=Asia/Tokyo:20200620T093000
DTSTAMP:20260426T005508
CREATED:20200311T030436Z
LAST-MODIFIED:20200413T144057Z
UID:14168-1592641800-1592645400@yuzuro.org
SUMMARY:ふれあい朝市青空サロンin青葉台（中止）
DESCRIPTION:新型コロナウィルス感染症感染拡大防止のため中止します。
URL:https://yuzuro.org/event/%e3%81%b5%e3%82%8c%e3%81%82%e3%81%84%e6%9c%9d%e5%b8%82%e9%9d%92%e7%a9%ba%e3%82%b5%e3%83%ad%e3%83%b3in%e9%9d%92%e8%91%89%e5%8f%b0-6/
END:VEVENT
BEGIN:VEVENT
DTSTART;TZID=Asia/Tokyo:20200620T193000
DTEND;TZID=Asia/Tokyo:20200620T210000
DTSTAMP:20260426T005508
CREATED:20200610T062224Z
LAST-MODIFIED:20200610T062224Z
UID:14531-1592681400-1592686800@yuzuro.org
SUMMARY:六郷地区自主防災会
DESCRIPTION:
URL:https://yuzuro.org/event/%e5%85%ad%e9%83%b7%e5%9c%b0%e5%8c%ba%e8%87%aa%e4%b8%bb%e9%98%b2%e7%81%bd%e4%bc%9a/2020-06-20/
LOCATION:六郷地区センター\, 本所2406番地\, 菊川市\, 静岡県\, 439\, 日本
GEO:34.7469247;138.0977208
X-APPLE-STRUCTURED-LOCATION;VALUE=URI;X-ADDRESS=六郷地区センター 本所2406番地 菊川市 静岡県 439 日本;X-APPLE-RADIUS=500;X-TITLE=本所2406番地:geo:138.0977208,34.7469247
END:VEVENT
BEGIN:VEVENT
DTSTART;TZID=Asia/Tokyo:20200623T190000
DTEND;TZID=Asia/Tokyo:20200623T210000
DTSTAMP:20260426T005508
CREATED:20200604T111839Z
LAST-MODIFIED:20200604T111839Z
UID:14504-1592938800-1592946000@yuzuro.org
SUMMARY:活動研究会
DESCRIPTION:和田公園再生化、まちづくり協議会の運営方法改革について検討します。\n場所は六郷地区センターです。　間違えないでください。
URL:https://yuzuro.org/event/%e6%b4%bb%e5%8b%95%e7%a0%94%e7%a9%b6%e4%bc%9a-2/
LOCATION:六郷地区センター\, 菊川市本所\, 菊川市\, 静岡県
GEO:34.7490246;138.0903152
X-APPLE-STRUCTURED-LOCATION;VALUE=URI;X-ADDRESS=六郷地区センター 菊川市本所 菊川市 静岡県;X-APPLE-RADIUS=500;X-TITLE=菊川市本所:geo:138.0903152,34.7490246
END:VEVENT
BEGIN:VEVENT
DTSTART;TZID=Asia/Tokyo:20200625T093000
DTEND;TZID=Asia/Tokyo:20200625T120000
DTSTAMP:20260426T005508
CREATED:20200401T133754Z
LAST-MODIFIED:20200401T134958Z
UID:14279-1593077400-1593086400@yuzuro.org
SUMMARY:女性学級
DESCRIPTION:
URL:https://yuzuro.org/event/%e5%a5%b3%e6%80%a7%e5%ad%a6%e7%b4%9a-4-2020-06-28/
LOCATION:青葉台コミュニティセンター\, 青葉台１丁目12--2\, 菊川市\, 静岡県\, 439-0012\, 日本
GEO:34.757891;138.095469
X-APPLE-STRUCTURED-LOCATION;VALUE=URI;X-ADDRESS=青葉台コミュニティセンター 青葉台１丁目12--2 菊川市 静岡県 439-0012 日本;X-APPLE-RADIUS=500;X-TITLE=青葉台１丁目12--2:geo:138.095469,34.757891
END:VEVENT
END:VCALENDAR