BEGIN:VCALENDAR
VERSION:2.0
PRODID:-//六郷まちづくり協議会 - ECPv6.0.12//NONSGML v1.0//EN
CALSCALE:GREGORIAN
METHOD:PUBLISH
X-ORIGINAL-URL:https://yuzuro.org
X-WR-CALDESC:六郷まちづくり協議会 のイベント
REFRESH-INTERVAL;VALUE=DURATION:PT1H
X-Robots-Tag:noindex
X-PUBLISHED-TTL:PT1H
BEGIN:VTIMEZONE
TZID:Asia/Tokyo
BEGIN:STANDARD
TZOFFSETFROM:+0900
TZOFFSETTO:+0900
TZNAME:JST
DTSTART:20200101T000000
END:STANDARD
END:VTIMEZONE
BEGIN:VEVENT
DTSTART;TZID=Asia/Tokyo:20200703T193000
DTEND;TZID=Asia/Tokyo:20200703T210000
DTSTAMP:20260425T232304
CREATED:20200708T023100Z
LAST-MODIFIED:20201210T011543Z
UID:14637-1593804600-1593810000@yuzuro.org
SUMMARY:第1回スポーツ委員打合せ　中止
DESCRIPTION:年間行事について
URL:https://yuzuro.org/event/%e7%ac%ac1%e5%9b%9e%e3%82%b9%e3%83%9d%e3%83%bc%e3%83%84%e5%a7%94%e5%93%a1%e6%89%93%e5%90%88%e3%81%9b/
END:VEVENT
BEGIN:VEVENT
DTSTART;TZID=Asia/Tokyo:20200704T083000
DTEND;TZID=Asia/Tokyo:20200704T093000
DTSTAMP:20260425T232304
CREATED:20200311T030724Z
LAST-MODIFIED:20200311T030724Z
UID:14170-1593851400-1593855000@yuzuro.org
SUMMARY:ふれあい朝市青空サロンin青葉台
DESCRIPTION:
URL:https://yuzuro.org/event/%e3%81%b5%e3%82%8c%e3%81%82%e3%81%84%e6%9c%9d%e5%b8%82%e9%9d%92%e7%a9%ba%e3%82%b5%e3%83%ad%e3%83%b3in%e9%9d%92%e8%91%89%e5%8f%b0-7/
END:VEVENT
BEGIN:VEVENT
DTSTART;TZID=Asia/Tokyo:20200705T090000
DTEND;TZID=Asia/Tokyo:20200705T113000
DTSTAMP:20260425T232304
CREATED:20200708T023436Z
LAST-MODIFIED:20201210T011518Z
UID:14641-1593939600-1593948600@yuzuro.org
SUMMARY:六郷地区スポーツ教室　中止
DESCRIPTION:小学生限定
URL:https://yuzuro.org/event/%e5%85%ad%e9%83%b7%e5%9c%b0%e5%8c%ba%e3%82%b9%e3%83%9d%e3%83%bc%e3%83%84%e6%95%99%e5%ae%a4/
LOCATION:六郷小学校体育館
END:VEVENT
BEGIN:VEVENT
DTSTART;TZID=Asia/Tokyo:20200707T190000
DTEND;TZID=Asia/Tokyo:20200707T210000
DTSTAMP:20260425T232304
CREATED:20200610T062733Z
LAST-MODIFIED:20200610T062733Z
UID:14540-1594148400-1594155600@yuzuro.org
SUMMARY:六郷まち協企画幹事会
DESCRIPTION:
URL:https://yuzuro.org/event/%e5%85%ad%e9%83%b7%e3%81%be%e3%81%a1%e5%8d%94%e4%bc%81%e7%94%bb%e5%b9%b9%e4%ba%8b%e4%bc%9a-3/
LOCATION:六郷地区センター\, 本所2406番地\, 菊川市\, 静岡県\, 439\, 日本
GEO:34.7469247;138.0977208
X-APPLE-STRUCTURED-LOCATION;VALUE=URI;X-ADDRESS=六郷地区センター 本所2406番地 菊川市 静岡県 439 日本;X-APPLE-RADIUS=500;X-TITLE=本所2406番地:geo:138.0977208,34.7469247
END:VEVENT
BEGIN:VEVENT
DTSTART;TZID=Asia/Tokyo:20200712T090000
DTEND;TZID=Asia/Tokyo:20200712T113000
DTSTAMP:20260425T232304
CREATED:20200708T023632Z
LAST-MODIFIED:20201210T011459Z
UID:14645-1594544400-1594553400@yuzuro.org
SUMMARY:六郷地区スポーツ教室　中止
DESCRIPTION:小学生限定
URL:https://yuzuro.org/event/%e5%85%ad%e9%83%b7%e5%9c%b0%e5%8c%ba%e3%82%b9%e3%83%9d%e3%83%bc%e3%83%84%e6%95%99%e5%ae%a4-2/
LOCATION:六郷小学校体育館
END:VEVENT
BEGIN:VEVENT
DTSTART;TZID=Asia/Tokyo:20200718T083000
DTEND;TZID=Asia/Tokyo:20200718T093000
DTSTAMP:20260425T232304
CREATED:20200311T030921Z
LAST-MODIFIED:20200311T031142Z
UID:14172-1595061000-1595064600@yuzuro.org
SUMMARY:ふれあい朝市青空サロンin青葉台
DESCRIPTION:
URL:https://yuzuro.org/event/%e3%81%b5%e3%82%8c%e3%81%82%e3%81%84%e6%9c%9d%e5%b8%82%e9%9d%92%e7%a9%ba%e3%82%b5%e3%83%ad%e3%83%b3in%e9%9d%92%e8%91%89%e5%8f%b0-8/
END:VEVENT
BEGIN:VEVENT
DTSTART;TZID=Asia/Tokyo:20200722T133000
DTEND;TZID=Asia/Tokyo:20200722T160000
DTSTAMP:20260425T232304
CREATED:20200715T103925Z
LAST-MODIFIED:20200715T103942Z
UID:14773-1595424600-1595433600@yuzuro.org
SUMMARY:ＨＰ投稿研修
DESCRIPTION:
URL:https://yuzuro.org/event/%ef%bd%88%ef%bd%90%e6%8a%95%e7%a8%bf%e7%a0%94%e4%bf%ae/
LOCATION:青葉台コミュニティセンター\, 青葉台１丁目12--2\, 菊川市\, 静岡県\, 439-0012\, 日本
GEO:34.757891;138.095469
X-APPLE-STRUCTURED-LOCATION;VALUE=URI;X-ADDRESS=青葉台コミュニティセンター 青葉台１丁目12--2 菊川市 静岡県 439-0012 日本;X-APPLE-RADIUS=500;X-TITLE=青葉台１丁目12--2:geo:138.095469,34.757891
END:VEVENT
BEGIN:VEVENT
DTSTART;TZID=Asia/Tokyo:20200723T093000
DTEND;TZID=Asia/Tokyo:20200723T120000
DTSTAMP:20260425T232304
CREATED:20200401T133754Z
LAST-MODIFIED:20200401T134812Z
UID:14280-1595496600-1595505600@yuzuro.org
SUMMARY:女性学級
DESCRIPTION:
URL:https://yuzuro.org/event/%e5%a5%b3%e6%80%a7%e5%ad%a6%e7%b4%9a-4-2020-07-28/
LOCATION:青葉台コミュニティセンター\, 青葉台１丁目12--2\, 菊川市\, 静岡県\, 439-0012\, 日本
GEO:34.757891;138.095469
X-APPLE-STRUCTURED-LOCATION;VALUE=URI;X-ADDRESS=青葉台コミュニティセンター 青葉台１丁目12--2 菊川市 静岡県 439-0012 日本;X-APPLE-RADIUS=500;X-TITLE=青葉台１丁目12--2:geo:138.095469,34.757891
END:VEVENT
END:VCALENDAR