BEGIN:VCALENDAR
VERSION:2.0
PRODID:-//六郷まちづくり協議会 - ECPv6.0.12//NONSGML v1.0//EN
CALSCALE:GREGORIAN
METHOD:PUBLISH
X-WR-CALNAME:六郷まちづくり協議会
X-ORIGINAL-URL:https://yuzuro.org
X-WR-CALDESC:六郷まちづくり協議会 のイベント
REFRESH-INTERVAL;VALUE=DURATION:PT1H
X-Robots-Tag:noindex
X-PUBLISHED-TTL:PT1H
BEGIN:VTIMEZONE
TZID:Asia/Tokyo
BEGIN:STANDARD
TZOFFSETFROM:+0900
TZOFFSETTO:+0900
TZNAME:JST
DTSTART:20200101T000000
END:STANDARD
END:VTIMEZONE
BEGIN:VEVENT
DTSTART;TZID=Asia/Tokyo:20200801T083000
DTEND;TZID=Asia/Tokyo:20200801T093000
DTSTAMP:20260425T224726
CREATED:20200311T042017Z
LAST-MODIFIED:20200311T042017Z
UID:14204-1596270600-1596274200@yuzuro.org
SUMMARY:ふれあい朝市青空サロンin青葉台
DESCRIPTION:
URL:https://yuzuro.org/event/%e3%81%b5%e3%82%8c%e3%81%82%e3%81%84%e6%9c%9d%e5%b8%82%e9%9d%92%e7%a9%ba%e3%82%b5%e3%83%ad%e3%83%b3in%e9%9d%92%e8%91%89%e5%8f%b0-23/
END:VEVENT
BEGIN:VEVENT
DTSTART;TZID=Asia/Tokyo:20200802T090000
DTEND;TZID=Asia/Tokyo:20200802T110000
DTSTAMP:20260425T224726
CREATED:20200715T104429Z
LAST-MODIFIED:20200715T104440Z
UID:14779-1596358800-1596366000@yuzuro.org
SUMMARY:水鉄砲作り
DESCRIPTION:アエル企画・・回覧で募集中
URL:https://yuzuro.org/event/%e6%b0%b4%e9%89%84%e7%a0%b2%e4%bd%9c%e3%82%8a/
LOCATION:菊川文化会館アエル\, 静岡県菊川市本所2488-2
GEO:34.7436696;138.0930375
X-APPLE-STRUCTURED-LOCATION;VALUE=URI;X-ADDRESS=菊川文化会館アエル 静岡県菊川市本所2488-2;X-APPLE-RADIUS=500;X-TITLE=静岡県菊川市本所2488-2:geo:138.0930375,34.7436696
END:VEVENT
BEGIN:VEVENT
DTSTART;TZID=Asia/Tokyo:20200804T190000
DTEND;TZID=Asia/Tokyo:20200804T200000
DTSTAMP:20260425T224726
CREATED:20200715T232423Z
LAST-MODIFIED:20200715T232538Z
UID:14816-1596567600-1596571200@yuzuro.org
SUMMARY:パソコン寺子屋開講式
DESCRIPTION:パソコン寺子屋22期生開講式を開催致します。
URL:https://yuzuro.org/event/%e3%83%91%e3%82%bd%e3%82%b3%e3%83%b3%e5%af%ba%e5%ad%90%e5%b1%8b%e9%96%8b%e8%ac%9b%e5%bc%8f/
LOCATION:青葉台コミュニティセンター\, 青葉台１丁目12--2\, 菊川市\, 静岡県\, 439-0012\, 日本
GEO:34.757891;138.095469
X-APPLE-STRUCTURED-LOCATION;VALUE=URI;X-ADDRESS=青葉台コミュニティセンター 青葉台１丁目12--2 菊川市 静岡県 439-0012 日本;X-APPLE-RADIUS=500;X-TITLE=青葉台１丁目12--2:geo:138.095469,34.757891
END:VEVENT
BEGIN:VEVENT
DTSTART;TZID=Asia/Tokyo:20200805T190000
DTEND;TZID=Asia/Tokyo:20200805T203000
DTSTAMP:20260425T224726
CREATED:20200715T231317Z
LAST-MODIFIED:20200715T231317Z
UID:14783-1596654000-1596659400@yuzuro.org
SUMMARY:パソコン寺子屋通常授業（Aグループ）
DESCRIPTION:パソコン寺子屋通常授業（Aグループ）を開催致します。
URL:https://yuzuro.org/event/%e3%83%91%e3%82%bd%e3%82%b3%e3%83%b3%e5%af%ba%e5%ad%90%e5%b1%8b%e9%80%9a%e5%b8%b8%e6%8e%88%e6%a5%ad%ef%bc%88a%e3%82%b0%e3%83%ab%e3%83%bc%e3%83%97%ef%bc%89/2020-08-05/
LOCATION:青葉台コミュニティセンター\, 青葉台１丁目12--2\, 菊川市\, 静岡県\, 439-0012\, 日本
GEO:34.757891;138.095469
X-APPLE-STRUCTURED-LOCATION;VALUE=URI;X-ADDRESS=青葉台コミュニティセンター 青葉台１丁目12--2 菊川市 静岡県 439-0012 日本;X-APPLE-RADIUS=500;X-TITLE=青葉台１丁目12--2:geo:138.095469,34.757891
END:VEVENT
BEGIN:VEVENT
DTSTART;TZID=Asia/Tokyo:20200807T193000
DTEND;TZID=Asia/Tokyo:20200807T210000
DTSTAMP:20260425T224726
CREATED:20200708T023846Z
LAST-MODIFIED:20201210T011433Z
UID:14648-1596828600-1596834000@yuzuro.org
SUMMARY:第2回六郷地区スポーツ委員打合せ　中止
DESCRIPTION:地区スポーツ研究会について
URL:https://yuzuro.org/event/%e7%ac%ac2%e5%9b%9e%e5%85%ad%e9%83%b7%e5%9c%b0%e5%8c%ba%e3%82%b9%e3%83%9d%e3%83%bc%e3%83%84%e5%a7%94%e5%93%a1%e6%89%93%e5%90%88%e3%81%9b/
END:VEVENT
BEGIN:VEVENT
DTSTART;TZID=Asia/Tokyo:20200812T190000
DTEND;TZID=Asia/Tokyo:20200812T203000
DTSTAMP:20260425T224726
CREATED:20200715T232036Z
LAST-MODIFIED:20200715T232036Z
UID:14800-1597258800-1597264200@yuzuro.org
SUMMARY:パソコン寺子屋通常授業（Bグループ）
DESCRIPTION:パソコン寺子屋通常授業（Bグループ）を開催致します。
URL:https://yuzuro.org/event/%e3%83%91%e3%82%bd%e3%82%b3%e3%83%b3%e5%af%ba%e5%ad%90%e5%b1%8b%e9%80%9a%e5%b8%b8%e6%8e%88%e6%a5%ad%ef%bc%88b%e3%82%b0%e3%83%ab%e3%83%bc%e3%83%97%ef%bc%89/2020-08-12/
LOCATION:青葉台コミュニティセンター\, 青葉台１丁目12--2\, 菊川市\, 静岡県\, 439-0012\, 日本
GEO:34.757891;138.095469
X-APPLE-STRUCTURED-LOCATION;VALUE=URI;X-ADDRESS=青葉台コミュニティセンター 青葉台１丁目12--2 菊川市 静岡県 439-0012 日本;X-APPLE-RADIUS=500;X-TITLE=青葉台１丁目12--2:geo:138.095469,34.757891
END:VEVENT
BEGIN:VEVENT
DTSTART;TZID=Asia/Tokyo:20200815T083000
DTEND;TZID=Asia/Tokyo:20200815T093000
DTSTAMP:20260425T224726
CREATED:20200311T031806Z
LAST-MODIFIED:20200311T032402Z
UID:14174-1597480200-1597483800@yuzuro.org
SUMMARY:ふれあい朝市青空サロンin青葉台
DESCRIPTION:
URL:https://yuzuro.org/event/%e3%81%b5%e3%82%8c%e3%81%82%e3%81%84%e6%9c%9d%e5%b8%82%e9%9d%92%e7%a9%ba%e3%82%b5%e3%83%ad%e3%83%b3in%e9%9d%92%e8%91%89%e5%8f%b0-9/
END:VEVENT
BEGIN:VEVENT
DTSTART;TZID=Asia/Tokyo:20200823T090000
DTEND;TZID=Asia/Tokyo:20200823T120000
DTSTAMP:20260425T224726
CREATED:20200715T105355Z
LAST-MODIFIED:20200715T105401Z
UID:14781-1598173200-1598184000@yuzuro.org
SUMMARY:水鉄砲大会
DESCRIPTION:小学生、保育園、幼稚園　の生徒の皆さん募集中 \n1チーム　7名　参加費　　　　　　菊川運動公園 \n 
URL:https://yuzuro.org/event/%e6%b0%b4%e9%89%84%e7%a0%b2%e5%a4%a7%e4%bc%9a-2/
END:VEVENT
BEGIN:VEVENT
DTSTART;TZID=Asia/Tokyo:20200831T190000
DTEND;TZID=Asia/Tokyo:20200831T210000
DTSTAMP:20260425T224726
CREATED:20200817T111623Z
LAST-MODIFIED:20200817T111625Z
UID:14864-1598900400-1598907600@yuzuro.org
SUMMARY:六郷まち協地区センター部会
DESCRIPTION:
URL:https://yuzuro.org/event/%e5%85%ad%e9%83%b7%e3%81%be%e3%81%a1%e5%8d%94%e5%9c%b0%e5%8c%ba%e3%82%bb%e3%83%b3%e3%82%bf%e3%83%bc%e9%83%a8%e4%bc%9a/
LOCATION:六郷地区センター\, 本所2406番地\, 菊川市\, 静岡県\, 439\, 日本
GEO:34.7469247;138.0977208
X-APPLE-STRUCTURED-LOCATION;VALUE=URI;X-ADDRESS=六郷地区センター 本所2406番地 菊川市 静岡県 439 日本;X-APPLE-RADIUS=500;X-TITLE=本所2406番地:geo:138.0977208,34.7469247
END:VEVENT
END:VCALENDAR