BEGIN:VCALENDAR
VERSION:2.0
PRODID:-//六郷まちづくり協議会 - ECPv6.0.12//NONSGML v1.0//EN
CALSCALE:GREGORIAN
METHOD:PUBLISH
X-ORIGINAL-URL:https://yuzuro.org
X-WR-CALDESC:六郷まちづくり協議会 のイベント
REFRESH-INTERVAL;VALUE=DURATION:PT1H
X-Robots-Tag:noindex
X-PUBLISHED-TTL:PT1H
BEGIN:VTIMEZONE
TZID:Asia/Tokyo
BEGIN:STANDARD
TZOFFSETFROM:+0900
TZOFFSETTO:+0900
TZNAME:JST
DTSTART:20200101T000000
END:STANDARD
END:VTIMEZONE
BEGIN:VEVENT
DTSTART;TZID=Asia/Tokyo:20200901T190000
DTEND;TZID=Asia/Tokyo:20200901T210000
DTSTAMP:20260425T200745
CREATED:20200817T111144Z
LAST-MODIFIED:20200817T111149Z
UID:14861-1598986800-1598994000@yuzuro.org
SUMMARY:六郷まち協企画幹事会
DESCRIPTION:
URL:https://yuzuro.org/event/%e5%85%ad%e9%83%b7%e3%81%be%e3%81%a1%e5%8d%94%e4%bc%81%e7%94%bb%e5%b9%b9%e4%ba%8b%e4%bc%9a-4/
LOCATION:六郷地区センター\, 本所2406番地\, 菊川市\, 静岡県\, 439\, 日本
GEO:34.7469247;138.0977208
X-APPLE-STRUCTURED-LOCATION;VALUE=URI;X-ADDRESS=六郷地区センター 本所2406番地 菊川市 静岡県 439 日本;X-APPLE-RADIUS=500;X-TITLE=本所2406番地:geo:138.0977208,34.7469247
END:VEVENT
BEGIN:VEVENT
DTSTART;TZID=Asia/Tokyo:20200905T083000
DTEND;TZID=Asia/Tokyo:20200905T093000
DTSTAMP:20260425T200745
CREATED:20200311T032629Z
LAST-MODIFIED:20200311T032629Z
UID:14176-1599294600-1599298200@yuzuro.org
SUMMARY:ふれあい朝市青空サロンin青葉台
DESCRIPTION:
URL:https://yuzuro.org/event/%e3%81%b5%e3%82%8c%e3%81%82%e3%81%84%e6%9c%9d%e5%b8%82%e9%9d%92%e7%a9%ba%e3%82%b5%e3%83%ad%e3%83%b3in%e9%9d%92%e8%91%89%e5%8f%b0-10/
END:VEVENT
BEGIN:VEVENT
DTSTART;TZID=Asia/Tokyo:20200906T090000
DTEND;TZID=Asia/Tokyo:20200906T160000
DTSTAMP:20260425T200745
CREATED:20200708T024113Z
LAST-MODIFIED:20201210T011409Z
UID:14652-1599382800-1599408000@yuzuro.org
SUMMARY:第2回地区スポーツ研究会　中止
DESCRIPTION:
URL:https://yuzuro.org/event/%e7%ac%ac2%e5%9b%9e%e5%9c%b0%e5%8c%ba%e3%82%b9%e3%83%9d%e3%83%bc%e3%83%84%e7%a0%94%e7%a9%b6%e4%bc%9a-2/
END:VEVENT
BEGIN:VEVENT
DTSTART;TZID=Asia/Tokyo:20200915T193000
DTEND;TZID=Asia/Tokyo:20200915T210000
DTSTAMP:20260425T200745
CREATED:20200908T112502Z
LAST-MODIFIED:20200908T112506Z
UID:14872-1600198200-1600203600@yuzuro.org
SUMMARY:六郷地区連合自治会定例会
DESCRIPTION:
URL:https://yuzuro.org/event/%e5%85%ad%e9%83%b7%e5%9c%b0%e5%8c%ba%e9%80%a3%e5%90%88%e8%87%aa%e6%b2%bb%e4%bc%9a%e5%ae%9a%e4%be%8b%e4%bc%9a-16/
LOCATION:六郷地区センター\, 本所2406番地\, 菊川市\, 静岡県\, 439\, 日本
GEO:34.7469247;138.0977208
X-APPLE-STRUCTURED-LOCATION;VALUE=URI;X-ADDRESS=六郷地区センター 本所2406番地 菊川市 静岡県 439 日本;X-APPLE-RADIUS=500;X-TITLE=本所2406番地:geo:138.0977208,34.7469247
END:VEVENT
BEGIN:VEVENT
DTSTART;TZID=Asia/Tokyo:20200917T190000
DTEND;TZID=Asia/Tokyo:20200917T210000
DTSTAMP:20260425T200745
CREATED:20200908T112827Z
LAST-MODIFIED:20200908T112830Z
UID:14876-1600369200-1600376400@yuzuro.org
SUMMARY:六郷ふれあいフェスタ実行委員会
DESCRIPTION:
URL:https://yuzuro.org/event/%e5%85%ad%e9%83%b7%e3%81%b5%e3%82%8c%e3%81%82%e3%81%84%e3%83%95%e3%82%a7%e3%82%b9%e3%82%bf%e5%ae%9f%e8%a1%8c%e5%a7%94%e5%93%a1%e4%bc%9a/
LOCATION:六郷地区センター\, 本所2406番地\, 菊川市\, 静岡県\, 439\, 日本
GEO:34.7469247;138.0977208
X-APPLE-STRUCTURED-LOCATION;VALUE=URI;X-ADDRESS=六郷地区センター 本所2406番地 菊川市 静岡県 439 日本;X-APPLE-RADIUS=500;X-TITLE=本所2406番地:geo:138.0977208,34.7469247
END:VEVENT
BEGIN:VEVENT
DTSTART;TZID=Asia/Tokyo:20200919T083000
DTEND;TZID=Asia/Tokyo:20200919T093000
DTSTAMP:20260425T200745
CREATED:20200311T042603Z
LAST-MODIFIED:20200321T074830Z
UID:14206-1600504200-1600507800@yuzuro.org
SUMMARY:ふれあい朝市青空サロンin青葉台
DESCRIPTION:
URL:https://yuzuro.org/event/%e3%81%82%e3%81%8a%e3%81%b0%e3%81%a0%e3%81%84%e3%81%b5%e3%82%8c%e3%81%82%e3%81%84%e6%9c%9d%e5%b8%82%e9%9d%92%e7%a9%ba%e3%82%b5%e3%83%ad%e3%83%b3in%e9%9d%92%e8%91%89%e5%8f%b0/
END:VEVENT
BEGIN:VEVENT
DTSTART;TZID=Asia/Tokyo:20200920T083000
DTEND;TZID=Asia/Tokyo:20200920T140000
DTSTAMP:20260425T200745
CREATED:20200908T113229Z
LAST-MODIFIED:20200908T113233Z
UID:14878-1600590600-1600610400@yuzuro.org
SUMMARY:親子サイクリング＆フィッシング
DESCRIPTION:
URL:https://yuzuro.org/event/%e8%a6%aa%e5%ad%90%e3%82%b5%e3%82%a4%e3%82%af%e3%83%aa%e3%83%b3%e3%82%b0%ef%bc%86%e3%83%95%e3%82%a3%e3%83%83%e3%82%b7%e3%83%b3%e3%82%b0/
END:VEVENT
BEGIN:VEVENT
DTSTART;TZID=Asia/Tokyo:20200920T193000
DTEND;TZID=Asia/Tokyo:20200920T210000
DTSTAMP:20260425T200745
CREATED:20200908T112634Z
LAST-MODIFIED:20200908T112637Z
UID:14874-1600630200-1600635600@yuzuro.org
SUMMARY:六郷地区自主防災会
DESCRIPTION:
URL:https://yuzuro.org/event/%e5%85%ad%e9%83%b7%e5%9c%b0%e5%8c%ba%e8%87%aa%e4%b8%bb%e9%98%b2%e7%81%bd%e4%bc%9a-2/
LOCATION:六郷地区センター\, 本所2406番地\, 菊川市\, 静岡県\, 439\, 日本
GEO:34.7469247;138.0977208
X-APPLE-STRUCTURED-LOCATION;VALUE=URI;X-ADDRESS=六郷地区センター 本所2406番地 菊川市 静岡県 439 日本;X-APPLE-RADIUS=500;X-TITLE=本所2406番地:geo:138.0977208,34.7469247
END:VEVENT
BEGIN:VEVENT
DTSTART;TZID=Asia/Tokyo:20200924T093000
DTEND;TZID=Asia/Tokyo:20200924T120000
DTSTAMP:20260425T200745
CREATED:20200401T133754Z
LAST-MODIFIED:20200401T134504Z
UID:14282-1600939800-1600948800@yuzuro.org
SUMMARY:女性学級
DESCRIPTION:
URL:https://yuzuro.org/event/%e5%a5%b3%e6%80%a7%e5%ad%a6%e7%b4%9a-4-2020-09-28/
LOCATION:青葉台コミュニティセンター\, 青葉台１丁目12--2\, 菊川市\, 静岡県\, 439-0012\, 日本
GEO:34.757891;138.095469
X-APPLE-STRUCTURED-LOCATION;VALUE=URI;X-ADDRESS=青葉台コミュニティセンター 青葉台１丁目12--2 菊川市 静岡県 439-0012 日本;X-APPLE-RADIUS=500;X-TITLE=青葉台１丁目12--2:geo:138.095469,34.757891
END:VEVENT
BEGIN:VEVENT
DTSTART;TZID=Asia/Tokyo:20200929T190000
DTEND;TZID=Asia/Tokyo:20200929T210000
DTSTAMP:20260425T200745
CREATED:20200916T065319Z
LAST-MODIFIED:20200916T065319Z
UID:14902-1601406000-1601413200@yuzuro.org
SUMMARY:活動研究会
DESCRIPTION:
URL:https://yuzuro.org/event/%e6%b4%bb%e5%8b%95%e7%a0%94%e7%a9%b6%e4%bc%9a-3/
LOCATION:青葉台コミュニティセンター\, 青葉台１丁目12--2\, 菊川市\, 静岡県\, 439-0012\, 日本
GEO:34.757891;138.095469
X-APPLE-STRUCTURED-LOCATION;VALUE=URI;X-ADDRESS=青葉台コミュニティセンター 青葉台１丁目12--2 菊川市 静岡県 439-0012 日本;X-APPLE-RADIUS=500;X-TITLE=青葉台１丁目12--2:geo:138.095469,34.757891
END:VEVENT
END:VCALENDAR