BEGIN:VCALENDAR
VERSION:2.0
PRODID:-//六郷まちづくり協議会 - ECPv6.0.12//NONSGML v1.0//EN
CALSCALE:GREGORIAN
METHOD:PUBLISH
X-ORIGINAL-URL:https://yuzuro.org
X-WR-CALDESC:六郷まちづくり協議会 のイベント
REFRESH-INTERVAL;VALUE=DURATION:PT1H
X-Robots-Tag:noindex
X-PUBLISHED-TTL:PT1H
BEGIN:VTIMEZONE
TZID:Asia/Tokyo
BEGIN:STANDARD
TZOFFSETFROM:+0900
TZOFFSETTO:+0900
TZNAME:JST
DTSTART:20210101T000000
END:STANDARD
END:VTIMEZONE
BEGIN:VEVENT
DTSTART;TZID=Asia/Tokyo:20210504T083000
DTEND;TZID=Asia/Tokyo:20210504T123000
DTSTAMP:20260425T093135
CREATED:20210717T010510Z
LAST-MODIFIED:20210717T010510Z
UID:15779-1620117000-1620131400@yuzuro.org
SUMMARY:牛渕ふれあい市民農園「区画拡大整備」
DESCRIPTION:
URL:https://yuzuro.org/event/%e7%89%9b%e6%b8%95%e3%81%b5%e3%82%8c%e3%81%82%e3%81%84%e5%b8%82%e6%b0%91%e8%be%b2%e5%9c%92%e3%80%8c%e5%8c%ba%e7%94%bb%e6%8b%a1%e5%a4%a7%e6%95%b4%e5%82%99%e3%80%8d/
LOCATION:牛渕ふれあい市民農園
END:VEVENT
BEGIN:VEVENT
DTSTART;TZID=Asia/Tokyo:20210504T190000
DTEND;TZID=Asia/Tokyo:20210504T210000
DTSTAMP:20260425T093135
CREATED:20210210T020131Z
LAST-MODIFIED:20210210T020131Z
UID:15309-1620154800-1620162000@yuzuro.org
SUMMARY:六郷まちづくり協議会企画幹事会
DESCRIPTION:
URL:https://yuzuro.org/event/%e5%85%ad%e9%83%b7%e3%81%be%e3%81%a1%e3%81%a5%e3%81%8f%e3%82%8a%e5%8d%94%e8%ad%b0%e4%bc%9a%e4%bc%81%e7%94%bb%e5%b9%b9%e4%ba%8b%e4%bc%9a-11/
LOCATION:六郷地区センター\, 菊川市本所\, 菊川市\, 静岡県
GEO:34.7490246;138.0903152
X-APPLE-STRUCTURED-LOCATION;VALUE=URI;X-ADDRESS=六郷地区センター 菊川市本所 菊川市 静岡県;X-APPLE-RADIUS=500;X-TITLE=菊川市本所:geo:138.0903152,34.7490246
END:VEVENT
BEGIN:VEVENT
DTSTART;TZID=Asia/Tokyo:20210511T190000
DTEND;TZID=Asia/Tokyo:20210511T210000
DTSTAMP:20260425T093135
CREATED:20210210T004034Z
LAST-MODIFIED:20210210T004034Z
UID:15300-1620759600-1620766800@yuzuro.org
SUMMARY:六郷まちづくり協議会総会
DESCRIPTION:
URL:https://yuzuro.org/event/%e5%85%ad%e9%83%b7%e3%81%be%e3%81%a1%e3%81%a5%e3%81%8f%e3%82%8a%e5%8d%94%e8%ad%b0%e4%bc%9a%e7%b7%8f%e4%bc%9a/
LOCATION:六郷地区センター\, 菊川市本所\, 菊川市\, 静岡県
GEO:34.7490246;138.0903152
X-APPLE-STRUCTURED-LOCATION;VALUE=URI;X-ADDRESS=六郷地区センター 菊川市本所 菊川市 静岡県;X-APPLE-RADIUS=500;X-TITLE=菊川市本所:geo:138.0903152,34.7490246
END:VEVENT
BEGIN:VEVENT
DTSTART;TZID=Asia/Tokyo:20210515T193000
DTEND;TZID=Asia/Tokyo:20210515T210000
DTSTAMP:20260425T093135
CREATED:20210210T004225Z
LAST-MODIFIED:20210210T004225Z
UID:15302-1621107000-1621112400@yuzuro.org
SUMMARY:六郷地区連合自治会定例会
DESCRIPTION:
URL:https://yuzuro.org/event/%e5%85%ad%e9%83%b7%e5%9c%b0%e5%8c%ba%e9%80%a3%e5%90%88%e8%87%aa%e6%b2%bb%e4%bc%9a%e5%ae%9a%e4%be%8b%e4%bc%9a-24/
LOCATION:六郷地区センター\, 菊川市本所\, 菊川市\, 静岡県
GEO:34.7490246;138.0903152
X-APPLE-STRUCTURED-LOCATION;VALUE=URI;X-ADDRESS=六郷地区センター 菊川市本所 菊川市 静岡県;X-APPLE-RADIUS=500;X-TITLE=菊川市本所:geo:138.0903152,34.7490246
END:VEVENT
BEGIN:VEVENT
DTSTART;TZID=Asia/Tokyo:20210520T193000
DTEND;TZID=Asia/Tokyo:20210520T210000
DTSTAMP:20260425T093135
CREATED:20210210T004531Z
LAST-MODIFIED:20210210T004531Z
UID:15304-1621539000-1621544400@yuzuro.org
SUMMARY:六郷地区防災会定例会
DESCRIPTION:
URL:https://yuzuro.org/event/%e5%85%ad%e9%83%b7%e5%9c%b0%e5%8c%ba%e9%98%b2%e7%81%bd%e4%bc%9a%e5%ae%9a%e4%be%8b%e4%bc%9a-9/
LOCATION:六郷地区センター\, 菊川市本所\, 菊川市\, 静岡県
GEO:34.7490246;138.0903152
X-APPLE-STRUCTURED-LOCATION;VALUE=URI;X-ADDRESS=六郷地区センター 菊川市本所 菊川市 静岡県;X-APPLE-RADIUS=500;X-TITLE=菊川市本所:geo:138.0903152,34.7490246
END:VEVENT
BEGIN:VEVENT
DTSTART;TZID=Asia/Tokyo:20210527T093000
DTEND;TZID=Asia/Tokyo:20210527T233000
DTSTAMP:20260425T093135
CREATED:20210716T120038Z
LAST-MODIFIED:20210716T120038Z
UID:15752-1622107800-1622158200@yuzuro.org
SUMMARY:六郷地区女性学級「お久しぶり　楽しく歌遊び・手遊び」
DESCRIPTION:
URL:https://yuzuro.org/event/%e5%85%ad%e9%83%b7%e5%9c%b0%e5%8c%ba%e5%a5%b3%e6%80%a7%e5%ad%a6%e7%b4%9a%e3%80%8c%e3%81%8a%e4%b9%85%e3%81%97%e3%81%b6%e3%82%8a%e3%80%80%e6%a5%bd%e3%81%97%e3%81%8f%e6%ad%8c%e9%81%8a%e3%81%b3%e3%83%bb/
LOCATION:青葉台コミュニティセンター\, 青葉台１丁目12--2\, 菊川市\, 静岡県\, 439-0012\, 日本
GEO:34.757891;138.095469
X-APPLE-STRUCTURED-LOCATION;VALUE=URI;X-ADDRESS=青葉台コミュニティセンター 青葉台１丁目12--2 菊川市 静岡県 439-0012 日本;X-APPLE-RADIUS=500;X-TITLE=青葉台１丁目12--2:geo:138.095469,34.757891
END:VEVENT
BEGIN:VEVENT
DTSTART;TZID=Asia/Tokyo:20210529T080000
DTEND;TZID=Asia/Tokyo:20210529T123000
DTSTAMP:20260425T093135
CREATED:20210717T000131Z
LAST-MODIFIED:20210717T010051Z
UID:15775-1622275200-1622291400@yuzuro.org
SUMMARY:牛渕ふれあい市民農園「草刈り」
DESCRIPTION:
URL:https://yuzuro.org/event/%e7%89%9b%e6%b8%95%e3%81%b5%e3%82%8c%e3%81%82%e3%81%84%e5%b8%82%e6%b0%91%e8%be%b2%e5%9c%92%e3%80%8c%e8%8d%89%e5%88%88%e3%82%8a%e3%80%8d/
LOCATION:牛渕ふれあい市民農園
END:VEVENT
BEGIN:VEVENT
DTSTART;TZID=Asia/Tokyo:20210530T080000
DTEND;TZID=Asia/Tokyo:20210530T123000
DTSTAMP:20260425T093135
CREATED:20210717T000303Z
LAST-MODIFIED:20210717T000303Z
UID:15777-1622361600-1622377800@yuzuro.org
SUMMARY:牛渕ふれあい市民農園「草刈り」
DESCRIPTION:
URL:https://yuzuro.org/event/%e7%89%9b%e6%b8%95%e3%81%b5%e3%82%8c%e3%81%82%e3%81%84%e5%b8%82%e6%b0%91%e8%be%b2%e5%9c%92%e3%80%8c%e8%8d%89%e5%88%88%e3%82%8a%e3%80%8d-2/
LOCATION:牛渕ふれあい市民農園
END:VEVENT
END:VCALENDAR