BEGIN:VCALENDAR
VERSION:2.0
PRODID:-//六郷まちづくり協議会 - ECPv6.0.12//NONSGML v1.0//EN
CALSCALE:GREGORIAN
METHOD:PUBLISH
X-WR-CALNAME:六郷まちづくり協議会
X-ORIGINAL-URL:https://yuzuro.org
X-WR-CALDESC:六郷まちづくり協議会 のイベント
REFRESH-INTERVAL;VALUE=DURATION:PT1H
X-Robots-Tag:noindex
X-PUBLISHED-TTL:PT1H
BEGIN:VTIMEZONE
TZID:Asia/Tokyo
BEGIN:STANDARD
TZOFFSETFROM:+0900
TZOFFSETTO:+0900
TZNAME:JST
DTSTART:20220101T000000
END:STANDARD
END:VTIMEZONE
BEGIN:VEVENT
DTSTART;TZID=Asia/Tokyo:20220108T100000
DTEND;TZID=Asia/Tokyo:20220108T230000
DTSTAMP:20260424T221817
CREATED:20210716T234821Z
LAST-MODIFIED:20210716T234821Z
UID:15766-1641636000-1641682800@yuzuro.org
SUMMARY:六郷地区成人講座「郷土カルタ大会（青葉台読書会）」
DESCRIPTION:
URL:https://yuzuro.org/event/%e5%85%ad%e9%83%b7%e5%9c%b0%e5%8c%ba%e6%88%90%e4%ba%ba%e8%ac%9b%e5%ba%a7%e3%80%8c%e9%83%b7%e5%9c%9f%e3%82%ab%e3%83%ab%e3%82%bf%e5%a4%a7%e4%bc%9a%ef%bc%88%e9%9d%92%e8%91%89%e5%8f%b0%e8%aa%ad%e6%9b%b8/
LOCATION:青葉台コミュニティセンター\, 青葉台１丁目12--2\, 菊川市\, 静岡県\, 439-0012\, 日本
GEO:34.757891;138.095469
X-APPLE-STRUCTURED-LOCATION;VALUE=URI;X-ADDRESS=青葉台コミュニティセンター 青葉台１丁目12--2 菊川市 静岡県 439-0012 日本;X-APPLE-RADIUS=500;X-TITLE=青葉台１丁目12--2:geo:138.095469,34.757891
END:VEVENT
BEGIN:VEVENT
DTSTART;TZID=Asia/Tokyo:20220109T190000
DTEND;TZID=Asia/Tokyo:20220109T203000
DTSTAMP:20260424T221817
CREATED:20211214T171857Z
LAST-MODIFIED:20211214T171857Z
UID:16586-1641754800-1641760200@yuzuro.org
SUMMARY:六郷地区スポーツ教室(3回目)
DESCRIPTION:例年のスポーツ教室は、スポーツ委員及び一般区民が集まり行っていましたが、コロナの影響により体育館使用に人数制限があるため、本年度はスポーツ委員のみで3回に分けて開催します。
URL:https://yuzuro.org/event/%e5%85%ad%e9%83%b7%e5%9c%b0%e5%8c%ba%e3%82%b9%e3%83%9d%e3%83%bc%e3%83%84%e6%95%99%e5%ae%a43%e5%9b%9e%e7%9b%ae/
LOCATION:六郷小学校体育館
END:VEVENT
BEGIN:VEVENT
DTSTART;TZID=Asia/Tokyo:20220115T083000
DTEND;TZID=Asia/Tokyo:20220115T093000
DTSTAMP:20260424T221817
CREATED:20211214T173011Z
LAST-MODIFIED:20211214T173011Z
UID:16592-1642235400-1642239000@yuzuro.org
SUMMARY:ふれあい朝市青空サロンin青葉台
DESCRIPTION:
URL:https://yuzuro.org/event/%e3%81%b5%e3%82%8c%e3%81%82%e3%81%84%e6%9c%9d%e5%b8%82%e9%9d%92%e7%a9%ba%e3%82%b5%e3%83%ad%e3%83%b3in%e9%9d%92%e8%91%89%e5%8f%b0-30/
LOCATION:青葉台コミュニティセンター　三角公園\, 青葉台1丁目12-2\, 菊川市\, 439-0012\, 日本
GEO:34.7578718;138.0954247
X-APPLE-STRUCTURED-LOCATION;VALUE=URI;X-ADDRESS=青葉台コミュニティセンター　三角公園 青葉台1丁目12-2 菊川市 439-0012 日本;X-APPLE-RADIUS=500;X-TITLE=青葉台1丁目12-2:geo:138.0954247,34.7578718
END:VEVENT
BEGIN:VEVENT
DTSTART;TZID=Asia/Tokyo:20220115T193000
DTEND;TZID=Asia/Tokyo:20220115T210000
DTSTAMP:20260424T221817
CREATED:20211214T113318Z
LAST-MODIFIED:20211214T113318Z
UID:16572-1642275000-1642280400@yuzuro.org
SUMMARY:六郷地区連合自治会定例会
DESCRIPTION:
URL:https://yuzuro.org/event/%e5%85%ad%e9%83%b7%e5%9c%b0%e5%8c%ba%e9%80%a3%e5%90%88%e8%87%aa%e6%b2%bb%e4%bc%9a%e5%ae%9a%e4%be%8b%e4%bc%9a-6/
LOCATION:六郷地区センター\, 本所2406番地\, 菊川市\, 静岡県\, 439\, 日本
GEO:34.7469247;138.0977208
X-APPLE-STRUCTURED-LOCATION;VALUE=URI;X-ADDRESS=六郷地区センター 本所2406番地 菊川市 静岡県 439 日本;X-APPLE-RADIUS=500;X-TITLE=本所2406番地:geo:138.0977208,34.7469247
END:VEVENT
BEGIN:VEVENT
DTSTART;TZID=Asia/Tokyo:20220120T190000
DTEND;TZID=Asia/Tokyo:20220120T210000
DTSTAMP:20260424T221817
CREATED:20211214T113553Z
LAST-MODIFIED:20211214T113553Z
UID:16574-1642705200-1642712400@yuzuro.org
SUMMARY:六郷地区防災会定例会
DESCRIPTION:
URL:https://yuzuro.org/event/%e5%85%ad%e9%83%b7%e5%9c%b0%e5%8c%ba%e9%98%b2%e7%81%bd%e4%bc%9a%e5%ae%9a%e4%be%8b%e4%bc%9a-14/
LOCATION:六郷地区センター\, 本所2406番地\, 菊川市\, 静岡県\, 439\, 日本
GEO:34.7469247;138.0977208
X-APPLE-STRUCTURED-LOCATION;VALUE=URI;X-ADDRESS=六郷地区センター 本所2406番地 菊川市 静岡県 439 日本;X-APPLE-RADIUS=500;X-TITLE=本所2406番地:geo:138.0977208,34.7469247
END:VEVENT
BEGIN:VEVENT
DTSTART;TZID=Asia/Tokyo:20220127T093000
DTEND;TZID=Asia/Tokyo:20220127T113000
DTSTAMP:20260424T221817
CREATED:20210716T113650Z
LAST-MODIFIED:20210716T115338Z
UID:15742-1643275800-1643283000@yuzuro.org
SUMMARY:六郷地区女性学級「出前講座　初代静岡県知事　関口隆吉さん　どんな人」
DESCRIPTION:
URL:https://yuzuro.org/event/%e5%85%ad%e9%83%b7%e5%9c%b0%e5%8c%ba%e5%a5%b3%e6%80%a7%e5%ad%a6%e7%b4%9a%e3%80%8c%e5%87%ba%e5%89%8d%e8%ac%9b%e5%ba%a7%e3%80%80%e5%88%9d%e4%bb%a3%e9%9d%99%e5%b2%a1%e7%9c%8c%e7%9f%a5%e4%ba%8b%e3%80%80/
LOCATION:青葉台コミュニティセンター\, 青葉台１丁目12--2\, 菊川市\, 静岡県\, 439-0012\, 日本
GEO:34.757891;138.095469
X-APPLE-STRUCTURED-LOCATION;VALUE=URI;X-ADDRESS=青葉台コミュニティセンター 青葉台１丁目12--2 菊川市 静岡県 439-0012 日本;X-APPLE-RADIUS=500;X-TITLE=青葉台１丁目12--2:geo:138.095469,34.757891
END:VEVENT
END:VCALENDAR