BEGIN:VCALENDAR
VERSION:2.0
PRODID:-//六郷まちづくり協議会 - ECPv6.0.12//NONSGML v1.0//EN
CALSCALE:GREGORIAN
METHOD:PUBLISH
X-WR-CALNAME:六郷まちづくり協議会
X-ORIGINAL-URL:https://yuzuro.org
X-WR-CALDESC:六郷まちづくり協議会 のイベント
REFRESH-INTERVAL;VALUE=DURATION:PT1H
X-Robots-Tag:noindex
X-PUBLISHED-TTL:PT1H
BEGIN:VTIMEZONE
TZID:Asia/Tokyo
BEGIN:STANDARD
TZOFFSETFROM:+0900
TZOFFSETTO:+0900
TZNAME:JST
DTSTART:20220101T000000
END:STANDARD
END:VTIMEZONE
BEGIN:VEVENT
DTSTART;TZID=Asia/Tokyo:20220402T083000
DTEND;TZID=Asia/Tokyo:20220402T093000
DTSTAMP:20260424T174046
CREATED:20220102T052232Z
LAST-MODIFIED:20220102T052232Z
UID:16638-1648888200-1648891800@yuzuro.org
SUMMARY:ふれあい朝市青空サロンin青葉台
DESCRIPTION:
URL:https://yuzuro.org/event/%e3%81%b5%e3%82%8c%e3%81%82%e3%81%84%e6%9c%9d%e5%b8%82%e9%9d%92%e7%a9%ba%e3%82%b5%e3%83%ad%e3%83%b3in%e9%9d%92%e8%91%89%e5%8f%b0-35/
LOCATION:青葉台コミュニティセンター　三角公園\, 青葉台1丁目12-2\, 菊川市\, 439-0012\, 日本
GEO:34.7578718;138.0954247
X-APPLE-STRUCTURED-LOCATION;VALUE=URI;X-ADDRESS=青葉台コミュニティセンター　三角公園 青葉台1丁目12-2 菊川市 439-0012 日本;X-APPLE-RADIUS=500;X-TITLE=青葉台1丁目12-2:geo:138.0954247,34.7578718
END:VEVENT
BEGIN:VEVENT
DTSTART;TZID=Asia/Tokyo:20220405T190000
DTEND;TZID=Asia/Tokyo:20220405T200000
DTSTAMP:20260424T174046
CREATED:20220324T105422Z
LAST-MODIFIED:20220324T105422Z
UID:17087-1649185200-1649188800@yuzuro.org
SUMMARY:六郷まちづくり協議会定例会
DESCRIPTION:
URL:https://yuzuro.org/event/%e5%85%ad%e9%83%b7%e3%81%be%e3%81%a1%e3%81%a5%e3%81%8f%e3%82%8a%e5%8d%94%e8%ad%b0%e4%bc%9a%e5%ae%9a%e4%be%8b%e4%bc%9a-4/
LOCATION:六郷地区センター\, 菊川市本所\, 菊川市\, 静岡県
GEO:34.7490246;138.0903152
X-APPLE-STRUCTURED-LOCATION;VALUE=URI;X-ADDRESS=六郷地区センター 菊川市本所 菊川市 静岡県;X-APPLE-RADIUS=500;X-TITLE=菊川市本所:geo:138.0903152,34.7490246
END:VEVENT
BEGIN:VEVENT
DTSTART;TZID=Asia/Tokyo:20220406T190000
DTEND;TZID=Asia/Tokyo:20220406T203000
DTSTAMP:20260424T174046
CREATED:20220314T052136Z
LAST-MODIFIED:20220314T052420Z
UID:16758-1649271600-1649277000@yuzuro.org
SUMMARY:パソコン寺子屋　通常授業
DESCRIPTION:パソコン寺子屋　通常授業を開催します。
URL:https://yuzuro.org/event/%e3%83%91%e3%82%bd%e3%82%b3%e3%83%b3%e5%af%ba%e5%ad%90%e5%b1%8b%e3%80%80%e9%80%9a%e5%b8%b8%e6%8e%88%e6%a5%ad/2022-04-06/
LOCATION:青葉台コミュニティセンター\, 青葉台１丁目12--2\, 菊川市\, 静岡県\, 439-0012\, 日本
GEO:34.757891;138.095469
X-APPLE-STRUCTURED-LOCATION;VALUE=URI;X-ADDRESS=青葉台コミュニティセンター 青葉台１丁目12--2 菊川市 静岡県 439-0012 日本;X-APPLE-RADIUS=500;X-TITLE=青葉台１丁目12--2:geo:138.095469,34.757891
END:VEVENT
BEGIN:VEVENT
DTSTART;TZID=Asia/Tokyo:20220409T100000
DTEND;TZID=Asia/Tokyo:20220409T110000
DTSTAMP:20260424T174046
CREATED:20220324T105657Z
LAST-MODIFIED:20220324T110140Z
UID:17091-1649498400-1649502000@yuzuro.org
SUMMARY:六郷地区成人講座　防犯講座
DESCRIPTION:
URL:https://yuzuro.org/event/%e5%85%ad%e9%83%b7%e5%9c%b0%e5%8c%ba%e6%88%90%e4%ba%ba%e8%ac%9b%e5%ba%a7%e3%80%80%e9%98%b2%e7%8a%af%e8%ac%9b%e5%ba%a7/
LOCATION:青葉台コミュニティセンター\, 青葉台１丁目12--2\, 菊川市\, 静岡県\, 439-0012\, 日本
GEO:34.757891;138.095469
X-APPLE-STRUCTURED-LOCATION;VALUE=URI;X-ADDRESS=青葉台コミュニティセンター 青葉台１丁目12--2 菊川市 静岡県 439-0012 日本;X-APPLE-RADIUS=500;X-TITLE=青葉台１丁目12--2:geo:138.095469,34.757891
END:VEVENT
BEGIN:VEVENT
DTSTART;TZID=Asia/Tokyo:20220413T190000
DTEND;TZID=Asia/Tokyo:20220413T203000
DTSTAMP:20260424T174046
CREATED:20220314T052735Z
LAST-MODIFIED:20220314T052839Z
UID:16782-1649876400-1649881800@yuzuro.org
SUMMARY:パソコン寺子屋　通常授業
DESCRIPTION:パソコン寺子屋　通常授業を開催します。
URL:https://yuzuro.org/event/%e3%83%91%e3%82%bd%e3%82%b3%e3%83%b3%e5%af%ba%e5%ad%90%e5%b1%8b%e3%80%80%e9%80%9a%e5%b8%b8%e6%8e%88%e6%a5%ad-2/2022-04-13/
LOCATION:青葉台コミュニティセンター\, 青葉台１丁目12--2\, 菊川市\, 静岡県\, 439-0012\, 日本
GEO:34.757891;138.095469
X-APPLE-STRUCTURED-LOCATION;VALUE=URI;X-ADDRESS=青葉台コミュニティセンター 青葉台１丁目12--2 菊川市 静岡県 439-0012 日本;X-APPLE-RADIUS=500;X-TITLE=青葉台１丁目12--2:geo:138.095469,34.757891
END:VEVENT
BEGIN:VEVENT
DTSTART;TZID=Asia/Tokyo:20220415T190000
DTEND;TZID=Asia/Tokyo:20220415T210000
DTSTAMP:20260424T174046
CREATED:20220309T115540Z
LAST-MODIFIED:20220309T115544Z
UID:16742-1650049200-1650056400@yuzuro.org
SUMMARY:六郷地区連合自治会定例会
DESCRIPTION:ろ
URL:https://yuzuro.org/event/%e5%85%ad%e9%83%b7%e5%9c%b0%e5%8c%ba%e9%80%a3%e5%90%88%e8%87%aa%e6%b2%bb%e4%bc%9a%e5%ae%9a%e4%be%8b%e4%bc%9a-9/
LOCATION:六郷地区センター\, 本所2406番地\, 菊川市\, 静岡県\, 439\, 日本
GEO:34.7469247;138.0977208
X-APPLE-STRUCTURED-LOCATION;VALUE=URI;X-ADDRESS=六郷地区センター 本所2406番地 菊川市 静岡県 439 日本;X-APPLE-RADIUS=500;X-TITLE=本所2406番地:geo:138.0977208,34.7469247
END:VEVENT
BEGIN:VEVENT
DTSTART;TZID=Asia/Tokyo:20220416T083000
DTEND;TZID=Asia/Tokyo:20220416T093000
DTSTAMP:20260424T174046
CREATED:20220320T163950Z
LAST-MODIFIED:20220320T163950Z
UID:17078-1650097800-1650101400@yuzuro.org
SUMMARY:ふれあい朝市青空サロンin青葉台
DESCRIPTION:
URL:https://yuzuro.org/event/%e3%81%b5%e3%82%8c%e3%81%82%e3%81%84%e6%9c%9d%e5%b8%82%e9%9d%92%e7%a9%ba%e3%82%b5%e3%83%ad%e3%83%b3in%e9%9d%92%e8%91%89%e5%8f%b0-37/
LOCATION:青葉台コミュニティセンター　三角公園\, 青葉台1丁目12-2\, 菊川市\, 439-0012\, 日本
GEO:34.7578718;138.0954247
X-APPLE-STRUCTURED-LOCATION;VALUE=URI;X-ADDRESS=青葉台コミュニティセンター　三角公園 青葉台1丁目12-2 菊川市 439-0012 日本;X-APPLE-RADIUS=500;X-TITLE=青葉台1丁目12-2:geo:138.0954247,34.7578718
END:VEVENT
BEGIN:VEVENT
DTSTART;TZID=Asia/Tokyo:20220420T190000
DTEND;TZID=Asia/Tokyo:20220420T203000
DTSTAMP:20260424T174046
CREATED:20220314T053110Z
LAST-MODIFIED:20220314T053110Z
UID:16795-1650481200-1650486600@yuzuro.org
SUMMARY:パソコン寺子屋　通常授業
DESCRIPTION:パソコン寺子屋　通常授業を開催します。
URL:https://yuzuro.org/event/%e3%83%91%e3%82%bd%e3%82%b3%e3%83%b3%e5%af%ba%e5%ad%90%e5%b1%8b%e3%80%80%e9%80%9a%e5%b8%b8%e6%8e%88%e6%a5%ad-7/2022-04-20/
LOCATION:青葉台コミュニティセンター\, 青葉台１丁目12--2\, 菊川市\, 静岡県\, 439-0012\, 日本
GEO:34.757891;138.095469
X-APPLE-STRUCTURED-LOCATION;VALUE=URI;X-ADDRESS=青葉台コミュニティセンター 青葉台１丁目12--2 菊川市 静岡県 439-0012 日本;X-APPLE-RADIUS=500;X-TITLE=青葉台１丁目12--2:geo:138.095469,34.757891
END:VEVENT
BEGIN:VEVENT
DTSTART;TZID=Asia/Tokyo:20220420T190000
DTEND;TZID=Asia/Tokyo:20220420T210000
DTSTAMP:20260424T174046
CREATED:20220309T115802Z
LAST-MODIFIED:20220309T115806Z
UID:16744-1650481200-1650488400@yuzuro.org
SUMMARY:六郷地区自主防災会定例会
DESCRIPTION:
URL:https://yuzuro.org/event/%e5%85%ad%e9%83%b7%e5%9c%b0%e5%8c%ba%e8%87%aa%e4%b8%bb%e9%98%b2%e7%81%bd%e4%bc%9a%e5%ae%9a%e4%be%8b%e4%bc%9a/
LOCATION:六郷地区センター\, 本所2406番地\, 菊川市\, 静岡県\, 439\, 日本
GEO:34.7469247;138.0977208
X-APPLE-STRUCTURED-LOCATION;VALUE=URI;X-ADDRESS=六郷地区センター 本所2406番地 菊川市 静岡県 439 日本;X-APPLE-RADIUS=500;X-TITLE=本所2406番地:geo:138.0977208,34.7469247
END:VEVENT
BEGIN:VEVENT
DTSTART;TZID=Asia/Tokyo:20220427T190000
DTEND;TZID=Asia/Tokyo:20220427T203000
DTSTAMP:20260424T174046
CREATED:20220314T053319Z
LAST-MODIFIED:20220314T053319Z
UID:16809-1651086000-1651091400@yuzuro.org
SUMMARY:パソコン寺子屋　通常授業
DESCRIPTION:パソコン寺子屋　通常授業を開催します。
URL:https://yuzuro.org/event/%e3%83%91%e3%82%bd%e3%82%b3%e3%83%b3%e5%af%ba%e5%ad%90%e5%b1%8b%e3%80%80%e9%80%9a%e5%b8%b8%e6%8e%88%e6%a5%ad-8/2022-04-27/
LOCATION:青葉台コミュニティセンター\, 青葉台１丁目12--2\, 菊川市\, 静岡県\, 439-0012\, 日本
GEO:34.757891;138.095469
X-APPLE-STRUCTURED-LOCATION;VALUE=URI;X-ADDRESS=青葉台コミュニティセンター 青葉台１丁目12--2 菊川市 静岡県 439-0012 日本;X-APPLE-RADIUS=500;X-TITLE=青葉台１丁目12--2:geo:138.095469,34.757891
END:VEVENT
BEGIN:VEVENT
DTSTART;TZID=Asia/Tokyo:20220430T094500
DTEND;TZID=Asia/Tokyo:20220430T120000
DTSTAMP:20260424T174046
CREATED:20220410T115507Z
LAST-MODIFIED:20220410T115629Z
UID:17128-1651311900-1651320000@yuzuro.org
SUMMARY:六郷地区成人講座中央公園でグラウンド・ゴルフ
DESCRIPTION:
URL:https://yuzuro.org/event/%e5%85%ad%e9%83%b7%e5%9c%b0%e5%8c%ba%e6%88%90%e4%ba%ba%e8%ac%9b%e5%ba%a7%e4%b8%ad%e5%a4%ae%e5%85%ac%e5%9c%92%e3%81%a7%e3%82%b0%e3%83%a9%e3%82%a6%e3%83%b3%e3%83%89%e3%83%bb%e3%82%b4%e3%83%ab%e3%83%95/
LOCATION:青葉台コミュニティセンター\, 青葉台１丁目12--2\, 菊川市\, 静岡県\, 439-0012\, 日本
GEO:34.757891;138.095469
X-APPLE-STRUCTURED-LOCATION;VALUE=URI;X-ADDRESS=青葉台コミュニティセンター 青葉台１丁目12--2 菊川市 静岡県 439-0012 日本;X-APPLE-RADIUS=500;X-TITLE=青葉台１丁目12--2:geo:138.095469,34.757891
END:VEVENT
END:VCALENDAR