BEGIN:VCALENDAR
VERSION:2.0
PRODID:-//六郷まちづくり協議会 - ECPv6.0.12//NONSGML v1.0//EN
CALSCALE:GREGORIAN
METHOD:PUBLISH
X-ORIGINAL-URL:https://yuzuro.org
X-WR-CALDESC:六郷まちづくり協議会 のイベント
REFRESH-INTERVAL;VALUE=DURATION:PT1H
X-Robots-Tag:noindex
X-PUBLISHED-TTL:PT1H
BEGIN:VTIMEZONE
TZID:Asia/Tokyo
BEGIN:STANDARD
TZOFFSETFROM:+0900
TZOFFSETTO:+0900
TZNAME:JST
DTSTART:20200101T000000
END:STANDARD
END:VTIMEZONE
BEGIN:VEVENT
DTSTART;TZID=Asia/Tokyo:20200110T193000
DTEND;TZID=Asia/Tokyo:20200110T210000
DTSTAMP:20260426T100546
CREATED:20190606T012459Z
LAST-MODIFIED:20190606T012459Z
UID:12321-1578684600-1578690000@yuzuro.org
SUMMARY:第5回スポーツ委員打合せ
DESCRIPTION:トリムバレー大会について
URL:https://yuzuro.org/event/%e7%ac%ac5%e5%9b%9e%e3%82%b9%e3%83%9d%e3%83%bc%e3%83%84%e5%a7%94%e5%93%a1%e6%89%93%e5%90%88%e3%81%9b-4/
END:VEVENT
END:VCALENDAR