BEGIN:VCALENDAR
VERSION:2.0
PRODID:-//六郷まちづくり協議会 - ECPv6.0.12//NONSGML v1.0//EN
CALSCALE:GREGORIAN
METHOD:PUBLISH
X-WR-CALNAME:六郷まちづくり協議会
X-ORIGINAL-URL:https://yuzuro.org
X-WR-CALDESC:六郷まちづくり協議会 のイベント
REFRESH-INTERVAL;VALUE=DURATION:PT1H
X-Robots-Tag:noindex
X-PUBLISHED-TTL:PT1H
BEGIN:VTIMEZONE
TZID:Asia/Tokyo
BEGIN:STANDARD
TZOFFSETFROM:+0900
TZOFFSETTO:+0900
TZNAME:JST
DTSTART:20200101T000000
END:STANDARD
END:VTIMEZONE
BEGIN:VEVENT
DTSTART;TZID=Asia/Tokyo:20200112T090000
DTEND;TZID=Asia/Tokyo:20200112T110000
DTSTAMP:20260426T100025
CREATED:20190606T014249Z
LAST-MODIFIED:20190606T014249Z
UID:12333-1578819600-1578826800@yuzuro.org
SUMMARY:菊川市民健康駅伝競走大会　結団式、試走会
DESCRIPTION:
URL:https://yuzuro.org/event/%e8%8f%8a%e5%b7%9d%e5%b8%82%e6%b0%91%e5%81%a5%e5%ba%b7%e9%a7%85%e4%bc%9d%e7%ab%b6%e8%b5%b0%e5%a4%a7%e4%bc%9a%e3%80%80%e7%b5%90%e5%9b%a3%e5%bc%8f%e3%80%81%e8%a9%a6%e8%b5%b0%e4%bc%9a/
LOCATION:六郷地区センター\, 菊川市本所\, 菊川市\, 静岡県
GEO:34.7490246;138.0903152
X-APPLE-STRUCTURED-LOCATION;VALUE=URI;X-ADDRESS=六郷地区センター 菊川市本所 菊川市 静岡県;X-APPLE-RADIUS=500;X-TITLE=菊川市本所:geo:138.0903152,34.7490246
END:VEVENT
BEGIN:VEVENT
DTSTART;TZID=Asia/Tokyo:20200112T190000
DTEND;TZID=Asia/Tokyo:20200112T210000
DTSTAMP:20260426T100025
CREATED:20190606T012323Z
LAST-MODIFIED:20190606T012323Z
UID:12319-1578855600-1578862800@yuzuro.org
SUMMARY:六郷地区スポーツ教室（一般）5
DESCRIPTION:一般対象（Dブロック）
URL:https://yuzuro.org/event/%e5%85%ad%e9%83%b7%e5%9c%b0%e5%8c%ba%e3%82%b9%e3%83%9d%e3%83%bc%e3%83%84%e6%95%99%e5%ae%a4%ef%bc%88%e4%b8%80%e8%88%ac%ef%bc%895/
LOCATION:六郷小学校体育館
END:VEVENT
END:VCALENDAR