BEGIN:VCALENDAR
VERSION:2.0
PRODID:-//六郷まちづくり協議会 - ECPv6.0.12//NONSGML v1.0//EN
CALSCALE:GREGORIAN
METHOD:PUBLISH
X-WR-CALNAME:六郷まちづくり協議会
X-ORIGINAL-URL:https://yuzuro.org
X-WR-CALDESC:六郷まちづくり協議会 のイベント
REFRESH-INTERVAL;VALUE=DURATION:PT1H
X-Robots-Tag:noindex
X-PUBLISHED-TTL:PT1H
BEGIN:VTIMEZONE
TZID:Asia/Tokyo
BEGIN:STANDARD
TZOFFSETFROM:+0900
TZOFFSETTO:+0900
TZNAME:JST
DTSTART:20200101T000000
END:STANDARD
END:VTIMEZONE
BEGIN:VEVENT
DTSTART;TZID=Asia/Tokyo:20200114T190000
DTEND;TZID=Asia/Tokyo:20200114T210000
DTSTAMP:20260426T100008
CREATED:20191206T221632Z
LAST-MODIFIED:20191206T221734Z
UID:13799-1579028400-1579035600@yuzuro.org
SUMMARY:まち協ホームページ運用委員会
DESCRIPTION:
URL:https://yuzuro.org/event/%e3%81%be%e3%81%a1%e5%8d%94%e3%83%9b%e3%83%bc%e3%83%a0%e3%83%9a%e3%83%bc%e3%82%b8%e7%b7%a8%e9%9b%86%e5%a7%94%e5%93%a1%e4%bc%9a/
LOCATION:青葉台コミュニティセンター\, 青葉台１丁目12--2\, 菊川市\, 静岡県\, 439-0012\, 日本
GEO:34.757891;138.095469
X-APPLE-STRUCTURED-LOCATION;VALUE=URI;X-ADDRESS=青葉台コミュニティセンター 青葉台１丁目12--2 菊川市 静岡県 439-0012 日本;X-APPLE-RADIUS=500;X-TITLE=青葉台１丁目12--2:geo:138.095469,34.757891
END:VEVENT
END:VCALENDAR