BEGIN:VCALENDAR
VERSION:2.0
PRODID:-//六郷まちづくり協議会 - ECPv6.0.12//NONSGML v1.0//EN
CALSCALE:GREGORIAN
METHOD:PUBLISH
X-ORIGINAL-URL:https://yuzuro.org
X-WR-CALDESC:六郷まちづくり協議会 のイベント
REFRESH-INTERVAL;VALUE=DURATION:PT1H
X-Robots-Tag:noindex
X-PUBLISHED-TTL:PT1H
BEGIN:VTIMEZONE
TZID:Asia/Tokyo
BEGIN:STANDARD
TZOFFSETFROM:+0900
TZOFFSETTO:+0900
TZNAME:JST
DTSTART:20200101T000000
END:STANDARD
END:VTIMEZONE
BEGIN:VEVENT
DTSTART;TZID=Asia/Tokyo:20200126T090000
DTEND;TZID=Asia/Tokyo:20200126T150000
DTSTAMP:20260426T084217
CREATED:20190606T012626Z
LAST-MODIFIED:20190606T012626Z
UID:12323-1580029200-1580050800@yuzuro.org
SUMMARY:ビーチボール交流会
DESCRIPTION:
URL:https://yuzuro.org/event/%e3%83%93%e3%83%bc%e3%83%81%e3%83%9c%e3%83%bc%e3%83%ab%e4%ba%a4%e6%b5%81%e4%bc%9a/
LOCATION:六郷小学校体育館
END:VEVENT
END:VCALENDAR