BEGIN:VCALENDAR
VERSION:2.0
PRODID:-//六郷まちづくり協議会 - ECPv6.0.12//NONSGML v1.0//EN
CALSCALE:GREGORIAN
METHOD:PUBLISH
X-WR-CALNAME:六郷まちづくり協議会
X-ORIGINAL-URL:https://yuzuro.org
X-WR-CALDESC:六郷まちづくり協議会 のイベント
REFRESH-INTERVAL;VALUE=DURATION:PT1H
X-Robots-Tag:noindex
X-PUBLISHED-TTL:PT1H
BEGIN:VTIMEZONE
TZID:Asia/Tokyo
BEGIN:STANDARD
TZOFFSETFROM:+0900
TZOFFSETTO:+0900
TZNAME:JST
DTSTART:20200101T000000
END:STANDARD
END:VTIMEZONE
BEGIN:VEVENT
DTSTART;TZID=Asia/Tokyo:20200210T190000
DTEND;TZID=Asia/Tokyo:20200210T210000
DTSTAMP:20260426T083721
CREATED:20190606T012804Z
LAST-MODIFIED:20190606T012804Z
UID:12325-1581361200-1581368400@yuzuro.org
SUMMARY:トリムバレー審判講習会
DESCRIPTION:
URL:https://yuzuro.org/event/%e3%83%88%e3%83%aa%e3%83%a0%e3%83%90%e3%83%ac%e3%83%bc%e5%af%a9%e5%88%a4%e8%ac%9b%e7%bf%92%e4%bc%9a-2/
END:VEVENT
END:VCALENDAR