BEGIN:VCALENDAR
VERSION:2.0
PRODID:-//六郷まちづくり協議会 - ECPv6.0.12//NONSGML v1.0//EN
CALSCALE:GREGORIAN
METHOD:PUBLISH
X-WR-CALNAME:六郷まちづくり協議会
X-ORIGINAL-URL:https://yuzuro.org
X-WR-CALDESC:六郷まちづくり協議会 のイベント
REFRESH-INTERVAL;VALUE=DURATION:PT1H
X-Robots-Tag:noindex
X-PUBLISHED-TTL:PT1H
BEGIN:VTIMEZONE
TZID:Asia/Tokyo
BEGIN:STANDARD
TZOFFSETFROM:+0900
TZOFFSETTO:+0900
TZNAME:JST
DTSTART:20200101T000000
END:STANDARD
END:VTIMEZONE
BEGIN:VEVENT
DTSTART;VALUE=DATE:20200307
DTEND;VALUE=DATE:20200308
DTSTAMP:20260426T065851
CREATED:20200204T080109Z
LAST-MODIFIED:20200204T080109Z
UID:13967-1583539200-1583625599@yuzuro.org
SUMMARY:青少年健全育成スキー教室
DESCRIPTION:
URL:https://yuzuro.org/event/%e9%9d%92%e5%b0%91%e5%b9%b4%e5%81%a5%e5%85%a8%e8%82%b2%e6%88%90%e3%82%b9%e3%82%ad%e3%83%bc%e6%95%99%e5%ae%a4-2/
END:VEVENT
BEGIN:VEVENT
DTSTART;TZID=Asia/Tokyo:20200307T083000
DTEND;TZID=Asia/Tokyo:20200307T093000
DTSTAMP:20260426T065851
CREATED:20190330T051502Z
LAST-MODIFIED:20190330T051502Z
UID:11928-1583569800-1583573400@yuzuro.org
SUMMARY:ふれあい朝市青空サロンin青葉台
DESCRIPTION:
URL:https://yuzuro.org/event/%e3%81%b5%e3%82%8c%e3%81%82%e3%81%84%e6%9c%9d%e5%b8%82%e9%9d%92%e7%a9%ba%e3%82%b5%e3%83%ad%e3%83%b3in%e9%9d%92%e8%91%89%e5%8f%b0-62/
END:VEVENT
BEGIN:VEVENT
DTSTART;TZID=Asia/Tokyo:20200307T093000
DTEND;TZID=Asia/Tokyo:20200307T120000
DTSTAMP:20260426T065851
CREATED:20200211T140118Z
LAST-MODIFIED:20200228T113609Z
UID:14014-1583573400-1583582400@yuzuro.org
SUMMARY:1%地域づくり活動交付金　活動報告会は中止されました
DESCRIPTION:令和元年度の活動報告会が行われます。　今年は、六郷まちづくり協議会や、パソコン寺子屋も報告しますので、ぜひお出かけください。
URL:https://yuzuro.org/event/1%e5%9c%b0%e5%9f%9f%e3%81%a5%e3%81%8f%e3%82%8a%e6%b4%bb%e5%8b%95%e4%ba%a4%e4%bb%98%e9%87%91%e3%80%80%e6%b4%bb%e5%8b%95%e5%a0%b1%e5%91%8a%e4%bc%9a/
LOCATION:中央公民館　多目的ホール\, 菊川市下平川6225
GEO:34.7018865;138.0901992
X-APPLE-STRUCTURED-LOCATION;VALUE=URI;X-ADDRESS=中央公民館　多目的ホール 菊川市下平川6225;X-APPLE-RADIUS=500;X-TITLE=菊川市下平川6225:geo:138.0901992,34.7018865
END:VEVENT
BEGIN:VEVENT
DTSTART;TZID=Asia/Tokyo:20200307T100000
DTEND;TZID=Asia/Tokyo:20200307T120000
DTSTAMP:20260426T065851
CREATED:20190519T113211Z
LAST-MODIFIED:20190519T113211Z
UID:12179-1583575200-1583582400@yuzuro.org
SUMMARY:六郷地区成人講座　絵本の朗読と琴の演奏で動揺を歌う
DESCRIPTION:
URL:https://yuzuro.org/event/%e5%85%ad%e9%83%b7%e5%9c%b0%e5%8c%ba%e6%88%90%e4%ba%ba%e8%ac%9b%e5%ba%a7%e3%80%80%e7%b5%b5%e6%9c%ac%e3%81%ae%e6%9c%97%e8%aa%ad%e3%81%a8%e7%90%b4%e3%81%ae%e6%bc%94%e5%a5%8f%e3%81%a7%e5%8b%95%e6%8f%ba/
LOCATION:青葉台コミュニティセンター\, 青葉台１丁目12--2\, 菊川市\, 静岡県\, 439-0012\, 日本
GEO:34.757891;138.095469
X-APPLE-STRUCTURED-LOCATION;VALUE=URI;X-ADDRESS=青葉台コミュニティセンター 青葉台１丁目12--2 菊川市 静岡県 439-0012 日本;X-APPLE-RADIUS=500;X-TITLE=青葉台１丁目12--2:geo:138.095469,34.757891
END:VEVENT
BEGIN:VEVENT
DTSTART;TZID=Asia/Tokyo:20200307T100000
DTEND;TZID=Asia/Tokyo:20200307T150000
DTSTAMP:20260426T065851
CREATED:20200212T044728Z
LAST-MODIFIED:20200212T044728Z
UID:14024-1583575200-1583593200@yuzuro.org
SUMMARY:おしゃべりサロン宮下・（よもぎ餅作りと雛人形作り）
DESCRIPTION:
URL:https://yuzuro.org/event/%e3%81%8a%e3%81%97%e3%82%83%e3%81%b9%e3%82%8a%e3%82%b5%e3%83%ad%e3%83%b3%e5%ae%ae%e4%b8%8b%e3%83%bb%ef%bc%88%e3%82%88%e3%82%82%e3%81%8e%e9%a4%85%e4%bd%9c%e3%82%8a%e3%81%a8%e9%9b%9b%e4%ba%ba%e5%bd%a2/
END:VEVENT
END:VCALENDAR