BEGIN:VCALENDAR
VERSION:2.0
PRODID:-//六郷まちづくり協議会 - ECPv6.0.12//NONSGML v1.0//EN
CALSCALE:GREGORIAN
METHOD:PUBLISH
X-WR-CALNAME:六郷まちづくり協議会
X-ORIGINAL-URL:https://yuzuro.org
X-WR-CALDESC:六郷まちづくり協議会 のイベント
REFRESH-INTERVAL;VALUE=DURATION:PT1H
X-Robots-Tag:noindex
X-PUBLISHED-TTL:PT1H
BEGIN:VTIMEZONE
TZID:Asia/Tokyo
BEGIN:STANDARD
TZOFFSETFROM:+0900
TZOFFSETTO:+0900
TZNAME:JST
DTSTART:20200101T000000
END:STANDARD
END:VTIMEZONE
BEGIN:VEVENT
DTSTART;TZID=Asia/Tokyo:20200315T160000
DTEND;TZID=Asia/Tokyo:20200315T180000
DTSTAMP:20260426T065901
CREATED:20200204T080537Z
LAST-MODIFIED:20200204T080545Z
UID:13971-1584288000-1584295200@yuzuro.org
SUMMARY:六郷地区連合自治会定例会
DESCRIPTION:
URL:https://yuzuro.org/event/%e5%85%ad%e9%83%b7%e5%9c%b0%e5%8c%ba%e9%80%a3%e5%90%88%e8%87%aa%e6%b2%bb%e4%bc%9a%e5%ae%9a%e4%be%8b%e4%bc%9a-3/
END:VEVENT
END:VCALENDAR