BEGIN:VCALENDAR
VERSION:2.0
PRODID:-//六郷まちづくり協議会 - ECPv6.0.12//NONSGML v1.0//EN
CALSCALE:GREGORIAN
METHOD:PUBLISH
X-WR-CALNAME:六郷まちづくり協議会
X-ORIGINAL-URL:https://yuzuro.org
X-WR-CALDESC:六郷まちづくり協議会 のイベント
REFRESH-INTERVAL;VALUE=DURATION:PT1H
X-Robots-Tag:noindex
X-PUBLISHED-TTL:PT1H
BEGIN:VTIMEZONE
TZID:Asia/Tokyo
BEGIN:STANDARD
TZOFFSETFROM:+0900
TZOFFSETTO:+0900
TZNAME:JST
DTSTART:20200101T000000
END:STANDARD
END:VTIMEZONE
BEGIN:VEVENT
DTSTART;TZID=Asia/Tokyo:20200416T090000
DTEND;TZID=Asia/Tokyo:20200416T110000
DTSTAMP:20260426T053340
CREATED:20200313T025057Z
LAST-MODIFIED:20200313T025057Z
UID:14229-1587027600-1587034800@yuzuro.org
SUMMARY:新六郷地区センター落成式
DESCRIPTION:
URL:https://yuzuro.org/event/%e6%96%b0%e5%85%ad%e9%83%b7%e5%9c%b0%e5%8c%ba%e3%82%bb%e3%83%b3%e3%82%bf%e3%83%bc%e8%90%bd%e6%88%90%e5%bc%8f/
END:VEVENT
BEGIN:VEVENT
DTSTART;TZID=Asia/Tokyo:20200416T193000
DTEND;TZID=Asia/Tokyo:20200416T210000
DTSTAMP:20260426T053340
CREATED:20200313T024842Z
LAST-MODIFIED:20200313T024842Z
UID:14226-1587065400-1587070800@yuzuro.org
SUMMARY:六郷地区連合自治会定例会
DESCRIPTION:
URL:https://yuzuro.org/event/%e5%85%ad%e9%83%b7%e5%9c%b0%e5%8c%ba%e9%80%a3%e5%90%88%e8%87%aa%e6%b2%bb%e4%bc%9a%e5%ae%9a%e4%be%8b%e4%bc%9a-4/
LOCATION:六郷地区センター\, 菊川市本所\, 菊川市\, 静岡県
GEO:34.7490246;138.0903152
X-APPLE-STRUCTURED-LOCATION;VALUE=URI;X-ADDRESS=六郷地区センター 菊川市本所 菊川市 静岡県;X-APPLE-RADIUS=500;X-TITLE=菊川市本所:geo:138.0903152,34.7490246
END:VEVENT
END:VCALENDAR