BEGIN:VCALENDAR
VERSION:2.0
PRODID:-//六郷まちづくり協議会 - ECPv6.0.12//NONSGML v1.0//EN
CALSCALE:GREGORIAN
METHOD:PUBLISH
X-ORIGINAL-URL:https://yuzuro.org
X-WR-CALDESC:六郷まちづくり協議会 のイベント
REFRESH-INTERVAL;VALUE=DURATION:PT1H
X-Robots-Tag:noindex
X-PUBLISHED-TTL:PT1H
BEGIN:VTIMEZONE
TZID:Asia/Tokyo
BEGIN:STANDARD
TZOFFSETFROM:+0900
TZOFFSETTO:+0900
TZNAME:JST
DTSTART:20200101T000000
END:STANDARD
END:VTIMEZONE
BEGIN:VEVENT
DTSTART;TZID=Asia/Tokyo:20200418T083000
DTEND;TZID=Asia/Tokyo:20200418T093000
DTSTAMP:20260426T053754
CREATED:20200311T025049Z
LAST-MODIFIED:20200413T142648Z
UID:14152-1587198600-1587202200@yuzuro.org
SUMMARY:ふれあい朝市青空サロンin青葉台(中止）
DESCRIPTION:新型コロナウィルス感染症感染拡大防止のため中止します。
URL:https://yuzuro.org/event/%e3%81%b5%e3%82%8c%e3%81%82%e3%81%84%e6%9c%9d%e5%b8%82%e9%9d%92%e7%a9%ba%e3%82%b5%e3%83%ad%e3%83%b3in%e9%9d%92%e8%91%89%e5%8f%b0-2/
END:VEVENT
END:VCALENDAR