BEGIN:VCALENDAR
VERSION:2.0
PRODID:-//六郷まちづくり協議会 - ECPv6.0.12//NONSGML v1.0//EN
CALSCALE:GREGORIAN
METHOD:PUBLISH
X-ORIGINAL-URL:https://yuzuro.org
X-WR-CALDESC:六郷まちづくり協議会 のイベント
REFRESH-INTERVAL;VALUE=DURATION:PT1H
X-Robots-Tag:noindex
X-PUBLISHED-TTL:PT1H
BEGIN:VTIMEZONE
TZID:Asia/Tokyo
BEGIN:STANDARD
TZOFFSETFROM:+0900
TZOFFSETTO:+0900
TZNAME:JST
DTSTART:20200101T000000
END:STANDARD
END:VTIMEZONE
BEGIN:VEVENT
DTSTART;TZID=Asia/Tokyo:20200712T090000
DTEND;TZID=Asia/Tokyo:20200712T113000
DTSTAMP:20260426T005337
CREATED:20200708T023632Z
LAST-MODIFIED:20201210T011459Z
UID:14645-1594544400-1594553400@yuzuro.org
SUMMARY:六郷地区スポーツ教室　中止
DESCRIPTION:小学生限定
URL:https://yuzuro.org/event/%e5%85%ad%e9%83%b7%e5%9c%b0%e5%8c%ba%e3%82%b9%e3%83%9d%e3%83%bc%e3%83%84%e6%95%99%e5%ae%a4-2/
LOCATION:六郷小学校体育館
END:VEVENT
END:VCALENDAR