BEGIN:VCALENDAR
VERSION:2.0
PRODID:-//六郷まちづくり協議会 - ECPv6.0.12//NONSGML v1.0//EN
CALSCALE:GREGORIAN
METHOD:PUBLISH
X-WR-CALNAME:六郷まちづくり協議会
X-ORIGINAL-URL:https://yuzuro.org
X-WR-CALDESC:六郷まちづくり協議会 のイベント
REFRESH-INTERVAL;VALUE=DURATION:PT1H
X-Robots-Tag:noindex
X-PUBLISHED-TTL:PT1H
BEGIN:VTIMEZONE
TZID:Asia/Tokyo
BEGIN:STANDARD
TZOFFSETFROM:+0900
TZOFFSETTO:+0900
TZNAME:JST
DTSTART:20210101T000000
END:STANDARD
END:VTIMEZONE
BEGIN:VEVENT
DTSTART;TZID=Asia/Tokyo:20210311T190000
DTEND;TZID=Asia/Tokyo:20210311T210000
DTSTAMP:20260425T130643
CREATED:20210209T233248Z
LAST-MODIFIED:20210209T233248Z
UID:15291-1615489200-1615496400@yuzuro.org
SUMMARY:菊川市青少年健全育成市民会議六郷支部常任委員会
DESCRIPTION:
URL:https://yuzuro.org/event/%e8%8f%8a%e5%b7%9d%e5%b8%82%e9%9d%92%e5%b0%91%e5%b9%b4%e5%81%a5%e5%85%a8%e8%82%b2%e6%88%90%e5%b8%82%e6%b0%91%e4%bc%9a%e8%ad%b0%e5%85%ad%e9%83%b7%e6%94%af%e9%83%a8%e5%b8%b8%e4%bb%bb%e5%a7%94%e5%93%a1-2/
LOCATION:六郷地区センター\, 菊川市本所\, 菊川市\, 静岡県
GEO:34.7490246;138.0903152
X-APPLE-STRUCTURED-LOCATION;VALUE=URI;X-ADDRESS=六郷地区センター 菊川市本所 菊川市 静岡県;X-APPLE-RADIUS=500;X-TITLE=菊川市本所:geo:138.0903152,34.7490246
END:VEVENT
END:VCALENDAR