BEGIN:VCALENDAR
VERSION:2.0
PRODID:-//六郷まちづくり協議会 - ECPv6.0.12//NONSGML v1.0//EN
CALSCALE:GREGORIAN
METHOD:PUBLISH
X-WR-CALNAME:六郷まちづくり協議会
X-ORIGINAL-URL:https://yuzuro.org
X-WR-CALDESC:六郷まちづくり協議会 のイベント
REFRESH-INTERVAL;VALUE=DURATION:PT1H
X-Robots-Tag:noindex
X-PUBLISHED-TTL:PT1H
BEGIN:VTIMEZONE
TZID:Asia/Tokyo
BEGIN:STANDARD
TZOFFSETFROM:+0900
TZOFFSETTO:+0900
TZNAME:JST
DTSTART:20210101T000000
END:STANDARD
END:VTIMEZONE
BEGIN:VEVENT
DTSTART;TZID=Asia/Tokyo:20210320T083000
DTEND;TZID=Asia/Tokyo:20210320T093000
DTSTAMP:20260425T130615
CREATED:20200311T042807Z
LAST-MODIFIED:20210318T092117Z
UID:14208-1616229000-1616232600@yuzuro.org
SUMMARY:ふれあい朝市青空サロンin青葉台
DESCRIPTION:
URL:https://yuzuro.org/event/%e3%81%82%e3%81%8a%e3%81%b0%e3%81%a0%e3%81%84%e3%81%b5%e3%82%8c%e3%81%82%e3%81%84%e6%9c%9d%e5%b8%82%e9%9d%92%e7%a9%ba%e3%82%b5%e3%83%ad%e3%83%b3in%e9%9d%92%e8%91%89%e5%8f%b0-2/
END:VEVENT
BEGIN:VEVENT
DTSTART;TZID=Asia/Tokyo:20210320T193000
DTEND;TZID=Asia/Tokyo:20210320T210000
DTSTAMP:20260425T130615
CREATED:20201209T235602Z
LAST-MODIFIED:20201209T235602Z
UID:15103-1616268600-1616274000@yuzuro.org
SUMMARY:六郷地区防災会定例会
DESCRIPTION:
URL:https://yuzuro.org/event/%e5%85%ad%e9%83%b7%e5%9c%b0%e5%8c%ba%e9%98%b2%e7%81%bd%e4%bc%9a%e5%ae%9a%e4%be%8b%e4%bc%9a-7/
LOCATION:六郷地区センター\, 菊川市本所\, 菊川市\, 静岡県
GEO:34.7490246;138.0903152
X-APPLE-STRUCTURED-LOCATION;VALUE=URI;X-ADDRESS=六郷地区センター 菊川市本所 菊川市 静岡県;X-APPLE-RADIUS=500;X-TITLE=菊川市本所:geo:138.0903152,34.7490246
END:VEVENT
END:VCALENDAR