BEGIN:VCALENDAR
VERSION:2.0
PRODID:-//六郷まちづくり協議会 - ECPv6.0.12//NONSGML v1.0//EN
CALSCALE:GREGORIAN
METHOD:PUBLISH
X-WR-CALNAME:六郷まちづくり協議会
X-ORIGINAL-URL:https://yuzuro.org
X-WR-CALDESC:六郷まちづくり協議会 のイベント
REFRESH-INTERVAL;VALUE=DURATION:PT1H
X-Robots-Tag:noindex
X-PUBLISHED-TTL:PT1H
BEGIN:VTIMEZONE
TZID:Asia/Tokyo
BEGIN:STANDARD
TZOFFSETFROM:+0900
TZOFFSETTO:+0900
TZNAME:JST
DTSTART:20210101T000000
END:STANDARD
END:VTIMEZONE
BEGIN:VEVENT
DTSTART;TZID=Asia/Tokyo:20210808T090000
DTEND;TZID=Asia/Tokyo:20210808T110000
DTSTAMP:20260425T063826
CREATED:20210714T114349Z
LAST-MODIFIED:20210714T114353Z
UID:15699-1628413200-1628420400@yuzuro.org
SUMMARY:水鉄砲作り
DESCRIPTION:竹で作る昔ながらの水鉄砲を、親子で協力し合いながら作ります。
URL:https://yuzuro.org/event/%e6%b0%b4%e9%89%84%e7%a0%b2%e4%bd%9c%e3%82%8a-2/
LOCATION:菊川文化会館アエル\, 静岡県菊川市本所2488-2
GEO:34.7436696;138.0930375
X-APPLE-STRUCTURED-LOCATION;VALUE=URI;X-ADDRESS=菊川文化会館アエル 静岡県菊川市本所2488-2;X-APPLE-RADIUS=500;X-TITLE=静岡県菊川市本所2488-2:geo:138.0930375,34.7436696
END:VEVENT
END:VCALENDAR