BEGIN:VCALENDAR
VERSION:2.0
PRODID:-//六郷まちづくり協議会 - ECPv6.0.12//NONSGML v1.0//EN
CALSCALE:GREGORIAN
METHOD:PUBLISH
X-ORIGINAL-URL:https://yuzuro.org
X-WR-CALDESC:六郷まちづくり協議会 のイベント
REFRESH-INTERVAL;VALUE=DURATION:PT1H
X-Robots-Tag:noindex
X-PUBLISHED-TTL:PT1H
BEGIN:VTIMEZONE
TZID:Asia/Tokyo
BEGIN:STANDARD
TZOFFSETFROM:+0900
TZOFFSETTO:+0900
TZNAME:JST
DTSTART:20210101T000000
END:STANDARD
END:VTIMEZONE
BEGIN:VEVENT
DTSTART;TZID=Asia/Tokyo:20210822T080000
DTEND;TZID=Asia/Tokyo:20210822T213000
DTSTAMP:20260425T064659
CREATED:20210717T012523Z
LAST-MODIFIED:20210801T061048Z
UID:15781-1629619200-1629667800@yuzuro.org
SUMMARY:牛渕ふれあい市民農園 「第2回　草刈り」
DESCRIPTION:
URL:https://yuzuro.org/event/%e7%89%9b%e6%b8%95%e3%81%b5%e3%82%8c%e3%81%82%e3%81%84%e5%b8%82%e6%b0%91%e8%be%b2%e5%9c%92-%e4%ba%88%e5%ae%9a%ef%bc%88%e6%9c%aa%e6%b1%ba%e5%ae%9a%ef%bc%89%e3%80%8c%e7%ac%ac2%e5%9b%9e%e3%80%80%e8%8d%89/
LOCATION:牛渕ふれあい市民農園
END:VEVENT
BEGIN:VEVENT
DTSTART;TZID=Asia/Tokyo:20210822T090000
DTEND;TZID=Asia/Tokyo:20210822T120000
DTSTAMP:20260425T064659
CREATED:20210714T115541Z
LAST-MODIFIED:20210714T115544Z
UID:15701-1629622800-1629633600@yuzuro.org
SUMMARY:水鉄砲大会
DESCRIPTION:１チーム　７人のグループで相手のヘルメットの上の的をめがけて水を掛け、破けたら広報へ移動 \nドッチボールのルールと同じです。 \n参加者募集中　　チーム名、参加者の氏名（７人）責任者名、連絡先、参加料 \n連絡先　六郷地区センター　３５－３４５９ \n詳細は自治会回覧をご覧ください。 \n 
URL:https://yuzuro.org/event/%e6%b0%b4%e9%89%84%e7%a0%b2%e5%a4%a7%e4%bc%9a-3/
END:VEVENT
END:VCALENDAR