BEGIN:VCALENDAR
VERSION:2.0
PRODID:-//六郷まちづくり協議会 - ECPv6.0.12//NONSGML v1.0//EN
CALSCALE:GREGORIAN
METHOD:PUBLISH
X-WR-CALNAME:六郷まちづくり協議会
X-ORIGINAL-URL:https://yuzuro.org
X-WR-CALDESC:六郷まちづくり協議会 のイベント
REFRESH-INTERVAL;VALUE=DURATION:PT1H
X-Robots-Tag:noindex
X-PUBLISHED-TTL:PT1H
BEGIN:VTIMEZONE
TZID:Asia/Tokyo
BEGIN:STANDARD
TZOFFSETFROM:+0900
TZOFFSETTO:+0900
TZNAME:JST
DTSTART:20210101T000000
END:STANDARD
END:VTIMEZONE
BEGIN:VEVENT
DTSTART;TZID=Asia/Tokyo:20211113T083000
DTEND;TZID=Asia/Tokyo:20211113T120000
DTSTAMP:20260425T021304
CREATED:20211012T113243Z
LAST-MODIFIED:20211012T113803Z
UID:16042-1636792200-1636804800@yuzuro.org
SUMMARY:六郷ふれあいフェスタ準備（午前中）
DESCRIPTION:
URL:https://yuzuro.org/event/%e5%85%ad%e9%83%b7%e3%81%b5%e3%82%8c%e6%84%9b%e3%83%95%e3%82%a7%e3%82%b9%e3%82%bf%e6%ba%96%e5%82%99%ef%bc%88%e5%8d%88%e5%89%8d%e4%b8%ad%ef%bc%89/
LOCATION:六郷地区センター\, 菊川市本所\, 菊川市\, 静岡県
GEO:34.7490246;138.0903152
X-APPLE-STRUCTURED-LOCATION;VALUE=URI;X-ADDRESS=六郷地区センター 菊川市本所 菊川市 静岡県;X-APPLE-RADIUS=500;X-TITLE=菊川市本所:geo:138.0903152,34.7490246
END:VEVENT
BEGIN:VEVENT
DTSTART;TZID=Asia/Tokyo:20211113T130000
DTEND;TZID=Asia/Tokyo:20211113T160000
DTSTAMP:20260425T021304
CREATED:20191107T050215Z
LAST-MODIFIED:20211102T004846Z
UID:12819-1636808400-1636819200@yuzuro.org
SUMMARY:みどり･花いっぱい運動(冬その1)(極楽寺通り花壇)
DESCRIPTION:来年春の花の植え込みの準備(伐根施肥均し)をします。\n手伝って頂ける方は、当日直接現地に集まって下さい。\n次週、花の植え込みを行います。 \n※ 今までは午前中に作業していましたが、ふれあいフェスタ準備の都合で今回に限り午後の作業に　なります。
URL:https://yuzuro.org/event/%e3%81%bf%e3%81%a9%e3%82%8a%ef%bd%a5%e8%8a%b1%e3%81%84%e3%81%a3%e3%81%b1%e3%81%84%e9%81%8b%e5%8b%95%e5%86%ac%e3%81%9d%e3%81%ae2%e6%a5%b5%e6%a5%bd%e5%af%ba%e9%80%9a%e3%82%8a%e8%8a%b1%e5%a3%87-2/
LOCATION:極楽寺通り花壇\, 六郷小学校北、内海商店交差点を牛渕(東)方向に300m\, 日本
GEO:36.204824;138.252924
X-APPLE-STRUCTURED-LOCATION;VALUE=URI;X-ADDRESS=極楽寺通り花壇 六郷小学校北、内海商店交差点を牛渕(東)方向に300m 日本;X-APPLE-RADIUS=500;X-TITLE=六郷小学校北、内海商店交差点を牛渕(東)方向に300m:geo:138.252924,36.204824
END:VEVENT
BEGIN:VEVENT
DTSTART;TZID=Asia/Tokyo:20211113T140000
DTEND;TZID=Asia/Tokyo:20211113T170000
DTSTAMP:20260425T021304
CREATED:20211012T113431Z
LAST-MODIFIED:20211012T114006Z
UID:16047-1636812000-1636822800@yuzuro.org
SUMMARY:六郷ふれあいフェスタ展示公開（14時～17時）
DESCRIPTION:
URL:https://yuzuro.org/event/%e5%85%ad%e9%83%b7%e3%81%b5%e3%82%8c%e3%81%82%e3%81%84%e3%83%95%e3%82%a7%e3%82%b9%e3%82%bf%e5%b1%95%e7%a4%ba%e5%85%ac%e9%96%8b%ef%bc%8814%e6%99%82%ef%bd%9e%ef%bc%89/
LOCATION:六郷地区センター\, 菊川市本所\, 菊川市\, 静岡県
GEO:34.7490246;138.0903152
X-APPLE-STRUCTURED-LOCATION;VALUE=URI;X-ADDRESS=六郷地区センター 菊川市本所 菊川市 静岡県;X-APPLE-RADIUS=500;X-TITLE=菊川市本所:geo:138.0903152,34.7490246
END:VEVENT
END:VCALENDAR