BEGIN:VCALENDAR
VERSION:2.0
PRODID:-//六郷まちづくり協議会 - ECPv6.0.12//NONSGML v1.0//EN
CALSCALE:GREGORIAN
METHOD:PUBLISH
X-ORIGINAL-URL:https://yuzuro.org
X-WR-CALDESC:六郷まちづくり協議会 のイベント
REFRESH-INTERVAL;VALUE=DURATION:PT1H
X-Robots-Tag:noindex
X-PUBLISHED-TTL:PT1H
BEGIN:VTIMEZONE
TZID:Asia/Tokyo
BEGIN:STANDARD
TZOFFSETFROM:+0900
TZOFFSETTO:+0900
TZNAME:JST
DTSTART:20210101T000000
END:STANDARD
END:VTIMEZONE
BEGIN:VEVENT
DTSTART;TZID=Asia/Tokyo:20211128T090000
DTEND;TZID=Asia/Tokyo:20211128T113000
DTSTAMP:20260425T010455
CREATED:20211012T120231Z
LAST-MODIFIED:20211012T120236Z
UID:16057-1638090000-1638099000@yuzuro.org
SUMMARY:子育てフォーラム
DESCRIPTION:
URL:https://yuzuro.org/event/%e5%ad%90%e8%82%b2%e3%81%a6%e3%83%95%e3%82%a9%e3%83%bc%e3%83%a9%e3%83%a0-2/
LOCATION:六郷地区センター\, 本所2406番地\, 菊川市\, 静岡県\, 439\, 日本
GEO:34.7469247;138.0977208
X-APPLE-STRUCTURED-LOCATION;VALUE=URI;X-ADDRESS=六郷地区センター 本所2406番地 菊川市 静岡県 439 日本;X-APPLE-RADIUS=500;X-TITLE=本所2406番地:geo:138.0977208,34.7469247
END:VEVENT
END:VCALENDAR