BEGIN:VCALENDAR
VERSION:2.0
PRODID:-//六郷まちづくり協議会 - ECPv6.0.12//NONSGML v1.0//EN
CALSCALE:GREGORIAN
METHOD:PUBLISH
X-WR-CALNAME:六郷まちづくり協議会
X-ORIGINAL-URL:https://yuzuro.org
X-WR-CALDESC:六郷まちづくり協議会 のイベント
REFRESH-INTERVAL;VALUE=DURATION:PT1H
X-Robots-Tag:noindex
X-PUBLISHED-TTL:PT1H
BEGIN:VTIMEZONE
TZID:Asia/Tokyo
BEGIN:STANDARD
TZOFFSETFROM:+0900
TZOFFSETTO:+0900
TZNAME:JST
DTSTART:20210101T000000
END:STANDARD
END:VTIMEZONE
BEGIN:VEVENT
DTSTART;TZID=Asia/Tokyo:20211218T080000
DTEND;TZID=Asia/Tokyo:20211218T120000
DTSTAMP:20260425T010040
CREATED:20211214T114012Z
LAST-MODIFIED:20211214T114108Z
UID:16578-1639814400-1639828800@yuzuro.org
SUMMARY:牛渕ふれあい市民農園ペチベル刈り取り・懇談会
DESCRIPTION:
URL:https://yuzuro.org/event/%e7%89%9b%e6%b8%95%e3%81%b5%e3%82%8c%e3%81%82%e3%81%84%e5%b8%82%e6%b0%91%e8%be%b2%e5%9c%92%e3%83%9a%e3%83%81%e3%83%99%e3%83%ab%e5%88%88%e3%82%8a%e5%8f%96%e3%82%8a%e3%83%bb%e6%87%87%e8%ab%87%e4%bc%9a/
END:VEVENT
BEGIN:VEVENT
DTSTART;TZID=Asia/Tokyo:20211218T083000
DTEND;TZID=Asia/Tokyo:20211218T093000
DTSTAMP:20260425T010040
CREATED:20211214T172350Z
LAST-MODIFIED:20211214T172350Z
UID:16588-1639816200-1639819800@yuzuro.org
SUMMARY:ふれあい朝市青空サロンin青葉台
DESCRIPTION:
URL:https://yuzuro.org/event/%e3%81%b5%e3%82%8c%e3%81%82%e3%81%84%e6%9c%9d%e5%b8%82%e9%9d%92%e7%a9%ba%e3%82%b5%e3%83%ad%e3%83%b3in%e9%9d%92%e8%91%89%e5%8f%b0-28/
LOCATION:青葉台コミュニティセンター　三角公園\, 青葉台1丁目12-2\, 菊川市\, 439-0012\, 日本
GEO:34.7578718;138.0954247
X-APPLE-STRUCTURED-LOCATION;VALUE=URI;X-ADDRESS=青葉台コミュニティセンター　三角公園 青葉台1丁目12-2 菊川市 439-0012 日本;X-APPLE-RADIUS=500;X-TITLE=青葉台1丁目12-2:geo:138.0954247,34.7578718
END:VEVENT
END:VCALENDAR