BEGIN:VCALENDAR
VERSION:2.0
PRODID:-//六郷まちづくり協議会 - ECPv6.0.12//NONSGML v1.0//EN
CALSCALE:GREGORIAN
METHOD:PUBLISH
X-ORIGINAL-URL:https://yuzuro.org
X-WR-CALDESC:六郷まちづくり協議会 のイベント
REFRESH-INTERVAL;VALUE=DURATION:PT1H
X-Robots-Tag:noindex
X-PUBLISHED-TTL:PT1H
BEGIN:VTIMEZONE
TZID:Asia/Tokyo
BEGIN:STANDARD
TZOFFSETFROM:+0900
TZOFFSETTO:+0900
TZNAME:JST
DTSTART:20220101T000000
END:STANDARD
END:VTIMEZONE
BEGIN:VEVENT
DTSTART;TZID=Asia/Tokyo:20220521T083000
DTEND;TZID=Asia/Tokyo:20220521T170000
DTSTAMP:20260424T172930
CREATED:20220320T165300Z
LAST-MODIFIED:20220320T165300Z
UID:17083-1653121800-1653152400@yuzuro.org
SUMMARY:ふれあい朝市青空サロン
DESCRIPTION:
URL:https://yuzuro.org/event/%e3%81%b5%e3%82%8c%e3%81%82%e3%81%84%e6%9c%9d%e5%b8%82%e9%9d%92%e7%a9%ba%e3%82%b5%e3%83%ad%e3%83%b3/
END:VEVENT
BEGIN:VEVENT
DTSTART;TZID=Asia/Tokyo:20220521T090000
DTEND;TZID=Asia/Tokyo:20220521T113000
DTSTAMP:20260424T172930
CREATED:20190531T010736Z
LAST-MODIFIED:20220513T003812Z
UID:12215-1653123600-1653132600@yuzuro.org
SUMMARY:みどり･花いっぱい運動(夏その1)(極楽寺通り花壇)
DESCRIPTION:夏の花の植え込みの準備(伐根施肥均し)を行います。 \n手伝って頂ける方は、当日直接現地に集まって下さい。 \n(六小北側、内海商店交差点を牛渕方面300m) \n次週、花の植え込みを行います。
URL:https://yuzuro.org/event/%e3%81%bf%e3%81%a9%e3%82%8a%ef%bd%a5%e8%8a%b1%e3%81%84%e3%81%a3%e3%81%b1%e3%81%84%e9%81%8b%e5%8b%95%e5%a4%8f%e3%81%9d%e3%81%ae1%e6%a5%b5%e6%a5%bd%e5%af%ba%e9%80%9a%e3%82%8a%e8%8a%b1%e5%a3%87/
LOCATION:極楽寺通り花壇\, 六郷小学校北、内海商店交差点を牛渕(東)方向に300m\, 日本
GEO:36.204824;138.252924
X-APPLE-STRUCTURED-LOCATION;VALUE=URI;X-ADDRESS=極楽寺通り花壇 六郷小学校北、内海商店交差点を牛渕(東)方向に300m 日本;X-APPLE-RADIUS=500;X-TITLE=六郷小学校北、内海商店交差点を牛渕(東)方向に300m:geo:138.252924,36.204824
END:VEVENT
END:VCALENDAR