BEGIN:VCALENDAR
VERSION:2.0
PRODID:-//六郷まちづくり協議会 - ECPv6.0.12//NONSGML v1.0//EN
CALSCALE:GREGORIAN
METHOD:PUBLISH
X-WR-CALNAME:六郷まちづくり協議会
X-ORIGINAL-URL:https://yuzuro.org
X-WR-CALDESC:六郷まちづくり協議会 のイベント
REFRESH-INTERVAL;VALUE=DURATION:PT1H
X-Robots-Tag:noindex
X-PUBLISHED-TTL:PT1H
BEGIN:VTIMEZONE
TZID:Asia/Tokyo
BEGIN:STANDARD
TZOFFSETFROM:+0900
TZOFFSETTO:+0900
TZNAME:JST
DTSTART:20220101T000000
END:STANDARD
END:VTIMEZONE
BEGIN:VEVENT
DTSTART;TZID=Asia/Tokyo:20220710T073000
DTEND;TZID=Asia/Tokyo:20220710T090000
DTSTAMP:20260424T144655
CREATED:20220704T064037Z
LAST-MODIFIED:20220704T064037Z
UID:17330-1657438200-1657443600@yuzuro.org
SUMMARY:みどり･花いっぱい運動(極楽寺通り花壇)
DESCRIPTION:花壇の草取りを朝7時30分から行います。 \nお手伝い頂ける方は極楽寺通り花壇に集合して下さい。
URL:https://yuzuro.org/event/%e3%81%bf%e3%81%a9%e3%82%8a%ef%bd%a5%e8%8a%b1%e3%81%84%e3%81%a3%e3%81%b1%e3%81%84%e9%81%8b%e5%8b%95%e6%a5%b5%e6%a5%bd%e5%af%ba%e9%80%9a%e3%82%8a%e8%8a%b1%e5%a3%87/
LOCATION:極楽寺通り花壇\, 六郷小学校北、内海商店交差点を牛渕(東)方向に300m\, 日本
GEO:36.204824;138.252924
X-APPLE-STRUCTURED-LOCATION;VALUE=URI;X-ADDRESS=極楽寺通り花壇 六郷小学校北、内海商店交差点を牛渕(東)方向に300m 日本;X-APPLE-RADIUS=500;X-TITLE=六郷小学校北、内海商店交差点を牛渕(東)方向に300m:geo:138.252924,36.204824
END:VEVENT
END:VCALENDAR