BEGIN:VCALENDAR
VERSION:2.0
PRODID:-//六郷まちづくり協議会 - ECPv6.0.12//NONSGML v1.0//EN
CALSCALE:GREGORIAN
METHOD:PUBLISH
X-ORIGINAL-URL:https://yuzuro.org
X-WR-CALDESC:六郷まちづくり協議会 のイベント
REFRESH-INTERVAL;VALUE=DURATION:PT1H
X-Robots-Tag:noindex
X-PUBLISHED-TTL:PT1H
BEGIN:VTIMEZONE
TZID:Asia/Tokyo
BEGIN:STANDARD
TZOFFSETFROM:+0900
TZOFFSETTO:+0900
TZNAME:JST
DTSTART:20230101T000000
END:STANDARD
END:VTIMEZONE
BEGIN:VEVENT
DTSTART;TZID=Asia/Tokyo:20230407T100000
DTEND;TZID=Asia/Tokyo:20230407T120000
DTSTAMP:20260424T030338
CREATED:20230406T135346Z
LAST-MODIFIED:20230406T135346Z
UID:17703-1680861600-1680868800@yuzuro.org
SUMMARY:開級式・出前講座「誤嚥性肺炎とその予防」
DESCRIPTION:
URL:https://yuzuro.org/event/%e9%96%8b%e7%b4%9a%e5%bc%8f%e3%83%bb%e5%87%ba%e5%89%8d%e8%ac%9b%e5%ba%a7%e3%80%8c%e8%aa%a4%e5%9a%a5%e6%80%a7%e8%82%ba%e7%82%8e%e3%81%a8%e3%81%9d%e3%81%ae%e4%ba%88%e9%98%b2%e3%80%8d/
LOCATION:青葉台コミュニティセンター\, 青葉台１丁目12--2\, 菊川市\, 静岡県\, 439-0012\, 日本
GEO:34.757891;138.095469
X-APPLE-STRUCTURED-LOCATION;VALUE=URI;X-ADDRESS=青葉台コミュニティセンター 青葉台１丁目12--2 菊川市 静岡県 439-0012 日本;X-APPLE-RADIUS=500;X-TITLE=青葉台１丁目12--2:geo:138.095469,34.757891
END:VEVENT
END:VCALENDAR