BEGIN:VCALENDAR
VERSION:2.0
PRODID:-//六郷まちづくり協議会 - ECPv6.0.12//NONSGML v1.0//EN
CALSCALE:GREGORIAN
METHOD:PUBLISH
X-ORIGINAL-URL:https://yuzuro.org
X-WR-CALDESC:六郷まちづくり協議会 のイベント
REFRESH-INTERVAL;VALUE=DURATION:PT1H
X-Robots-Tag:noindex
X-PUBLISHED-TTL:PT1H
BEGIN:VTIMEZONE
TZID:Asia/Tokyo
BEGIN:STANDARD
TZOFFSETFROM:+0900
TZOFFSETTO:+0900
TZNAME:JST
DTSTART:20230101T000000
END:STANDARD
END:VTIMEZONE
BEGIN:VEVENT
DTSTART;TZID=Asia/Tokyo:20230514T090000
DTEND;TZID=Asia/Tokyo:20230514T120000
DTSTAMP:20260424T014315
CREATED:20230502T015132Z
LAST-MODIFIED:20230513T062510Z
UID:17769-1684054800-1684065600@yuzuro.org
SUMMARY:みどり･花いっぱい運動(夏)
DESCRIPTION:雨模様なので、今日の作業は中止します。 \n１週間延期して、20日と27日にします。 \n手伝っていただける方、宜しくお願いします。
URL:https://yuzuro.org/event/17769/
LOCATION:極楽寺通り花壇\, 六郷小学校北、内海商店交差点を牛渕(東)方向に300m\, 日本
GEO:36.204824;138.252924
X-APPLE-STRUCTURED-LOCATION;VALUE=URI;X-ADDRESS=極楽寺通り花壇 六郷小学校北、内海商店交差点を牛渕(東)方向に300m 日本;X-APPLE-RADIUS=500;X-TITLE=六郷小学校北、内海商店交差点を牛渕(東)方向に300m:geo:138.252924,36.204824
END:VEVENT
END:VCALENDAR