BEGIN:VCALENDAR
VERSION:2.0
PRODID:-//六郷まちづくり協議会 - ECPv6.0.12//NONSGML v1.0//EN
CALSCALE:GREGORIAN
METHOD:PUBLISH
X-ORIGINAL-URL:https://yuzuro.org
X-WR-CALDESC:六郷まちづくり協議会 のイベント
REFRESH-INTERVAL;VALUE=DURATION:PT1H
X-Robots-Tag:noindex
X-PUBLISHED-TTL:PT1H
BEGIN:VTIMEZONE
TZID:Asia/Tokyo
BEGIN:STANDARD
TZOFFSETFROM:+0900
TZOFFSETTO:+0900
TZNAME:JST
DTSTART:20230101T000000
END:STANDARD
END:VTIMEZONE
BEGIN:VEVENT
DTSTART;TZID=Asia/Tokyo:20230527T090000
DTEND;TZID=Asia/Tokyo:20230527T120000
DTSTAMP:20260424T014340
CREATED:20230502T015554Z
LAST-MODIFIED:20230513T062355Z
UID:17774-1685178000-1685188800@yuzuro.org
SUMMARY:みどり･花いっぱい運動(夏)
DESCRIPTION:夏の花の植え込みを行います。 \n今年の夏の花は、マリーゴールドです。 \n手伝って頂ける方は、当日直接現地に集まって下さい。
URL:https://yuzuro.org/event/%e3%81%bf%e3%81%a9%e3%82%8a%ef%bd%a5%e8%8a%b1%e3%81%84%e3%81%a3%e3%81%b1%e3%81%84%e9%81%8b%e5%8b%95%e5%a4%8f/
LOCATION:極楽寺通り花壇\, 六郷小学校北、内海商店交差点を牛渕(東)方向に300m\, 日本
GEO:36.204824;138.252924
X-APPLE-STRUCTURED-LOCATION;VALUE=URI;X-ADDRESS=極楽寺通り花壇 六郷小学校北、内海商店交差点を牛渕(東)方向に300m 日本;X-APPLE-RADIUS=500;X-TITLE=六郷小学校北、内海商店交差点を牛渕(東)方向に300m:geo:138.252924,36.204824
END:VEVENT
END:VCALENDAR